BEGIN:VCALENDAR
VERSION:2.0
PRODID:icalendar-ruby
CALSCALE:GREGORIAN
BEGIN:VTIMEZONE
TZID:America/Chicago
BEGIN:DAYLIGHT
DTSTART:20260308T030000
TZOFFSETFROM:-0600
TZOFFSETTO:-0500
RRULE:FREQ=YEARLY;BYDAY=2SU;BYMONTH=3
TZNAME:CDT
END:DAYLIGHT
BEGIN:STANDARD
DTSTART:20261101T010000
TZOFFSETFROM:-0500
TZOFFSETTO:-0600
RRULE:FREQ=YEARLY;BYDAY=1SU;BYMONTH=11
TZNAME:CST
END:STANDARD
END:VTIMEZONE
BEGIN:VEVENT
DTSTAMP:20260421T110440Z
UID:ad5b533f-1638-47ce-a7ff-7c439224fd9f
DTSTART;VALUE=DATE:20260420
DTEND;VALUE=DATE:20260425
DESCRIPTION:
LOCATION:
SUMMARY:ATLAS 2nd Grade Testing
END:VEVENT
BEGIN:VEVENT
DTSTAMP:20260421T110440Z
UID:a070083c-1875-4ece-9e39-e625feab7f15
DTSTART;VALUE=DATE:20260423
DTEND;VALUE=DATE:20260424
DESCRIPTION:
LOCATION:
SUMMARY:1st Grade Concert
END:VEVENT
BEGIN:VEVENT
DTSTAMP:20260421T110440Z
UID:dcfe94bf-3148-4c9f-9040-a2cf59ab88ff
DTSTART;VALUE=DATE:20260424
DTEND;VALUE=DATE:20260425
DESCRIPTION:
LOCATION:
SUMMARY:"Fantastic Friday" Afterschool Program will be in session
END:VEVENT
BEGIN:VEVENT
DTSTAMP:20260421T110440Z
UID:3921d5a5-6b82-43f1-a569-8aaa27b9fc76
DTSTART;VALUE=DATE:20260427
DTEND;VALUE=DATE:20260502
DESCRIPTION:
LOCATION:
SUMMARY:ATLAS Kindergarten & 1st Grade Testing
END:VEVENT
BEGIN:VEVENT
DTSTAMP:20260421T110440Z
UID:25a91c44-5edc-4dc3-bf14-432c2f002ced
DTSTART:20260427T173000
DTEND:20260427T183000
DESCRIPTION:
LOCATION:
SUMMARY:PTO Planning Meeting for the 26/27 school year
END:VEVENT
BEGIN:VEVENT
DTSTAMP:20260421T110440Z
UID:553f5e65-f2c4-4899-b8dc-c2363b500244
DTSTART;VALUE=DATE:20260430
DTEND;VALUE=DATE:20260502
DESCRIPTION:
LOCATION:
SUMMARY:Food Day #8
END:VEVENT
BEGIN:VEVENT
DTSTAMP:20260421T110440Z
UID:7f924629-2aa7-4656-ad38-fa9629dff327
DTSTART;VALUE=DATE:20260430
DTEND;VALUE=DATE:20260501
DESCRIPTION:
LOCATION:
SUMMARY:Last Day for Redskin Academy
END:VEVENT
BEGIN:VEVENT
DTSTAMP:20260421T110440Z
UID:1a367e56-211e-4534-856b-9262976e4368
DTSTART;VALUE=DATE:20260504
DTEND;VALUE=DATE:20260516
DESCRIPTION:
LOCATION:
SUMMARY:ATLAS 3rd Grade Testing
END:VEVENT
BEGIN:VEVENT
DTSTAMP:20260421T110440Z
UID:146ab140-83c5-410b-83fd-c9dfc0d0704e
DTSTART;VALUE=DATE:20260504
DTEND;VALUE=DATE:20260509
DESCRIPTION:
LOCATION:
SUMMARY:Teacher/Staff Appreciation Week
END:VEVENT
BEGIN:VEVENT
DTSTAMP:20260421T110440Z
UID:35e02639-53bf-467a-a418-ef797c3e589c
DTSTART:20260507T173000
DTEND:20260507T183000
DESCRIPTION:
LOCATION:
SUMMARY:Pre-School Musical
END:VEVENT
BEGIN:VEVENT
DTSTAMP:20260421T110440Z
UID:c74b6fcc-e444-4f30-9278-0f767448cd34
DTSTART;VALUE=DATE:20260515
DTEND;VALUE=DATE:20260516
DESCRIPTION:
LOCATION:
SUMMARY:Food Day #9
END:VEVENT
BEGIN:VEVENT
DTSTAMP:20260421T110440Z
UID:86e2062a-1c57-4ef2-ab67-d9273e6a3024
DTSTART;VALUE=DATE:20260515
DTEND;VALUE=DATE:20260516
DESCRIPTION:
LOCATION:
SUMMARY:Mega Party Fun Day
END:VEVENT
BEGIN:VEVENT
DTSTAMP:20260421T110440Z
UID:be86c0a8-9d00-467a-b4b7-b8c8c4564473
DTSTART:20260516T080000
DTEND:20260516T150000
DESCRIPTION:<p>Pocahontas Elementary Cafeteria</p>
LOCATION:
SUMMARY:PES Art Show
END:VEVENT
BEGIN:VEVENT
DTSTAMP:20260421T110440Z
UID:48584c54-8a01-4cef-9713-61e6f5bdebec
DTSTART;VALUE=DATE:20260518
DTEND;VALUE=DATE:20260519
DESCRIPTION:<p>5:30- &nbsp\;Evans\, Dunnivant \, Muller\, Sparks</p><p>6:30
 - Bounds\, Brooks\, Hubler\, Futrell</p>
LOCATION:
SUMMARY:Kindergarten Graduation
END:VEVENT
BEGIN:VEVENT
DTSTAMP:20260421T110440Z
UID:5f433939-57e3-463d-9c2e-0ebeb24c4035
DTSTART;VALUE=DATE:20260522
DTEND;VALUE=DATE:20260523
DESCRIPTION:
LOCATION:
SUMMARY:Last Day of School
END:VEVENT
END:VCALENDAR
