BEGIN:VCALENDAR
VERSION:2.0
PRODID:icalendar-ruby
CALSCALE:GREGORIAN
BEGIN:VTIMEZONE
TZID:America/New_York
BEGIN:DAYLIGHT
DTSTART:20260308T030000
TZOFFSETFROM:-0500
TZOFFSETTO:-0400
RRULE:FREQ=YEARLY;BYDAY=2SU;BYMONTH=3
TZNAME:EDT
END:DAYLIGHT
BEGIN:STANDARD
DTSTART:20261101T010000
TZOFFSETFROM:-0400
TZOFFSETTO:-0500
RRULE:FREQ=YEARLY;BYDAY=1SU;BYMONTH=11
TZNAME:EST
END:STANDARD
END:VTIMEZONE
BEGIN:VEVENT
DTSTAMP:20260422T063452Z
UID:c7caa499-95f8-46f4-884c-83de56b675cc
DTSTART:20260422T180000
DTEND:20260422T200000
DESCRIPTION:<p>Girls play first</p>
LOCATION:6815 N 56th St\, Tampa\, FL 33610\, USA
SUMMARY:Football vs. Williams
END:VEVENT
BEGIN:VEVENT
DTSTAMP:20260422T063452Z
UID:f0bf6438-7b39-42e3-9620-dc94758c6efd
DTSTART;VALUE=DATE:20260424
DTEND;VALUE=DATE:20260425
DESCRIPTION:<p>Contact Ms. DeWhite for details</p>
LOCATION:
SUMMARY:Busch Gardens Field Trip (6th Grade)
END:VEVENT
BEGIN:VEVENT
DTSTAMP:20260422T063452Z
UID:8925d4df-8311-4328-a17a-9d33dafb94cf
DTSTART;VALUE=DATE:20260424
DTEND;VALUE=DATE:20260425
DESCRIPTION:<p>Contact Mr. Moore for details</p>
LOCATION:
SUMMARY:Disney World Field Trip (7th Grade)
END:VEVENT
BEGIN:VEVENT
DTSTAMP:20260422T063452Z
UID:cabe0664-47fb-414e-90f4-1e1bdb135445
DTSTART;VALUE=DATE:20260508
DTEND;VALUE=DATE:20260509
DESCRIPTION:<p>Contact Mr. McNair for additional information</p>
LOCATION:
SUMMARY:Busch Gardens Field Trip (8th Grade)
END:VEVENT
BEGIN:VEVENT
DTSTAMP:20260422T063452Z
UID:eaab9486-bc24-487b-b101-8b3dbbb4b6d7
DTSTART:20260508T090000
DTEND:20260508T100000
DESCRIPTION:<p>All mom's and mother figures are welcome to attend.</p>
LOCATION:
SUMMARY:Muffins for Moms
END:VEVENT
BEGIN:VEVENT
DTSTAMP:20260422T063452Z
UID:b51ca288-1e1b-446a-93b9-eb1a989a85fd
DTSTART:20260515T180000
DTEND:20260515T200000
DESCRIPTION:<p>Contact Mr. McNair for more information/</p>
LOCATION:
SUMMARY:8th Grade Dance
END:VEVENT
BEGIN:VEVENT
DTSTAMP:20260422T063452Z
UID:955cf900-76ee-4451-9ea7-271b4e6e8abf
DTSTART:20260520T113000
DTEND:20260520T123000
DESCRIPTION:
LOCATION:Greco Media Center
SUMMARY:G.E.M.S. Crowning Ceremony
END:VEVENT
BEGIN:VEVENT
DTSTAMP:20260422T063452Z
UID:e30b3f37-b226-4608-9db6-85c8896b93f6
DTSTART:20260521T090000
DTEND:20260521T100000
DESCRIPTION:<p>Dad's and Father figures are invited</p>
LOCATION:Greco Media Center
SUMMARY:Donuts for Dad's
END:VEVENT
BEGIN:VEVENT
DTSTAMP:20260422T063452Z
UID:3c8cdd77-03f0-497b-8b29-7342de10ce6e
DTSTART;VALUE=DATE:20260522
DTEND;VALUE=DATE:20260523
DESCRIPTION:
LOCATION:
SUMMARY:Semester Exams 
END:VEVENT
BEGIN:VEVENT
DTSTAMP:20260422T063452Z
UID:02a308b6-f0ee-4f94-bdfa-37080acc8774
DTSTART:20260522T140000
DTEND:20260522T160000
DESCRIPTION:<p>Students who Level up from PM 3 2025 to PM 3 2026</p>
LOCATION:Greco PE Area
SUMMARY:Grow Party (Schoolwide)
END:VEVENT
BEGIN:VEVENT
DTSTAMP:20260422T063452Z
UID:bb9885ee-b509-470a-9057-33b9c10697a8
DTSTART;VALUE=DATE:20260525
DTEND;VALUE=DATE:20260526
DESCRIPTION:
LOCATION:
SUMMARY:Non-Student Day/Memorial Day
END:VEVENT
BEGIN:VEVENT
DTSTAMP:20260422T063452Z
UID:df031413-eb47-4e25-b0bd-c0fb03d22df1
DTSTART;VALUE=DATE:20260526
DTEND;VALUE=DATE:20260529
DESCRIPTION:
LOCATION:
SUMMARY:Semester Exams 
END:VEVENT
BEGIN:VEVENT
DTSTAMP:20260422T063452Z
UID:32b2b0f8-2bce-43cd-a7a8-0ac18de39863
DTSTART:20260529T093000
DTEND:20260529T140000
DESCRIPTION:<p>Dismissal is 2.5 hours early today. </p>
LOCATION:
SUMMARY:Last Day of School/End of 4th Quarter
END:VEVENT
END:VCALENDAR
