BEGIN:VCALENDAR
VERSION:2.0
PRODID:icalendar-ruby
CALSCALE:GREGORIAN
BEGIN:VTIMEZONE
TZID:America/New_York
BEGIN:DAYLIGHT
DTSTART:20260308T030000
TZOFFSETFROM:-0500
TZOFFSETTO:-0400
RRULE:FREQ=YEARLY;BYDAY=2SU;BYMONTH=3
TZNAME:EDT
END:DAYLIGHT
BEGIN:STANDARD
DTSTART:20261101T010000
TZOFFSETFROM:-0400
TZOFFSETTO:-0500
RRULE:FREQ=YEARLY;BYDAY=1SU;BYMONTH=11
TZNAME:EST
END:STANDARD
END:VTIMEZONE
BEGIN:VEVENT
DTSTAMP:20260425T222801Z
UID:2cc12af8-2ff4-476b-8edc-a57ce197202c
DTSTART:20260428T160000
DTEND:20260428T164500
DESCRIPTION:Board of Education: Finance Committee Meeting\nEducation Buildi
 ng: Room 219\nOnce posted\, the agenda can be found under the Meetings tab
  at the top of the Board of Education webpage or via https://bit.ly/2T221x
 K
LOCATION:4801 Bethania Station Rd.\, Winston-Salem\, NC 27105
SUMMARY:Board of Education: Finance Committee Meeting
END:VEVENT
BEGIN:VEVENT
DTSTAMP:20260425T222801Z
UID:1c5c5245-07f7-4198-9779-4eaccb206da0
DTSTART:20260428T164500
DTEND:20260428T173000
DESCRIPTION:Board of Education: Curriculum Committee Meeting\nEducation Bui
 lding: Room 219\nOnce posted\, the agenda can be found under the Meetings 
 tab at the top of the Board of Education webpage or via https://bit.ly/2T2
 21xK
LOCATION:4801 Bethania Station Rd.\, Winston-Salem\, NC 27105
SUMMARY:Board of Education: Curriculum Committee Meeting
END:VEVENT
BEGIN:VEVENT
DTSTAMP:20260425T222801Z
UID:25168390-33e8-44d4-907c-3bba28a8e3ca
DTSTART:20260428T183000
DTEND:20260428T223000
DESCRIPTION:Board of Education: General Meeting - Open Session\nEducation B
 uilding: Auditorium\nOnce posted\, the agenda can be found under the Meeti
 ngs tab at the top of the Board of Education webpage or via  https://bit.l
 y/2T221xK
LOCATION:4801 Bethania Station Rd.\, Winston-Salem\, NC 27105
SUMMARY:Board of Education Meeting - Open Session
END:VEVENT
BEGIN:VEVENT
DTSTAMP:20260425T222801Z
UID:6f4f7c4c-69ab-4dad-aacb-e4c10bb69fbd
DTSTART:20260512T160000
DTEND:20260512T164500
DESCRIPTION:Board of Education: Policy Committee Meeting\nEducation Buildin
 g: Room 219\nOnce posted\, the agenda can be found under the Meetings tab 
 at the top of the Board of Education webpage or via https://bit.ly/2T221xK
LOCATION:4801 Bethania Station Rd.\, Winston-Salem\, NC 27105
SUMMARY:Board of Education: Policy Committee Meeting
END:VEVENT
BEGIN:VEVENT
DTSTAMP:20260425T222801Z
UID:faa664b3-539b-4de8-9585-88964a83a4ed
DTSTART:20260512T164500
DTEND:20260512T173000
DESCRIPTION:Board of Education: Buildings and Ground Committee Meeting\nEdu
 cation Building: Room 219\nOnce posted\, the agenda can be found under the
  Meetings tab at the top of the Board of Education webpage or via https://
 bit.ly/2T221xK
LOCATION:4801 Bethania Station Rd.\, Winston-Salem\, NC 27105
SUMMARY:Board of Education: Buildings and Grounds Committee
END:VEVENT
BEGIN:VEVENT
DTSTAMP:20260425T222801Z
UID:6c46af03-6d3a-4163-bdef-99ebcbfcccc4
DTSTART:20260512T183000
DTEND:20260512T223000
DESCRIPTION:Board of Education: General Meeting - Open Session\nEducation B
 uilding: Auditorium\nOnce posted\, the agenda can be found under the Meeti
 ngs tab at the top of the Board of Education webpage or via  https://bit.l
 y/2T221xK
LOCATION:4801 Bethania Station Rd.\, Winston-Salem\, NC 27105
SUMMARY:Board of Education Meeting - Open Session
END:VEVENT
BEGIN:VEVENT
DTSTAMP:20260425T222801Z
UID:73281569-951d-4601-9838-61cc60b6b267
DTSTART:20260522T080000
DTEND:20260522T170000
DESCRIPTION:Last Day of School: End of 4th Quarter\, 2nd Semester
LOCATION:Winston-Salem/Forsyth County Schools\, NC
SUMMARY:Last Day of School: End of 4th Quarter\, 2nd Semester
END:VEVENT
BEGIN:VEVENT
DTSTAMP:20260425T222801Z
UID:5efafe8d-3d13-487d-ac0d-b720e4895b6c
DTSTART:20260525T080000
DTEND:20260525T170000
DESCRIPTION:Memorial Day Observed: (H)oliday for All Staff)
LOCATION:Winston-Salem/Forsyth County Schools\, NC
SUMMARY:Memorial Day Observed: (H)oliday for All Staff)
END:VEVENT
BEGIN:VEVENT
DTSTAMP:20260425T222801Z
UID:5a4f33a9-3088-4f3b-9d2b-c45d45ba925c
DTSTART:20260526T080000
DTEND:20260526T170000
DESCRIPTION:RS: Reserve for Schools Day
LOCATION:Winston-Salem/Forsyth County Schools\, NC
SUMMARY:RS: Reserve for Schools Day
END:VEVENT
BEGIN:VEVENT
DTSTAMP:20260425T222801Z
UID:7fb87e4c-ed67-43f7-98ee-dd735d2da1a3
DTSTART:20260526T160000
DTEND:20260526T164500
DESCRIPTION:Board of Education: Finance Committee Meeting\nEducation Buildi
 ng: Room 219\nOnce posted\, the agenda can be found under the Meetings tab
  at the top of the Board of Education webpage or via https://bit.ly/2T221x
 K
LOCATION:4801 Bethania Station Rd.\, Winston-Salem\, NC 27105
SUMMARY:Board of Education: Finance Committee Meeting
END:VEVENT
BEGIN:VEVENT
DTSTAMP:20260425T222801Z
UID:d58995bc-3ded-4db6-9fb5-471e330b788a
DTSTART:20260526T164500
DTEND:20260526T173000
DESCRIPTION:Board of Education: Curriculum Committee Meeting\nEducation Bui
 lding: Room 219\nOnce posted\, the agenda can be found under the Meetings 
 tab at the top of the Board of Education webpage or via https://bit.ly/2T2
 21xK
LOCATION:4801 Bethania Station Rd.\, Winston-Salem\, NC 27105
SUMMARY:Board of Education: Curriculum Committee Meeting
END:VEVENT
BEGIN:VEVENT
DTSTAMP:20260425T222801Z
UID:f903ff80-80eb-4f2e-935f-3e7cd36ff1f2
DTSTART:20260526T183000
DTEND:20260526T223000
DESCRIPTION:Board of Education: General Meeting - Open Session\nEducation B
 uilding: Auditorium\nOnce posted\, the agenda can be found under the Meeti
 ngs tab at the top of the Board of Education webpage or via  https://bit.l
 y/2T221xK
LOCATION:4801 Bethania Station Rd.\, Winston-Salem\, NC 27105
SUMMARY:Board of Education Meeting - Open Session
END:VEVENT
BEGIN:VEVENT
DTSTAMP:20260425T222801Z
UID:8db12498-52c3-4b25-bfff-9b598909d131
DTSTART:20260527T080000
DTEND:20260527T170000
DESCRIPTION:RS: Reserve for Schools Day
LOCATION:Winston-Salem/Forsyth County Schools\, NC
SUMMARY:RS: Reserve for Schools Day
END:VEVENT
BEGIN:VEVENT
DTSTAMP:20260425T222801Z
UID:6eed77a5-1537-4e90-9ec8-a25d2080807d
DTSTART:20260528T080000
DTEND:20260528T170000
DESCRIPTION:RS: Reserve for Schools Day
LOCATION:Winston-Salem/Forsyth County Schools\, NC
SUMMARY:RS: Reserve for Schools Day
END:VEVENT
BEGIN:VEVENT
DTSTAMP:20260425T222801Z
UID:db620e91-726b-468d-b26b-e163f35e5073
DTSTART:20260529T080000
DTEND:20260529T170000
DESCRIPTION:RT: Reserve for Teachers Day
LOCATION:Winston-Salem/Forsyth County Schools\, NC
SUMMARY:RT: Reserve for Teachers Day
END:VEVENT
BEGIN:VEVENT
DTSTAMP:20260425T222801Z
UID:3265d90f-7dde-4f24-b2ad-b3e8e39ec332
DTSTART:20260609T160000
DTEND:20260609T164500
DESCRIPTION:Board of Education: Policy Committee Meeting\nEducation Buildin
 g: Room 219\nOnce posted\, the agenda can be found under the Meetings tab 
 at the top of the Board of Education webpage or via https://bit.ly/2T221xK
LOCATION:4801 Bethania Station Rd.\, Winston-Salem\, NC 27105
SUMMARY:Board of Education: Policy Committee Meeting
END:VEVENT
BEGIN:VEVENT
DTSTAMP:20260425T222801Z
UID:c9570592-132e-4015-a051-175048a6c167
DTSTART:20260609T164500
DTEND:20260609T173000
DESCRIPTION:Board of Education: Buildings and Ground Committee Meeting\nEdu
 cation Building: Room 219\nOnce posted\, the agenda can be found under the
  Meetings tab at the top of the Board of Education webpage or via https://
 bit.ly/2T221xK
LOCATION:4801 Bethania Station Rd.\, Winston-Salem\, NC 27105
SUMMARY:Board of Education: Buildings and Grounds Committee
END:VEVENT
BEGIN:VEVENT
DTSTAMP:20260425T222801Z
UID:46fc01d8-2532-4b05-a094-276cd9b42cc2
DTSTART:20260609T183000
DTEND:20260609T223000
DESCRIPTION:Board of Education: General Meeting - Open Session\nEducation B
 uilding: Auditorium\nOnce posted\, the agenda can be found under the Meeti
 ngs tab at the top of the Board of Education webpage or via  https://bit.l
 y/2T221xK
LOCATION:4801 Bethania Station Rd.\, Winston-Salem\, NC 27105
SUMMARY:Board of Education Meeting - Open Session
END:VEVENT
BEGIN:VEVENT
DTSTAMP:20260425T222801Z
UID:23d69f6a-e19d-4ca9-aa76-54f9b53e1c6c
DTSTART:20260623T160000
DTEND:20260623T164500
DESCRIPTION:Board of Education: Finance Committee Meeting\nEducation Buildi
 ng: Room 219\nOnce posted\, the agenda can be found under the Meetings tab
  at the top of the Board of Education webpage or via https://bit.ly/2T221x
 K
LOCATION:4801 Bethania Station Rd.\, Winston-Salem\, NC 27105
SUMMARY:Board of Education: Finance Committee Meeting
END:VEVENT
BEGIN:VEVENT
DTSTAMP:20260425T222801Z
UID:66419f95-3fd3-4375-9314-77a10d428645
DTSTART:20260623T164500
DTEND:20260623T173000
DESCRIPTION:Board of Education: Curriculum Committee Meeting\nEducation Bui
 lding: Room 219\nOnce posted\, the agenda can be found under the Meetings 
 tab at the top of the Board of Education webpage or via https://bit.ly/2T2
 21xK
LOCATION:4801 Bethania Station Rd.\, Winston-Salem\, NC 27105
SUMMARY:Board of Education: Curriculum Committee Meeting
END:VEVENT
BEGIN:VEVENT
DTSTAMP:20260425T222801Z
UID:d1703ca4-161b-455d-bc57-35dc594e34db
DTSTART:20260623T183000
DTEND:20260623T223000
DESCRIPTION:Board of Education: General Meeting - Open Session\nEducation B
 uilding: Auditorium\nOnce posted\, the agenda can be found under the Meeti
 ngs tab at the top of the Board of Education webpage or via  https://bit.l
 y/2T221xK
LOCATION:4801 Bethania Station Rd.\, Winston-Salem\, NC 27105
SUMMARY:Board of Education Meeting - Open Session
END:VEVENT
BEGIN:VEVENT
DTSTAMP:20260425T222801Z
UID:2cb01fa4-055d-4885-851d-b3147cba14c5
DTSTART:20260704T080000
DTEND:20260704T170000
DESCRIPTION:Independence Day Observed (H)oliday for Staff
LOCATION:Winston-Salem/Forsyth County Schools\, NC
SUMMARY:Independence Day Observed (H)oliday
END:VEVENT
BEGIN:VEVENT
DTSTAMP:20260425T222801Z
UID:c3b6bff5-60e4-43a9-b992-239c669aa20d
DTSTART:20260728T183000
DTEND:20260728T223000
DESCRIPTION:Board of Education: General Meeting - Open Session\nEducation B
 uilding: Auditorium\nOnce posted\, the agenda can be found under the Meeti
 ngs tab at the top of the Board of Education webpage or via  https://bit.l
 y/2T221xK
LOCATION:4801 Bethania Station Rd.\, Winston-Salem\, NC 27105
SUMMARY:Board of Education Meeting - Open Session
END:VEVENT
BEGIN:VEVENT
DTSTAMP:20260425T222801Z
UID:38c17613-2190-4b74-b114-0b3e8ad11d59
DTSTART:20260811T160000
DTEND:20260811T164500
DESCRIPTION:Board of Education: Policy Committee Meeting\nEducation Buildin
 g: Room 219\nOnce posted\, the agenda can be found under the Meetings tab 
 at the top of the Board of Education webpage or via https://bit.ly/2T221xK
LOCATION:4801 Bethania Station Rd.\, Winston-Salem\, NC 27105
SUMMARY:Board of Education: Policy Committee Meeting
END:VEVENT
BEGIN:VEVENT
DTSTAMP:20260425T222801Z
UID:d1414493-310a-4bf7-b023-f70959f31b1b
DTSTART:20260811T164500
DTEND:20260811T173000
DESCRIPTION:Board of Education: Buildings and Ground Committee Meeting\nEdu
 cation Building: Room 219\nOnce posted\, the agenda can be found under the
  Meetings tab at the top of the Board of Education webpage or via https://
 bit.ly/2T221xK
LOCATION:4801 Bethania Station Rd.\, Winston-Salem\, NC 27105
SUMMARY:Board of Education: Buildings and Grounds Committee
END:VEVENT
BEGIN:VEVENT
DTSTAMP:20260425T222801Z
UID:5b30e730-041b-44d6-b6b8-caf8aaf0851c
DTSTART:20260811T183000
DTEND:20260811T223000
DESCRIPTION:Board of Education: General Meeting - Open Session\nEducation B
 uilding: Auditorium\nOnce posted\, the agenda can be found under the Meeti
 ngs tab at the top of the Board of Education webpage or via  https://bit.l
 y/2T221xK
LOCATION:4801 Bethania Station Rd.\, Winston-Salem\, NC 27105
SUMMARY:Board of Education Meeting - Open Session
END:VEVENT
BEGIN:VEVENT
DTSTAMP:20260425T222801Z
UID:095a1e22-9433-4281-a56a-6f91a8876ffb
DTSTART:20260825T160000
DTEND:20260825T164500
DESCRIPTION:Board of Education: Finance Committee Meeting\nEducation Buildi
 ng: Room 219\nOnce posted\, the agenda can be found under the Meetings tab
  at the top of the Board of Education webpage or via https://bit.ly/2T221x
 K
LOCATION:4801 Bethania Station Rd.\, Winston-Salem\, NC 27105
SUMMARY:Board of Education: Finance Committee Meeting
END:VEVENT
BEGIN:VEVENT
DTSTAMP:20260425T222801Z
UID:b215f84d-ec6b-4494-a1eb-69ec00fde948
DTSTART:20260825T164500
DTEND:20260825T173000
DESCRIPTION:Board of Education: Curriculum Committee Meeting\nEducation Bui
 lding: Room 219\nOnce posted\, the agenda can be found under the Meetings 
 tab at the top of the Board of Education webpage or via https://bit.ly/2T2
 21xK
LOCATION:4801 Bethania Station Rd.\, Winston-Salem\, NC 27105
SUMMARY:Board of Education: Curriculum Committee Meeting
END:VEVENT
BEGIN:VEVENT
DTSTAMP:20260425T222801Z
UID:b91cd4d8-2997-4551-931a-8b0a02426610
DTSTART:20260825T183000
DTEND:20260825T223000
DESCRIPTION:Board of Education: General Meeting - Open Session\nEducation B
 uilding: Auditorium\nOnce posted\, the agenda can be found under the Meeti
 ngs tab at the top of the Board of Education webpage or via  https://bit.l
 y/2T221xK
LOCATION:4801 Bethania Station Rd.\, Winston-Salem\, NC 27105
SUMMARY:Board of Education Meeting - Open Session
END:VEVENT
BEGIN:VEVENT
DTSTAMP:20260425T222801Z
UID:31bb14fc-699a-43d3-904f-0aae7de544b6
DTSTART:20260908T160000
DTEND:20260908T164500
DESCRIPTION:Board of Education: Policy Committee Meeting\nEducation Buildin
 g: Room 219\nOnce posted\, the agenda can be found under the Meetings tab 
 at the top of the Board of Education webpage or via https://bit.ly/2T221xK
LOCATION:4801 Bethania Station Rd.\, Winston-Salem\, NC 27105
SUMMARY:Board of Education: Policy Committee Meeting
END:VEVENT
BEGIN:VEVENT
DTSTAMP:20260425T222801Z
UID:c583638e-b75c-43ad-abe9-fea7b753e9ac
DTSTART:20260908T164500
DTEND:20260908T173000
DESCRIPTION:Board of Education: Buildings and Ground Committee Meeting\nEdu
 cation Building: Room 219\nOnce posted\, the agenda can be found under the
  Meetings tab at the top of the Board of Education webpage or via https://
 bit.ly/2T221xK
LOCATION:4801 Bethania Station Rd.\, Winston-Salem\, NC 27105
SUMMARY:Board of Education: Buildings and Grounds Committee
END:VEVENT
BEGIN:VEVENT
DTSTAMP:20260425T222801Z
UID:403eabab-0600-4ffb-9716-b1df73e53b23
DTSTART:20260908T183000
DTEND:20260908T223000
DESCRIPTION:Board of Education: General Meeting - Open Session\nEducation B
 uilding: Auditorium\nOnce posted\, the agenda can be found under the Meeti
 ngs tab at the top of the Board of Education webpage or via  https://bit.l
 y/2T221xK
LOCATION:4801 Bethania Station Rd.\, Winston-Salem\, NC 27105
SUMMARY:Board of Education Meeting - Open Session
END:VEVENT
BEGIN:VEVENT
DTSTAMP:20260425T222801Z
UID:6f6c3301-12c4-4ba8-aea2-43542ddded47
DTSTART:20260922T160000
DTEND:20260922T164500
DESCRIPTION:Board of Education: Finance Committee Meeting\nEducation Buildi
 ng: Room 219\nOnce posted\, the agenda can be found under the Meetings tab
  at the top of the Board of Education webpage or via https://bit.ly/2T221x
 K
LOCATION:4801 Bethania Station Rd.\, Winston-Salem\, NC 27105
SUMMARY:Board of Education: Finance Committee Meeting
END:VEVENT
BEGIN:VEVENT
DTSTAMP:20260425T222801Z
UID:50e6a712-1148-404c-a488-921de1f7be12
DTSTART:20260922T164500
DTEND:20260922T173000
DESCRIPTION:Board of Education: Curriculum Committee Meeting\nEducation Bui
 lding: Room 219\nOnce posted\, the agenda can be found under the Meetings 
 tab at the top of the Board of Education webpage or via https://bit.ly/2T2
 21xK
LOCATION:4801 Bethania Station Rd.\, Winston-Salem\, NC 27105
SUMMARY:Board of Education: Curriculum Committee Meeting
END:VEVENT
BEGIN:VEVENT
DTSTAMP:20260425T222801Z
UID:e736db7f-edcf-4154-99ee-d76710526a19
DTSTART:20260922T183000
DTEND:20260922T223000
DESCRIPTION:Board of Education: General Meeting - Open Session\nEducation B
 uilding: Auditorium\nOnce posted\, the agenda can be found under the Meeti
 ngs tab at the top of the Board of Education webpage or via  https://bit.l
 y/2T221xK
LOCATION:4801 Bethania Station Rd.\, Winston-Salem\, NC 27105
SUMMARY:Board of Education Meeting - Open Session
END:VEVENT
BEGIN:VEVENT
DTSTAMP:20260425T222801Z
UID:6ed80fd8-7c39-4b6d-8d0b-bebe6944d1c1
DTSTART:20261013T160000
DTEND:20261013T164500
DESCRIPTION:Board of Education: Policy Committee Meeting\nEducation Buildin
 g: Room 219\nOnce posted\, the agenda can be found under the Meetings tab 
 at the top of the Board of Education webpage or via https://bit.ly/2T221xK
LOCATION:4801 Bethania Station Rd.\, Winston-Salem\, NC 27105
SUMMARY:Board of Education: Policy Committee Meeting
END:VEVENT
BEGIN:VEVENT
DTSTAMP:20260425T222801Z
UID:379ead12-26b5-488d-995e-3a8803ed27d1
DTSTART:20261013T164500
DTEND:20261013T173000
DESCRIPTION:Board of Education: Buildings and Ground Committee Meeting\nEdu
 cation Building: Room 219\nOnce posted\, the agenda can be found under the
  Meetings tab at the top of the Board of Education webpage or via https://
 bit.ly/2T221xK
LOCATION:4801 Bethania Station Rd.\, Winston-Salem\, NC 27105
SUMMARY:Board of Education: Buildings and Grounds Committee
END:VEVENT
BEGIN:VEVENT
DTSTAMP:20260425T222801Z
UID:86a1d884-0580-4bf0-96e5-fdca0598ec96
DTSTART:20261013T183000
DTEND:20261013T223000
DESCRIPTION:Board of Education: General Meeting - Open Session\nEducation B
 uilding: Auditorium\nOnce posted\, the agenda can be found under the Meeti
 ngs tab at the top of the Board of Education webpage or via  https://bit.l
 y/2T221xK
LOCATION:4801 Bethania Station Rd.\, Winston-Salem\, NC 27105
SUMMARY:Board of Education Meeting - Open Session
END:VEVENT
BEGIN:VEVENT
DTSTAMP:20260425T222801Z
UID:e762c720-0c6c-4ff8-83ec-433729dfd827
DTSTART:20261027T160000
DTEND:20261027T164500
DESCRIPTION:Board of Education: Finance Committee Meeting\nEducation Buildi
 ng: Room 219\nOnce posted\, the agenda can be found under the Meetings tab
  at the top of the Board of Education webpage or via https://bit.ly/2T221x
 K
LOCATION:4801 Bethania Station Rd.\, Winston-Salem\, NC 27105
SUMMARY:Board of Education: Finance Committee Meeting
END:VEVENT
BEGIN:VEVENT
DTSTAMP:20260425T222801Z
UID:4228d860-95bf-4770-abbf-633725fdf996
DTSTART:20261027T164500
DTEND:20261027T173000
DESCRIPTION:Board of Education: Curriculum Committee Meeting\nEducation Bui
 lding: Room 219\nOnce posted\, the agenda can be found under the Meetings 
 tab at the top of the Board of Education webpage or via https://bit.ly/2T2
 21xK
LOCATION:4801 Bethania Station Rd.\, Winston-Salem\, NC 27105
SUMMARY:Board of Education: Curriculum Committee Meeting
END:VEVENT
BEGIN:VEVENT
DTSTAMP:20260425T222801Z
UID:a62407da-4d9d-4506-a347-47cb0f66917a
DTSTART:20261027T183000
DTEND:20261027T223000
DESCRIPTION:Board of Education: General Meeting - Open Session\nEducation B
 uilding: Auditorium\nOnce posted\, the agenda can be found under the Meeti
 ngs tab at the top of the Board of Education webpage or via  https://bit.l
 y/2T221xK
LOCATION:4801 Bethania Station Rd.\, Winston-Salem\, NC 27105
SUMMARY:Board of Education Meeting - Open Session
END:VEVENT
BEGIN:VEVENT
DTSTAMP:20260425T222801Z
UID:1672dad3-8750-4890-bc35-5bbaa2acd49c
DTSTART:20261110T160000
DTEND:20261110T164500
DESCRIPTION:Board of Education: Policy Committee Meeting\nEducation Buildin
 g: Room 219\nOnce posted\, the agenda can be found under the Meetings tab 
 at the top of the Board of Education webpage or via https://bit.ly/2T221xK
LOCATION:4801 Bethania Station Rd.\, Winston-Salem\, NC 27105
SUMMARY:Board of Education: Policy Committee Meeting
END:VEVENT
BEGIN:VEVENT
DTSTAMP:20260425T222801Z
UID:5965e00b-e777-4503-b410-13b82c0dad45
DTSTART:20261110T164500
DTEND:20261110T173000
DESCRIPTION:Board of Education: Buildings and Ground Committee Meeting\nEdu
 cation Building: Room 219\nOnce posted\, the agenda can be found under the
  Meetings tab at the top of the Board of Education webpage or via https://
 bit.ly/2T221xK
LOCATION:4801 Bethania Station Rd.\, Winston-Salem\, NC 27105
SUMMARY:Board of Education: Buildings and Grounds Committee
END:VEVENT
BEGIN:VEVENT
DTSTAMP:20260425T222801Z
UID:c0861a19-34d3-45ba-9ecc-cb06327b0cd5
DTSTART:20261110T183000
DTEND:20261110T223000
DESCRIPTION:Board of Education: General Meeting - Open Session\nEducation B
 uilding: Auditorium\nOnce posted\, the agenda can be found under the Meeti
 ngs tab at the top of the Board of Education webpage or via  https://bit.l
 y/2T221xK
LOCATION:4801 Bethania Station Rd.\, Winston-Salem\, NC 27105
SUMMARY:Board of Education Meeting - Open Session
END:VEVENT
BEGIN:VEVENT
DTSTAMP:20260425T222801Z
UID:edc5fb2a-0c80-4ac5-adcd-f4ddd2d5f3bf
DTSTART:20261208T160000
DTEND:20261208T164500
DESCRIPTION:Board of Education: Finance Committee Meeting\nEducation Buildi
 ng: Room 219\nOnce posted\, the agenda can be found under the Meetings tab
  at the top of the Board of Education webpage or via https://bit.ly/2T221x
 K
LOCATION:4801 Bethania Station Rd.\, Winston-Salem\, NC 27105
SUMMARY:Board of Education: Finance Committee Meeting
END:VEVENT
BEGIN:VEVENT
DTSTAMP:20260425T222801Z
UID:1af86828-70b4-4bdb-8638-d97f30fa107a
DTSTART:20261208T164500
DTEND:20261208T173000
DESCRIPTION:Board of Education: Curriculum Committee Meeting\nEducation Bui
 lding: Room 219\nOnce posted\, the agenda can be found under the Meetings 
 tab at the top of the Board of Education webpage or via https://bit.ly/2T2
 21xK
LOCATION:4801 Bethania Station Rd.\, Winston-Salem\, NC 27105
SUMMARY:Board of Education: Curriculum Committee Meeting
END:VEVENT
BEGIN:VEVENT
DTSTAMP:20260425T222801Z
UID:9d1c1bac-2ebd-49b0-95f9-ab2cf459e30a
DTSTART:20261208T183000
DTEND:20261208T223000
DESCRIPTION:Board of Education: General Meeting - Open Session\nEducation B
 uilding: Auditorium\nOnce posted\, the agenda can be found under the Meeti
 ngs tab at the top of the Board of Education webpage or via  https://bit.l
 y/2T221xK
LOCATION:4801 Bethania Station Rd.\, Winston-Salem\, NC 27105
SUMMARY:Board of Education Meeting - Open Session
END:VEVENT
END:VCALENDAR
