BEGIN:VCALENDAR
VERSION:2.0
PRODID:icalendar-ruby
CALSCALE:GREGORIAN
BEGIN:VTIMEZONE
TZID:America/New_York
BEGIN:DAYLIGHT
DTSTART:20260308T030000
TZOFFSETFROM:-0500
TZOFFSETTO:-0400
RRULE:FREQ=YEARLY;BYDAY=2SU;BYMONTH=3
TZNAME:EDT
END:DAYLIGHT
BEGIN:STANDARD
DTSTART:20261101T010000
TZOFFSETFROM:-0400
TZOFFSETTO:-0500
RRULE:FREQ=YEARLY;BYDAY=1SU;BYMONTH=11
TZNAME:EST
END:STANDARD
END:VTIMEZONE
BEGIN:VEVENT
DTSTAMP:20260424T162126Z
UID:d9b56f28-117a-478f-9644-6361fd7d9ad9
DTSTART;VALUE=DATE:20260423
DTEND;VALUE=DATE:20260425
DESCRIPTION:<p>Starts at 6:00pm until 9:00pm</p>
LOCATION:
SUMMARY:Annie Jr - Spring Musical
END:VEVENT
BEGIN:VEVENT
DTSTAMP:20260424T162126Z
UID:4581bdd0-94b5-4917-b042-3334d7b01a7a
DTSTART:20260425T110000
DTEND:20260425T140000
DESCRIPTION:<p>HCPS families are invited to attend the 5th annual Autism Ac
 ceptance FunFest on Saturday\, April 25\, at Lopez Exceptional Student Cen
 ter! </p><p>The event will go from 11 a.m. to 2 p.m. and feature fun\, foo
 d\, games\, and information from community organizations. </p>
LOCATION:315 W Old Hillsborough Ave\, Seffner\, FL 33584\, USA
SUMMARY:5th Annual HCPS Autism Acceptance FunFest
END:VEVENT
BEGIN:VEVENT
DTSTAMP:20260424T162126Z
UID:67394b91-4cdf-4635-8f73-a3b7d59186a7
DTSTART;VALUE=DATE:20260427
DTEND;VALUE=DATE:20260428
DESCRIPTION:
LOCATION:
SUMMARY:Early Release Day (Students released 1 hour early)
END:VEVENT
BEGIN:VEVENT
DTSTAMP:20260424T162126Z
UID:3190a790-ab97-4f54-afae-3cdd1c093952
DTSTART:20260427T083000
DTEND:20260427T120000
DESCRIPTION:<p>Important Information</p><p>Morning (AM) Exams: Arrive by 8:
 30 AM</p><p>Afternoon (PM) Exams: Arrive by 11:30 AM</p><p>Bring required 
 materials and your student ID</p><p>Testing with Accommodations check with
  your teacher for your location</p><p></p><p>Testing Expectations</p><p>Ar
 rive on time — late entry may not be permitted</p><p>Follow all Cambridg
 e AICE testing rules</p><p>Be respectful and prepared</p>
LOCATION:Gym
SUMMARY:AICE English Language Test Day 1
END:VEVENT
BEGIN:VEVENT
DTSTAMP:20260424T162126Z
UID:699e1101-3f11-498c-afe8-6e9f4dc2e20b
DTSTART:20260427T113000
DTEND:20260427T153000
DESCRIPTION:<p>Important Information</p><p>Morning (AM) Exams: Arrive by 8:
 30 AM</p><p>Afternoon (PM) Exams: Arrive by 11:30 AM</p><p>Bring required 
 materials and your student ID</p><p>Testing with Accommodations check with
  your teacher for your location</p><p></p><p>Testing Expectations</p><p>Ar
 rive on time — late entry may not be permitted</p><p>Follow all Cambridg
 e AICE testing rules</p><p>Be respectful and prepared</p>
LOCATION:Gym
SUMMARY:AICE Thinking Skills Test
END:VEVENT
BEGIN:VEVENT
DTSTAMP:20260424T162126Z
UID:386dcae8-35b1-42d1-95b6-68a5597cef61
DTSTART:20260427T170000
DTEND:20260506T235900
DESCRIPTION:
LOCATION:
SUMMARY:School Choice/Magnet Offer Response Window open
END:VEVENT
BEGIN:VEVENT
DTSTAMP:20260424T162126Z
UID:c0e7409c-913a-47ae-bb59-ed93afb0addf
DTSTART:20260428T083000
DTEND:20260428T120000
DESCRIPTION:<p>Important Information</p><p>Morning (AM) Exams: Arrive by 8:
 30 AM</p><p>Afternoon (PM) Exams: Arrive by 11:30 AM</p><p>Bring required 
 materials and your student ID</p><p>Testing with Accommodations check with
  your teacher for your location</p><p></p><p>Testing Expectations</p><p>Ar
 rive on time — late entry may not be permitted</p><p>Follow all Cambridg
 e AICE testing rules</p><p>Be respectful and prepared</p>
LOCATION:Field House
SUMMARY:AICE Psychology Test Day 1
END:VEVENT
BEGIN:VEVENT
DTSTAMP:20260424T162126Z
UID:ffc95288-48db-4805-af47-e336f0eb4374
DTSTART:20260428T113000
DTEND:20260428T153000
DESCRIPTION:<p>Important Information</p><p>Morning (AM) Exams: Arrive by 8:
 30 AM</p><p>Afternoon (PM) Exams: Arrive by 11:30 AM</p><p>Bring required 
 materials and your student ID</p><p>Testing with Accommodations check with
  your teacher for your location</p><p></p><p>Testing Expectations</p><p>Ar
 rive on time — late entry may not be permitted</p><p>Follow all Cambridg
 e AICE testing rules</p><p>Be respectful and prepared</p>
LOCATION:Gym
SUMMARY:AICE Environmental Management Test Day 1
END:VEVENT
BEGIN:VEVENT
DTSTAMP:20260424T162126Z
UID:63ce8a00-245a-4379-9413-a9f34be1171b
DTSTART:20260428T113000
DTEND:20260428T153000
DESCRIPTION:<p>Important Information</p><p>Morning (AM) Exams: Arrive by 8:
 30 AM</p><p>Afternoon (PM) Exams: Arrive by 11:30 AM</p><p>Bring required 
 materials and your student ID</p><p>Testing with Accommodations check with
  your teacher for your location</p><p></p><p>Testing Expectations</p><p>Ar
 rive on time — late entry may not be permitted</p><p>Follow all Cambridg
 e AICE testing rules</p><p>Be respectful and prepared</p>
LOCATION:Field House
SUMMARY:AICE Marine Science Test Day 2
END:VEVENT
BEGIN:VEVENT
DTSTAMP:20260424T162126Z
UID:362246e3-3dc3-4752-834e-66e96e2f938d
DTSTART:20260429T083000
DTEND:20260429T120000
DESCRIPTION:<p>Important Information</p><p>Morning (AM) Exams: Arrive by 8:
 30 AM</p><p>Afternoon (PM) Exams: Arrive by 11:30 AM</p><p>Bring required 
 materials and your student ID</p><p>Testing with Accommodations check with
  your teacher for your location</p><p></p><p>Testing Expectations</p><p>Ar
 rive on time — late entry may not be permitted</p><p>Follow all Cambridg
 e AICE testing rules</p><p>Be respectful and prepared</p>
LOCATION:Gym
SUMMARY:AICE English General Paper Test Day 2
END:VEVENT
BEGIN:VEVENT
DTSTAMP:20260424T162126Z
UID:b941048b-b4a0-4338-95fb-7e2933528a78
DTSTART:20260429T083500
DTEND:20260429T130000
DESCRIPTION:
LOCATION:
SUMMARY:Senior Clap Out
END:VEVENT
BEGIN:VEVENT
DTSTAMP:20260424T162126Z
UID:488e6a62-d9a4-4084-b220-e4d650d2133c
DTSTART:20260429T173000
DTEND:20260429T193000
DESCRIPTION:ATTENTION HIGH SCHOOL FAMILIES! Join us for our first-ever HCPS
  Apprenticeship Night on Wednesday\, April 29!<br/><br/>Learn more about l
 ocal apprenticeship programs and paid\, hands-on career opportunities in f
 ields like ironworking\, electrical work\, and pipefitting. Apprenticeship
 s allow students to earn while they learn and can lead to rewarding career
 s after high school.
LOCATION:11311 Boyette Rd\, Riverview\, FL 33569\, USA
SUMMARY:Apprenticeship Night (High School Families)
END:VEVENT
BEGIN:VEVENT
DTSTAMP:20260424T162126Z
UID:f5c29341-d6db-4744-bcf7-b75ba14b6508
DTSTART:20260430T083000
DTEND:20260430T120000
DESCRIPTION:<p>Important Information</p><p>Morning (AM) Exams: Arrive by 8:
 30 AM</p><p>Afternoon (PM) Exams: Arrive by 11:30 AM</p><p>Bring required 
 materials and your student ID</p><p>Testing with Accommodations check with
  your teacher for your location</p><p></p><p>Testing Expectations</p><p>Ar
 rive on time — late entry may not be permitted</p><p>Follow all Cambridg
 e AICE testing rules</p><p>Be respectful and prepared</p>
LOCATION:Field House
SUMMARY:AICE Psychology Test Day 2
END:VEVENT
BEGIN:VEVENT
DTSTAMP:20260424T162126Z
UID:d0c61271-1a73-4158-b4be-4f4784f1173a
DTSTART:20260430T113000
DTEND:20260430T153000
DESCRIPTION:<p>Important Information</p><p>Morning (AM) Exams: Arrive by 8:
 30 AM</p><p>Afternoon (PM) Exams: Arrive by 11:30 AM</p><p>Bring required 
 materials and your student ID</p><p>Testing with Accommodations check with
  your teacher for your location</p><p></p><p>Testing Expectations</p><p>Ar
 rive on time — late entry may not be permitted</p><p>Follow all Cambridg
 e AICE testing rules</p><p>Be respectful and prepared</p>
LOCATION:Gym
SUMMARY:AICE Travel and Tourism Test
END:VEVENT
BEGIN:VEVENT
DTSTAMP:20260424T162126Z
UID:6954c2bb-864f-4272-988b-966e3bdccdf1
DTSTART;VALUE=DATE:20260501
DTEND;VALUE=DATE:20260502
DESCRIPTION:
LOCATION:
SUMMARY:FAST PM 3
END:VEVENT
BEGIN:VEVENT
DTSTAMP:20260424T162126Z
UID:98e14c9a-ce61-4392-86cb-e643f99d0604
DTSTART:20260501T083000
DTEND:20260501T120000
DESCRIPTION:<p>Important Information</p><p>Morning (AM) Exams: Arrive by 8:
 30 AM</p><p>Afternoon (PM) Exams: Arrive by 11:30 AM</p><p>Bring required 
 materials and your student ID</p><p>Testing with Accommodations check with
  your teacher for your location</p><p></p><p>Testing Expectations</p><p>Ar
 rive on time — late entry may not be permitted</p><p>Follow all Cambridg
 e AICE testing rules</p><p>Be respectful and prepared</p>
LOCATION:404
SUMMARY:AICE Global Perspectives Test
END:VEVENT
BEGIN:VEVENT
DTSTAMP:20260424T162126Z
UID:cb3eb651-ae74-4dd8-ad6f-c6028e429ca5
DTSTART:20260501T090000
DTEND:20260501T090000
DESCRIPTION:<h2 style="text-align: left"><a target="_blank" rel="noopener n
 oreferrer nofollow" href="https://www.hillsboroughschools.org/o/hcps/page/
 summer-drivers-education" relative-link="">Summer Drivers Education inform
 ation&gt\;&gt\;</a></h2>
LOCATION:
SUMMARY:Summer Drivers Education Program Registration opens
END:VEVENT
BEGIN:VEVENT
DTSTAMP:20260424T162126Z
UID:ca2ad223-9e93-45d6-872b-cb7bf375bdea
DTSTART:20260501T113000
DTEND:20260501T153000
DESCRIPTION:<p>Important Information</p><p>Morning (AM) Exams: Arrive by 8:
 30 AM</p><p>Afternoon (PM) Exams: Arrive by 11:30 AM</p><p>Bring required 
 materials and your student ID</p><p>Testing with Accommodations check with
  your teacher for your location</p><p></p><p>Testing Expectations</p><p>Ar
 rive on time — late entry may not be permitted</p><p>Follow all Cambridg
 e AICE testing rules</p><p>Be respectful and prepared</p>
LOCATION:Field House
SUMMARY:AICE Thinking Skills Test
END:VEVENT
BEGIN:VEVENT
DTSTAMP:20260424T162126Z
UID:b9bf233a-cb9e-4b0b-b361-425fdff37c00
DTSTART:20260502T080000
DTEND:20260502T160000
DESCRIPTION:
LOCATION:12000 US-92\, Seffner\, FL 33584\, USA
SUMMARY:SAT Test Day
END:VEVENT
BEGIN:VEVENT
DTSTAMP:20260424T162126Z
UID:c66f4be2-5a63-4870-9952-bab3600ed74b
DTSTART;VALUE=DATE:20260504
DTEND;VALUE=DATE:20260505
DESCRIPTION:
LOCATION:
SUMMARY:Early Release Day (Students released 1 hour early)
END:VEVENT
BEGIN:VEVENT
DTSTAMP:20260424T162126Z
UID:d554219d-b5ed-4b1a-9744-aff46c9f9708
DTSTART:20260504T073000
DTEND:20260504T120000
DESCRIPTION:<p>Important Information</p><p> 8:00 AM Exams: Students must
  arrive by 7:30 AM</p><p> 12:00 PM Exams: Students must arrive by 11:30
  AM</p><p> Testing with accommodations: check with your teacher for loc
 ation</p>
LOCATION:Guidance conference room
SUMMARY:AP Biology Test
END:VEVENT
BEGIN:VEVENT
DTSTAMP:20260424T162126Z
UID:5f2197b0-1d3e-4756-827f-0e0d59eb073b
DTSTART:20260504T083000
DTEND:20260504T120000
DESCRIPTION:<p>Important Information</p><p>Morning (AM) Exams: Arrive by 8:
 30 AM</p><p>Afternoon (PM) Exams: Arrive by 11:30 AM</p><p>Bring required 
 materials and your student ID</p><p>Testing with Accommodations check with
  your teacher for your location</p><p></p><p>Testing Expectations</p><p>Ar
 rive on time — late entry may not be permitted</p><p>Follow all Cambridg
 e AICE testing rules</p><p>Be respectful and prepared</p>
LOCATION:Gym
SUMMARY:AICE English Language Test  Day 2
END:VEVENT
BEGIN:VEVENT
DTSTAMP:20260424T162126Z
UID:1aa3aa05-fa1c-4b7f-b80e-c70fa9026000
DTSTART:20260504T113000
DTEND:20260504T153000
DESCRIPTION:<p>Important Information</p><p>Morning (AM) Exams: Arrive by 8:
 30 AM</p><p>Afternoon (PM) Exams: Arrive by 11:30 AM</p><p>Bring required 
 materials and your student ID</p><p>Testing with Accommodations check with
  your teacher for your location</p><p></p><p>Testing Expectations</p><p>Ar
 rive on time — late entry may not be permitted</p><p>Follow all Cambridg
 e AICE testing rules</p><p>Be respectful and prepared</p>
LOCATION:Gym
SUMMARY:AICE Environmental Management Test Day 2
END:VEVENT
BEGIN:VEVENT
DTSTAMP:20260424T162126Z
UID:9dbd530d-29de-442d-90f3-10924345be40
DTSTART:20260504T113000
DTEND:20260504T153000
DESCRIPTION:<p>Important Information</p><p> 8:00 AM Exams: Students must
  arrive by 7:30 AM</p><p> 12:00 PM Exams: Students must arrive by 11:30
  AM</p><p> Testing with accommodations: check with your teacher for loc
 ation</p>
LOCATION:Guidance Conference Room
SUMMARY:AP Microeconomics Test
END:VEVENT
BEGIN:VEVENT
DTSTAMP:20260424T162126Z
UID:bc7a2729-0621-4a2f-b7d1-d657823fac38
DTSTART:20260505T073000
DTEND:20260505T120000
DESCRIPTION:<p>Important Information</p><p> 8:00 AM Exams: Students must
  arrive by 7:30 AM</p><p> 12:00 PM Exams: Students must arrive by 11:30
  AM</p><p> Testing with accommodations: check with your teacher for loc
 ation</p>
LOCATION:Gym
SUMMARY:AP Chemistry Test
END:VEVENT
BEGIN:VEVENT
DTSTAMP:20260424T162126Z
UID:50892836-b37d-4942-96ab-2cd64d6c6a1c
DTSTART:20260505T073000
DTEND:20260505T120000
DESCRIPTION:<p>Important Information</p><p> 8:00 AM Exams: Students must
  arrive by 7:30 AM</p><p> 12:00 PM Exams: Students must arrive by 11:30
  AM</p><p> Testing with accommodations: check with your teacher for loc
 ation</p>
LOCATION:Guidance Conference Room
SUMMARY:AP Human Geography
END:VEVENT
BEGIN:VEVENT
DTSTAMP:20260424T162126Z
UID:c99fa75c-8b3b-4357-893d-2297fc390961
DTSTART:20260505T113000
DTEND:20260505T153000
DESCRIPTION:<p>Important Information</p><p> 8:00 AM Exams: Students must
  arrive by 7:30 AM</p><p> 12:00 PM Exams: Students must arrive by 11:30
  AM</p><p> Testing with accommodations: check with your teacher for loc
 ation</p>
LOCATION:Gym
SUMMARY:AP US Government & Politics
END:VEVENT
BEGIN:VEVENT
DTSTAMP:20260424T162126Z
UID:d4cb6193-16ac-4832-9071-556625af3f56
DTSTART;VALUE=DATE:20260506
DTEND;VALUE=DATE:20260507
DESCRIPTION:
LOCATION:
SUMMARY:Biology and US History EOC
END:VEVENT
BEGIN:VEVENT
DTSTAMP:20260424T162126Z
UID:598997c1-6474-430a-b434-998b32649a90
DTSTART:20260506T073000
DTEND:20260506T120000
DESCRIPTION:<p>Important Information</p><p> 8:00 AM Exams: Students must
  arrive by 7:30 AM</p><p> 12:00 PM Exams: Students must arrive by 11:30
  AM</p><p> Testing with accommodations: check with your teacher for loc
 ation</p>
LOCATION:Field House
SUMMARY:AP English Literature & Comp Test
END:VEVENT
BEGIN:VEVENT
DTSTAMP:20260424T162126Z
UID:743ff837-3ff6-4958-95b0-616923ee29cf
DTSTART:20260506T083000
DTEND:20260506T120000
DESCRIPTION:<p>Important Information</p><p>Morning (AM) Exams: Arrive by 8:
 30 AM</p><p>Afternoon (PM) Exams: Arrive by 11:30 AM</p><p>Bring required 
 materials and your student ID</p><p>Testing with Accommodations check with
  your teacher for your location</p><p></p><p>Testing Expectations</p><p>Ar
 rive on time — late entry may not be permitted</p><p>Follow all Cambridg
 e AICE testing rules</p><p>Be respectful and prepared</p>
LOCATION:313
SUMMARY:AICE Media Studies Test
END:VEVENT
BEGIN:VEVENT
DTSTAMP:20260424T162126Z
UID:0086da69-d73e-4a63-807c-fc30f8923e17
DTSTART:20260506T113000
DTEND:20260506T153000
DESCRIPTION:<p>Important Information</p><p> 8:00 AM Exams: Students must
  arrive by 7:30 AM</p><p> 12:00 PM Exams: Students must arrive by 11:30
  AM</p><p> Testing with accommodations: check with your teacher for loc
 ation</p>
LOCATION:Guidance Conference Room
SUMMARY:AP Physics 1 - Algebra Based Test
END:VEVENT
BEGIN:VEVENT
DTSTAMP:20260424T162126Z
UID:7b1e0992-b17c-444e-afc2-aabe551e7bb6
DTSTART:20260507T073000
DTEND:20260507T120000
DESCRIPTION:<p>Important Information</p><p> 8:00 AM Exams: Students must
  arrive by 7:30 AM</p><p> 12:00 PM Exams: Students must arrive by 11:30
  AM</p><p> Testing with accommodations: check with your teacher for loc
 ation</p>
LOCATION:Gym
SUMMARY:AP World History: Modern
END:VEVENT
BEGIN:VEVENT
DTSTAMP:20260424T162126Z
UID:0fe2c624-7214-4aed-b48a-50618c7ff294
DTSTART:20260507T180000
DTEND:20260507T190000
DESCRIPTION:
LOCATION:
SUMMARY:Band Semester Concert
END:VEVENT
BEGIN:VEVENT
DTSTAMP:20260424T162126Z
UID:70913636-e512-48ed-9359-7c73911698dd
DTSTART:20260508T073000
DTEND:20260508T120000
DESCRIPTION:<p>Important Information</p><p> 8:00 AM Exams: Students must
  arrive by 7:30 AM</p><p> 12:00 PM Exams: Students must arrive by 11:30
  AM</p><p> Testing with accommodations: check with your teacher for loc
 ation</p>
LOCATION:Guidance Conference Room
SUMMARY:AP US History Test
END:VEVENT
BEGIN:VEVENT
DTSTAMP:20260424T162126Z
UID:b009e61c-d8a7-40a7-9cf5-a9458479b456
DTSTART:20260508T113000
DTEND:20260508T153000
DESCRIPTION:<p>Important Information</p><p> 8:00 AM Exams: Students must
  arrive by 7:30 AM</p><p> 12:00 PM Exams: Students must arrive by 11:30
  AM</p><p> Testing with accommodations: check with your teacher for loc
 ation</p>
LOCATION:Gym
SUMMARY:AP Macroeconomics Test
END:VEVENT
BEGIN:VEVENT
DTSTAMP:20260424T162126Z
UID:2b55420b-7dc3-400c-8b9f-c1c2cc0e822c
DTSTART;VALUE=DATE:20260511
DTEND;VALUE=DATE:20260512
DESCRIPTION:
LOCATION:
SUMMARY:Early Release Day (Students released 1 hour early)
END:VEVENT
BEGIN:VEVENT
DTSTAMP:20260424T162126Z
UID:5b93af60-cb1f-45fa-9ca4-ccfdf9adcf35
DTSTART:20260511T073000
DTEND:20260511T120000
DESCRIPTION:<p>Important Information</p><p> 8:00 AM Exams: Students must
  arrive by 7:30 AM</p><p> 12:00 PM Exams: Students must arrive by 11:30
  AM</p><p> Testing with accommodations: check with your teacher for loc
 ation</p>
LOCATION:Gym
SUMMARY:AP Calculus AB Test
END:VEVENT
BEGIN:VEVENT
DTSTAMP:20260424T162126Z
UID:c9d7a14f-530c-4b4f-9477-0dd916ebbf77
DTSTART:20260511T073000
DTEND:20260511T120000
DESCRIPTION:<p>Important Information</p><p> 8:00 AM Exams: Students must
  arrive by 7:30 AM</p><p> 12:00 PM Exams: Students must arrive by 11:30
  AM</p><p> Testing with accommodations: check with your teacher for loc
 ation</p>
LOCATION:Gym
SUMMARY:AP Calculus BC Test
END:VEVENT
BEGIN:VEVENT
DTSTAMP:20260424T162126Z
UID:5c988d3f-f7e9-49c5-a6a5-954bb8c303a3
DTSTART:20260511T183000
DTEND:20260511T200000
DESCRIPTION:
LOCATION:
SUMMARY:Senior Sunset
END:VEVENT
BEGIN:VEVENT
DTSTAMP:20260424T162126Z
UID:6fa2bbc3-1543-4968-b074-5e8d3e9669a8
DTSTART:20260512T073000
DTEND:20260512T120000
DESCRIPTION:<p>Important Information</p><p> 8:00 AM Exams: Students must
  arrive by 7:30 AM</p><p> 12:00 PM Exams: Students must arrive by 11:30
  AM</p><p> Testing with accommodations: check with your teacher for loc
 ation</p>
LOCATION:Gym
SUMMARY:AP Pre-Calculus Test
END:VEVENT
BEGIN:VEVENT
DTSTAMP:20260424T162126Z
UID:dc3b0b44-8120-42d1-857c-5e9ef2a5009e
DTSTART:20260512T113000
DTEND:20260512T153000
DESCRIPTION:<p>Important Information</p><p> 8:00 AM Exams: Students must
  arrive by 7:30 AM</p><p> 12:00 PM Exams: Students must arrive by 11:30
  AM</p><p> Testing with accommodations: check with your teacher for loc
 ation</p>
LOCATION:Guidance Conference Room
SUMMARY:AP Psychology Test
END:VEVENT
BEGIN:VEVENT
DTSTAMP:20260424T162126Z
UID:8dd907c5-8ab4-4861-9fbc-63e583f2cb31
DTSTART;VALUE=DATE:20260513
DTEND;VALUE=DATE:20260514
DESCRIPTION:
LOCATION:
SUMMARY:Algebra & Geometry EOC 
END:VEVENT
BEGIN:VEVENT
DTSTAMP:20260424T162126Z
UID:34484ea3-262f-411c-8864-d9c9f48d7d64
DTSTART:20260513T113000
DTEND:20260513T153000
DESCRIPTION:<p>Important Information</p><p> 8:00 AM Exams: Students must
  arrive by 7:30 AM</p><p> 12:00 PM Exams: Students must arrive by 11:30
  AM</p><p> Testing with accommodations: check with your teacher for loc
 ation</p>
LOCATION:Media Center
SUMMARY:AP Spanish Literature & Culture Test
END:VEVENT
BEGIN:VEVENT
DTSTAMP:20260424T162126Z
UID:bd23b98e-b338-437d-b5b5-32d7c872925a
DTSTART:20260514T073000
DTEND:20260514T120000
DESCRIPTION:<p>Important Information</p><p> 8:00 AM Exams: Students must
  arrive by 7:30 AM</p><p> 12:00 PM Exams: Students must arrive by 11:30
  AM</p><p> Testing with accommodations: check with your teacher for loc
 ation</p>
LOCATION:Media Center
SUMMARY:AP Spanish Language & Culture Test
END:VEVENT
BEGIN:VEVENT
DTSTAMP:20260424T162126Z
UID:3863bd52-328f-472e-8cc5-307b299bc902
DTSTART:20260514T113000
DTEND:20260514T153000
DESCRIPTION:<p>Important Information</p><p> 8:00 AM Exams: Students must
  arrive by 7:30 AM</p><p> 12:00 PM Exams: Students must arrive by 11:30
  AM</p><p> Testing with accommodations: check with your teacher for loc
 ation</p>
LOCATION:
SUMMARY:AP Computer Science Principles Test
END:VEVENT
BEGIN:VEVENT
DTSTAMP:20260424T162126Z
UID:4f9f00a7-fa55-4213-b9b3-1b8f677977a6
DTSTART:20260514T180000
DTEND:20260514T190000
DESCRIPTION:
LOCATION:
SUMMARY:Thespian Awards & Induction
END:VEVENT
BEGIN:VEVENT
DTSTAMP:20260424T162126Z
UID:f2c1d1b6-0c1e-4d97-a5ea-c02310e3e6c1
DTSTART:20260515T073000
DTEND:20260515T120000
DESCRIPTION:<p>Important Information</p><p> 8:00 AM Exams: Students must
  arrive by 7:30 AM</p><p> 12:00 PM Exams: Students must arrive by 11:30
  AM</p><p> Testing with accommodations: check with your teacher for loc
 ation</p>
LOCATION:Guidance Conference Room
SUMMARY:AP Environmental Science Test
END:VEVENT
BEGIN:VEVENT
DTSTAMP:20260424T162126Z
UID:1ecb0340-06f6-4d25-b2f0-03dc090d8734
DTSTART:20260515T113000
DTEND:20260515T153000
DESCRIPTION:<p>Important Information</p><p> 8:00 AM Exams: Students must
  arrive by 7:30 AM</p><p> 12:00 PM Exams: Students must arrive by 11:30
  AM</p><p> Testing with accommodations: check with your teacher for loc
 ation</p>
LOCATION:Guidance Conference Room
SUMMARY:AP Computer Science A Test
END:VEVENT
BEGIN:VEVENT
DTSTAMP:20260424T162126Z
UID:db98ba81-4918-4143-bcce-eda5b0d615cd
DTSTART:20260517T113000
DTEND:20260517T130000
DESCRIPTION:
LOCATION:4800 US-301\, Tampa\, FL 33610\, USA
SUMMARY:Graduation Rehearsal 
END:VEVENT
BEGIN:VEVENT
DTSTAMP:20260424T162126Z
UID:1c1ded2d-e458-4182-83f3-4ef6a7b921a3
DTSTART;VALUE=DATE:20260518
DTEND;VALUE=DATE:20260519
DESCRIPTION:
LOCATION:
SUMMARY:Early Release Day (Students released 1 hour early)
END:VEVENT
BEGIN:VEVENT
DTSTAMP:20260424T162126Z
UID:20f869c4-0f23-4b13-9789-c917c99bfe6d
DTSTART:20260519T083000
DTEND:20260519T120000
DESCRIPTION:
LOCATION:
SUMMARY:Senior Field Day
END:VEVENT
BEGIN:VEVENT
DTSTAMP:20260424T162126Z
UID:f5435f7a-dc31-453f-8250-fe8d92ab6955
DTSTART;VALUE=DATE:20260525
DTEND;VALUE=DATE:20260526
DESCRIPTION:
LOCATION:
SUMMARY:Memorial Day/Non-Student Day
END:VEVENT
BEGIN:VEVENT
DTSTAMP:20260424T162126Z
UID:8d3d25b1-e467-4d2c-80a0-08d30af753f5
DTSTART:20260527T150000
DTEND:20260527T180000
DESCRIPTION:
LOCATION:4800 US-301\, Tampa\, FL 33610\, USA
SUMMARY:Graduation
END:VEVENT
BEGIN:VEVENT
DTSTAMP:20260424T162126Z
UID:49ef2f19-fb6c-45e1-9ea4-92a73e77252c
DTSTART;VALUE=DATE:20260529
DTEND;VALUE=DATE:20260530
DESCRIPTION:
LOCATION:
SUMMARY:End of 4th Grading Period/2nd Semester
END:VEVENT
BEGIN:VEVENT
DTSTAMP:20260424T162126Z
UID:b065eeba-8346-4df4-b807-0a1b09ac662d
DTSTART;VALUE=DATE:20260529
DTEND;VALUE=DATE:20260530
DESCRIPTION:
LOCATION:
SUMMARY:Last Day of School/Early Release Day-Students released 2.5 hours ea
 rly
END:VEVENT
BEGIN:VEVENT
DTSTAMP:20260424T162126Z
UID:fa739956-dff0-48bd-9b39-035c104cd333
DTSTART;VALUE=DATE:20260608
DTEND;VALUE=DATE:20260609
DESCRIPTION:
LOCATION:
SUMMARY:Online Report Cards Available
END:VEVENT
BEGIN:VEVENT
DTSTAMP:20260424T162126Z
UID:b9ac481f-5905-4ee5-bdad-d9c4630de589
DTSTART;VALUE=DATE:20260810
DTEND;VALUE=DATE:20260811
DESCRIPTION:
LOCATION:
SUMMARY:Students’ First Day of School
END:VEVENT
BEGIN:VEVENT
DTSTAMP:20260424T162126Z
UID:841f1c0c-c525-4087-b2d5-1ea89ac697da
DTSTART;VALUE=DATE:20260907
DTEND;VALUE=DATE:20260908
DESCRIPTION:
LOCATION:
SUMMARY:Labor Day/Non-Student Day
END:VEVENT
BEGIN:VEVENT
DTSTAMP:20260424T162126Z
UID:c1fc32cc-2c6a-44d0-ae52-89e5d6026b47
DTSTART;VALUE=DATE:20261009
DTEND;VALUE=DATE:20261010
DESCRIPTION:<p>**Tentative Hurricane Make-Up Day(s) if needed: October 12\,
  November 11\, November 23-25\, January 4</p>
LOCATION:
SUMMARY:End of 1st Grading Period
END:VEVENT
BEGIN:VEVENT
DTSTAMP:20260424T162126Z
UID:e083f7fd-ef18-4ea2-80dd-11e62b38adfb
DTSTART;VALUE=DATE:20261012
DTEND;VALUE=DATE:20261013
DESCRIPTION:<p>**Tentative Hurricane Make-Up Day(s) if needed: October 12\,
  November 11\, November 23-25\, January 4</p>
LOCATION:
SUMMARY:Non-Student Day**
END:VEVENT
BEGIN:VEVENT
DTSTAMP:20260424T162126Z
UID:e3d8958d-9074-4cf9-93a6-05d5cd109af2
DTSTART;VALUE=DATE:20261111
DTEND;VALUE=DATE:20261112
DESCRIPTION:<p>**Tentative Hurricane Make-Up Day(s) if needed: October 12\,
  November 11\, November 23-25\, January 4</p>
LOCATION:
SUMMARY:Veterans Day/Non-Student Day**
END:VEVENT
BEGIN:VEVENT
DTSTAMP:20260424T162126Z
UID:afe2b353-d51f-4a8b-86f2-ecb415e45406
DTSTART;VALUE=DATE:20261123
DTEND;VALUE=DATE:20261128
DESCRIPTION:<p>**Tentative Hurricane Make-Up Day(s) if needed: October 12\,
  November 11\, November 23-25\, January 4</p>
LOCATION:
SUMMARY:Fall Break/Non-Student Days**
END:VEVENT
BEGIN:VEVENT
DTSTAMP:20260424T162126Z
UID:b8b6994c-9835-45dd-9cdb-029c49eafe42
DTSTART;VALUE=DATE:20261130
DTEND;VALUE=DATE:20261201
DESCRIPTION:
LOCATION:
SUMMARY:Students Return to School
END:VEVENT
BEGIN:VEVENT
DTSTAMP:20260424T162126Z
UID:4a2cfc08-7e2a-4484-9fdc-59b75a55a092
DTSTART;VALUE=DATE:20261218
DTEND;VALUE=DATE:20261219
DESCRIPTION:
LOCATION:
SUMMARY:End of 2nd Grading Period/1st Semester
END:VEVENT
BEGIN:VEVENT
DTSTAMP:20260424T162126Z
UID:e7eebb2d-b9af-4c09-b194-292eda06beb2
DTSTART;VALUE=DATE:20261221
DTEND;VALUE=DATE:20270102
DESCRIPTION:
LOCATION:
SUMMARY:Winter Break/Non-Student Days
END:VEVENT
BEGIN:VEVENT
DTSTAMP:20260424T162126Z
UID:5969eba7-9350-4382-bdef-9a72bd9b0c90
DTSTART;VALUE=DATE:20270104
DTEND;VALUE=DATE:20270105
DESCRIPTION:<p>**Tentative Hurricane Make-Up Day(s) if needed: October 12\,
  November 11\, November 23-25\, January 4</p>
LOCATION:
SUMMARY:Non-Student Day**
END:VEVENT
BEGIN:VEVENT
DTSTAMP:20260424T162126Z
UID:85429278-e94f-4ed3-a26f-bd95bdfe0bba
DTSTART;VALUE=DATE:20270105
DTEND;VALUE=DATE:20270106
DESCRIPTION:
LOCATION:
SUMMARY:Students Return to School
END:VEVENT
BEGIN:VEVENT
DTSTAMP:20260424T162126Z
UID:3be7088b-02bf-4dc0-91f5-17e444f01158
DTSTART;VALUE=DATE:20270118
DTEND;VALUE=DATE:20270119
DESCRIPTION:
LOCATION:
SUMMARY:Martin Luther King\, Jr./Non-Student Day
END:VEVENT
BEGIN:VEVENT
DTSTAMP:20260424T162126Z
UID:cfe83448-2091-4cc8-841a-65a6d5d6616b
DTSTART;VALUE=DATE:20270212
DTEND;VALUE=DATE:20270213
DESCRIPTION:
LOCATION:
SUMMARY:Florida State Fair/Non-Student Day
END:VEVENT
BEGIN:VEVENT
DTSTAMP:20260424T162126Z
UID:e35bc2e7-a68f-46d8-a5e9-830693bed262
DTSTART;VALUE=DATE:20270215
DTEND;VALUE=DATE:20270216
DESCRIPTION:
LOCATION:
SUMMARY:Presidents’ Day/Non-Student Day
END:VEVENT
BEGIN:VEVENT
DTSTAMP:20260424T162126Z
UID:5ad4087b-dfe3-4bcb-8b34-b0f64285560b
DTSTART;VALUE=DATE:20270308
DTEND;VALUE=DATE:20270309
DESCRIPTION:<p>*Strawberry Festival/Non-Student Day changed from 3/1/27 to 
 3/8/27 to coincide with the dates of the Strawberry Festival. </p>
LOCATION:
SUMMARY:Strawberry Festival/Non-Student Day*
END:VEVENT
BEGIN:VEVENT
DTSTAMP:20260424T162126Z
UID:caf305e2-a571-42dc-841f-b21c655a1bc9
DTSTART;VALUE=DATE:20270312
DTEND;VALUE=DATE:20270313
DESCRIPTION:
LOCATION:
SUMMARY:End of 3rd Grading Period
END:VEVENT
BEGIN:VEVENT
DTSTAMP:20260424T162126Z
UID:bc709010-0f4e-4611-89ad-ddec7cf46eb0
DTSTART;VALUE=DATE:20270322
DTEND;VALUE=DATE:20270327
DESCRIPTION:
LOCATION:
SUMMARY:Spring Break/Non-Student Days
END:VEVENT
BEGIN:VEVENT
DTSTAMP:20260424T162126Z
UID:cc62d3d6-e742-4ff4-8dcc-9b1e80e17404
DTSTART;VALUE=DATE:20270329
DTEND;VALUE=DATE:20270330
DESCRIPTION:
LOCATION:
SUMMARY:Non-Student Day
END:VEVENT
BEGIN:VEVENT
DTSTAMP:20260424T162126Z
UID:6791afaf-cff6-49d4-9d88-ade0184167be
DTSTART;VALUE=DATE:20270330
DTEND;VALUE=DATE:20270331
DESCRIPTION:
LOCATION:
SUMMARY:Students Return to School
END:VEVENT
BEGIN:VEVENT
DTSTAMP:20260424T162126Z
UID:c2973439-93c9-4b09-bd41-3c30b64096a3
DTSTART;VALUE=DATE:20270416
DTEND;VALUE=DATE:20270417
DESCRIPTION:
LOCATION:
SUMMARY:Non-Student Day
END:VEVENT
BEGIN:VEVENT
DTSTAMP:20260424T162126Z
UID:86f69d22-052e-4646-8bc4-f960a59e49d6
DTSTART;VALUE=DATE:20270528
DTEND;VALUE=DATE:20270529
DESCRIPTION:
LOCATION:
SUMMARY: End of 4th Grading Period/2nd Semester
END:VEVENT
BEGIN:VEVENT
DTSTAMP:20260424T162126Z
UID:6cccf1a8-2b66-44e1-9bd0-0e8afcc6702d
DTSTART;VALUE=DATE:20270528
DTEND;VALUE=DATE:20270529
DESCRIPTION:
LOCATION:
SUMMARY:Last Day of School/Students released 2.5 hours early
END:VEVENT
END:VCALENDAR
