BEGIN:VCALENDAR
VERSION:2.0
PRODID:icalendar-ruby
CALSCALE:GREGORIAN
BEGIN:VTIMEZONE
TZID:America/Chicago
BEGIN:DAYLIGHT
DTSTART:20260308T030000
TZOFFSETFROM:-0600
TZOFFSETTO:-0500
RRULE:FREQ=YEARLY;BYDAY=2SU;BYMONTH=3
TZNAME:CDT
END:DAYLIGHT
BEGIN:STANDARD
DTSTART:20261101T010000
TZOFFSETFROM:-0500
TZOFFSETTO:-0600
RRULE:FREQ=YEARLY;BYDAY=1SU;BYMONTH=11
TZNAME:CST
END:STANDARD
END:VTIMEZONE
BEGIN:VEVENT
DTSTAMP:20260419T214014Z
UID:22a2f98a-ead8-489a-9ac5-70fe877ea8ba
DTSTART;VALUE=DATE:20260420
DTEND;VALUE=DATE:20260421
DESCRIPTION:
LOCATION:
SUMMARY:Regular School Day 🐾
END:VEVENT
BEGIN:VEVENT
DTSTAMP:20260419T214014Z
UID:44f01480-c835-41c9-a6b5-199730a37cd4
DTSTART;VALUE=DATE:20260421
DTEND;VALUE=DATE:20260422
DESCRIPTION:
LOCATION:
SUMMARY:Regular School Day 🐾
END:VEVENT
BEGIN:VEVENT
DTSTAMP:20260419T214014Z
UID:def9950e-e118-40e0-bb20-fb3aca3f1d89
DTSTART:20260421T170000
DTEND:20260421T190000
DESCRIPTION:agenda: <a href="https://www.google.com/url?q=https://aptg.co/
 c5nn-T&amp\;sa=D&amp\;source=calendar&amp\;ust=1776872039136375&amp\;usg=A
 OvVaw34QIKptFnoocb1SZkCZWuI" target="_blank">https://aptg.co/c5nn-T</a>
LOCATION:
SUMMARY:School Board Meeting (click for agenda)
END:VEVENT
BEGIN:VEVENT
DTSTAMP:20260419T214014Z
UID:62e82f80-f593-4049-b4cc-8ac2d675f048
DTSTART;VALUE=DATE:20260422
DTEND;VALUE=DATE:20260423
DESCRIPTION:
LOCATION:
SUMMARY:Regular School Day 🐾
END:VEVENT
BEGIN:VEVENT
DTSTAMP:20260419T214014Z
UID:55f434ce-113d-4248-8adc-144c2f15a659
DTSTART;VALUE=DATE:20260423
DTEND;VALUE=DATE:20260424
DESCRIPTION:
LOCATION:
SUMMARY:Regular School Day 🐾
END:VEVENT
BEGIN:VEVENT
DTSTAMP:20260419T214014Z
UID:b89fda47-8d0d-41cd-8104-dd2a5c6dd5a0
DTSTART;VALUE=DATE:20260424
DTEND;VALUE=DATE:20260425
DESCRIPTION:
LOCATION:
SUMMARY:11:30 Dismissal 🐾
END:VEVENT
BEGIN:VEVENT
DTSTAMP:20260419T214014Z
UID:111768a2-fa14-4b3d-9a14-a930a4809faf
DTSTART;VALUE=DATE:20260427
DTEND;VALUE=DATE:20260428
DESCRIPTION:
LOCATION:
SUMMARY:Regular School Day 🐾
END:VEVENT
BEGIN:VEVENT
DTSTAMP:20260419T214014Z
UID:247000b6-704c-48b6-ba40-5924c9cbc24b
DTSTART;VALUE=DATE:20260428
DTEND;VALUE=DATE:20260429
DESCRIPTION:
LOCATION:
SUMMARY:Regular School Day 🐾
END:VEVENT
BEGIN:VEVENT
DTSTAMP:20260419T214014Z
UID:c1ee74ae-a468-49c7-aa08-196479de7707
DTSTART;VALUE=DATE:20260429
DTEND;VALUE=DATE:20260430
DESCRIPTION:
LOCATION:
SUMMARY:Regular School Day 🐾
END:VEVENT
BEGIN:VEVENT
DTSTAMP:20260419T214014Z
UID:b8ac887f-40f3-408a-8753-a74ca8a637ab
DTSTART;VALUE=DATE:20260430
DTEND;VALUE=DATE:20260501
DESCRIPTION:
LOCATION:
SUMMARY:Regular School Day 🐾
END:VEVENT
END:VCALENDAR
