BEGIN:VCALENDAR
VERSION:2.0
PRODID:icalendar-ruby
CALSCALE:GREGORIAN
BEGIN:VTIMEZONE
TZID:America/Chicago
BEGIN:DAYLIGHT
DTSTART:20260308T030000
TZOFFSETFROM:-0600
TZOFFSETTO:-0500
RRULE:FREQ=YEARLY;BYDAY=2SU;BYMONTH=3
TZNAME:CDT
END:DAYLIGHT
BEGIN:STANDARD
DTSTART:20261101T010000
TZOFFSETFROM:-0500
TZOFFSETTO:-0600
RRULE:FREQ=YEARLY;BYDAY=1SU;BYMONTH=11
TZNAME:CST
END:STANDARD
END:VTIMEZONE
BEGIN:VEVENT
DTSTAMP:20260421T154934Z
UID:179ccdbc-c75d-485d-9c61-bb84a4f8ba7b
DTSTART:20260425T100000
DTEND:20260425T200000
DESCRIPTION:<p>The <strong>Global Roots Festival</strong> is bringing the e
 nergy\, color\, and connection back to our community on April 25\, 2026\, 
 and you won’t want to miss it.</p><p style="text-align: left">Inspired b
 y Grand Island’s historic Ethnic Festival\, first launched in 1991\, thi
 s one-day celebration honors the cultures that make our community so vibra
 nt today. It’s all about coming together—sharing traditions\, stories\
 , and experiences in a way that’s fun\, welcoming\, and full of life.</p
 ><ul><li><p>Live music</p></li><li><p>Cultural dance</p></li><li><p>Art an
 d crafts</p></li><li><p>Games for all ages</p></li><li><p>Traditional food
 s from around the world</p></li></ul><p style="text-align: left">Whether y
 ou’re reconnecting with your own heritage or discovering something new\,
  the Global Roots Festival is a chance to celebrate what makes Grand Islan
 d special—our people.</p><p style="text-align: left">Come hungry\, bring
  your friends\, and get ready to celebrate. Learn more on the <a target="_
 blank" rel="noopener noreferrer nofollow" href="https://www.facebook.com/s
 hare/1FbZ2DySNZ/" relative-link="">Global Roots Festival Facebook page.</a
 ></p>
LOCATION:108 4th St E\, Grand Island\, NE 68801-4602\, United States
SUMMARY:Global Roots Festival
END:VEVENT
END:VCALENDAR
