BEGIN:VCALENDAR
VERSION:2.0
PRODID:icalendar-ruby
CALSCALE:GREGORIAN
BEGIN:VTIMEZONE
TZID:America/New_York
BEGIN:DAYLIGHT
DTSTART:20260308T030000
TZOFFSETFROM:-0500
TZOFFSETTO:-0400
RRULE:FREQ=YEARLY;BYDAY=2SU;BYMONTH=3
TZNAME:EDT
END:DAYLIGHT
BEGIN:STANDARD
DTSTART:20261101T010000
TZOFFSETFROM:-0400
TZOFFSETTO:-0500
RRULE:FREQ=YEARLY;BYDAY=1SU;BYMONTH=11
TZNAME:EST
END:STANDARD
END:VTIMEZONE
BEGIN:VEVENT
DTSTAMP:20260419T195543Z
UID:cb236c81-47c8-4e1c-8c4e-3559c6eaf850
DTSTART:20260420T083000
DTEND:20260420T143000
DESCRIPTION:
LOCATION:
SUMMARY:Valley Professionals Health Services on Site
END:VEVENT
BEGIN:VEVENT
DTSTAMP:20260419T195543Z
UID:1fdb5e98-2cde-44c0-9081-907bedbbf9e5
DTSTART:20260424T140000
DTEND:20260424T150000
DESCRIPTION:
LOCATION:
SUMMARY:Fire Drill
END:VEVENT
BEGIN:VEVENT
DTSTAMP:20260419T195543Z
UID:14358a7d-6543-42e0-b659-933bf0dff4a1
DTSTART:20260501T145000
DTEND:20260501T163000
DESCRIPTION:
LOCATION:
SUMMARY:Girls Scout Meeting grades 3-6
END:VEVENT
BEGIN:VEVENT
DTSTAMP:20260419T195543Z
UID:6505fd39-2dfa-46d4-89dd-dfc923e9b9fe
DTSTART:20260504T083000
DTEND:20260504T143000
DESCRIPTION:
LOCATION:
SUMMARY:Valley Professionals Health Services on Site
END:VEVENT
BEGIN:VEVENT
DTSTAMP:20260419T195543Z
UID:b2af4b2f-9a36-417d-a868-9ede2cfbc79e
DTSTART:20260508T060000
DTEND:20260508T190000
DESCRIPTION:
LOCATION:
SUMMARY:6th Grade to Cincinnati\, OH
END:VEVENT
BEGIN:VEVENT
DTSTAMP:20260419T195543Z
UID:6df934eb-2a3e-47d3-9669-8b214c3272c1
DTSTART:20260518T083000
DTEND:20260518T143000
DESCRIPTION:
LOCATION:
SUMMARY:Valley Professionals Health Services on Site
END:VEVENT
BEGIN:VEVENT
DTSTAMP:20260419T195543Z
UID:376a561f-2010-409c-bec5-8172fd088d80
DTSTART;VALUE=DATE:20260521
DTEND;VALUE=DATE:20260522
DESCRIPTION:
LOCATION:
SUMMARY:End of 4th Quarter & 2nd Semester
END:VEVENT
BEGIN:VEVENT
DTSTAMP:20260419T195543Z
UID:b23796a3-5e18-46ff-b4a2-5d48048a8036
DTSTART;VALUE=DATE:20260521
DTEND;VALUE=DATE:20260522
DESCRIPTION:
LOCATION:
SUMMARY:Last Student and Staff Day
END:VEVENT
BEGIN:VEVENT
DTSTAMP:20260419T195543Z
UID:370ee947-0a3d-41a7-9764-41fa9cee6eda
DTSTART;VALUE=DATE:20260523
DTEND;VALUE=DATE:20260524
DESCRIPTION:
LOCATION:
SUMMARY:Graduation
END:VEVENT
BEGIN:VEVENT
DTSTAMP:20260419T195543Z
UID:54d89408-8f52-4fd3-88b3-6bb04206bcbc
DTSTART;VALUE=DATE:20260710
DTEND;VALUE=DATE:20260718
DESCRIPTION:
LOCATION:
SUMMARY:Parke County Fair Week
END:VEVENT
BEGIN:VEVENT
DTSTAMP:20260419T195543Z
UID:3ea16eff-ba9a-4a9f-b15c-83ea4cab17e9
DTSTART:20261207T080000
DTEND:20261207T113000
DESCRIPTION:
LOCATION:
SUMMARY:6th Grade Santa Shop
END:VEVENT
BEGIN:VEVENT
DTSTAMP:20260419T195543Z
UID:bdc44575-e439-4548-8f20-373702cc462f
DTSTART:20261208T080000
DTEND:20261208T113000
DESCRIPTION:
LOCATION:
SUMMARY:6th Grade Santa Shop
END:VEVENT
BEGIN:VEVENT
DTSTAMP:20260419T195543Z
UID:32862766-b539-4afb-8498-38b198f98e8a
DTSTART:20261209T080000
DTEND:20261209T113000
DESCRIPTION:
LOCATION:
SUMMARY:6th Grade Santa Shop
END:VEVENT
BEGIN:VEVENT
DTSTAMP:20260419T195543Z
UID:1e51d0b1-9ee8-4b6e-aa56-016295625597
DTSTART:20261210T080000
DTEND:20261210T113000
DESCRIPTION:
LOCATION:
SUMMARY:6th Grade Santa Shop
END:VEVENT
BEGIN:VEVENT
DTSTAMP:20260419T195543Z
UID:508ea13b-1232-4b07-8b03-fb9ad44d06f6
DTSTART:20261211T080000
DTEND:20261211T113000
DESCRIPTION:
LOCATION:
SUMMARY:6th Grade Santa Shop
END:VEVENT
BEGIN:VEVENT
DTSTAMP:20260419T195543Z
UID:ba3a78bf-e02a-4b57-8130-02c12ac12b63
DTSTART;VALUE=DATE:20271101
DTEND;VALUE=DATE:20271106
DESCRIPTION:
LOCATION:
SUMMARY:Potential Book Blast Week
END:VEVENT
END:VCALENDAR
