BEGIN:VCALENDAR
VERSION:2.0
PRODID:icalendar-ruby
CALSCALE:GREGORIAN
BEGIN:VTIMEZONE
TZID:America/Los_Angeles
BEGIN:DAYLIGHT
DTSTART:20260308T030000
TZOFFSETFROM:-0800
TZOFFSETTO:-0700
RRULE:FREQ=YEARLY;BYDAY=2SU;BYMONTH=3
TZNAME:PDT
END:DAYLIGHT
BEGIN:STANDARD
DTSTART:20261101T010000
TZOFFSETFROM:-0700
TZOFFSETTO:-0800
RRULE:FREQ=YEARLY;BYDAY=1SU;BYMONTH=11
TZNAME:PST
END:STANDARD
END:VTIMEZONE
BEGIN:VEVENT
DTSTAMP:20260421T103118Z
UID:1f3dffcd-6362-4c65-b577-87ced73fc4e3
DTSTART;VALUE=DATE:20260518
DTEND;VALUE=DATE:20260519
DESCRIPTION:
LOCATION:
SUMMARY:No School - Professional Development
END:VEVENT
BEGIN:VEVENT
DTSTAMP:20260421T103118Z
UID:26922fa2-314a-484e-be2e-5c3bb01f11e2
DTSTART;VALUE=DATE:20260525
DTEND;VALUE=DATE:20260526
DESCRIPTION:
LOCATION:
SUMMARY:No School - Memorial Day
END:VEVENT
BEGIN:VEVENT
DTSTAMP:20260421T103118Z
UID:751e296b-902a-427f-8f0e-9abaedd08b35
DTSTART;VALUE=DATE:20260603
DTEND;VALUE=DATE:20260604
DESCRIPTION:
LOCATION:
SUMMARY:End of Quarter 4
END:VEVENT
BEGIN:VEVENT
DTSTAMP:20260421T103118Z
UID:bf8d9627-0339-4ee8-b378-690120ee9bad
DTSTART;VALUE=DATE:20260603
DTEND;VALUE=DATE:20260604
DESCRIPTION:
LOCATION:
SUMMARY:Last Day of School - Dismiss at 1:30pm
END:VEVENT
BEGIN:VEVENT
DTSTAMP:20260421T103118Z
UID:61d253c7-62f5-4855-ae5b-5c62c67af74e
DTSTART:20260603T190000
DTEND:20260603T203000
DESCRIPTION:
LOCATION:
SUMMARY:PCRHS Graduation
END:VEVENT
BEGIN:VEVENT
DTSTAMP:20260421T103118Z
UID:09ef28ae-5c33-4c4a-bfb7-5f38bf6e2a33
DTSTART;VALUE=DATE:20260612
DTEND;VALUE=DATE:20260613
DESCRIPTION:
LOCATION:
SUMMARY:PCRHS Front Office Closes for the 2025-2026 School Year
END:VEVENT
END:VCALENDAR
