BEGIN:VCALENDAR
VERSION:2.0
PRODID:icalendar-ruby
CALSCALE:GREGORIAN
BEGIN:VTIMEZONE
TZID:America/New_York
BEGIN:DAYLIGHT
DTSTART:20260308T030000
TZOFFSETFROM:-0500
TZOFFSETTO:-0400
RRULE:FREQ=YEARLY;BYDAY=2SU;BYMONTH=3
TZNAME:EDT
END:DAYLIGHT
BEGIN:STANDARD
DTSTART:20261101T010000
TZOFFSETFROM:-0400
TZOFFSETTO:-0500
RRULE:FREQ=YEARLY;BYDAY=1SU;BYMONTH=11
TZNAME:EST
END:STANDARD
END:VTIMEZONE
BEGIN:VEVENT
DTSTAMP:20260423T104501Z
UID:8404b0e8-8c7f-4e85-bc41-257e8c9e9bda
DTSTART:20260506T180000
DTEND:20260506T200000
DESCRIPTION:
LOCATION:
SUMMARY:Art/Discovery/Book Fair
END:VEVENT
BEGIN:VEVENT
DTSTAMP:20260423T104501Z
UID:353a2bd9-7e49-46da-98a3-3c0bba2e85cd
DTSTART:20260507T190000
DTEND:20260507T203000
DESCRIPTION:
LOCATION:
SUMMARY:3rd-5th Spring Concert
END:VEVENT
BEGIN:VEVENT
DTSTAMP:20260423T104501Z
UID:fa42be43-4c31-4efb-ab2c-bb1c9e669960
DTSTART:20260513T090000
DTEND:20260513T153000
DESCRIPTION:
LOCATION:
SUMMARY:Kindergarten Registration
END:VEVENT
BEGIN:VEVENT
DTSTAMP:20260423T104501Z
UID:3a79023f-0f5a-46a2-b6e0-799ba0430768
DTSTART:20260521T180000
DTEND:20260521T200000
DESCRIPTION:
LOCATION:
SUMMARY:Staff vs Student BB Game
END:VEVENT
BEGIN:VEVENT
DTSTAMP:20260423T104501Z
UID:4a206d46-a564-4ab6-821d-9f5d7026485e
DTSTART;VALUE=DATE:20260525
DTEND;VALUE=DATE:20260526
DESCRIPTION:
LOCATION:
SUMMARY:Memorial Day- No School for Students or Staff
END:VEVENT
BEGIN:VEVENT
DTSTAMP:20260423T104501Z
UID:4be96ee5-933f-48a7-9567-4ad378155884
DTSTART;VALUE=DATE:20260527
DTEND;VALUE=DATE:20260528
DESCRIPTION:
LOCATION:
SUMMARY:Track & Field Day/Play Day
END:VEVENT
BEGIN:VEVENT
DTSTAMP:20260423T104501Z
UID:7c2af432-f5cb-484b-93f2-9dda9b3bac9f
DTSTART;VALUE=DATE:20260528
DTEND;VALUE=DATE:20260529
DESCRIPTION:
LOCATION:
SUMMARY:Track & Field Day/Play Day (rain date)
END:VEVENT
BEGIN:VEVENT
DTSTAMP:20260423T104501Z
UID:c90e7bb8-f3c7-4df2-bdfd-573d5ddc85ea
DTSTART:20260604T130000
DTEND:20260604T150000
DESCRIPTION:
LOCATION:
SUMMARY:5th Gr Promotion Ceremony at HS Aud
END:VEVENT
END:VCALENDAR
