BEGIN:VCALENDAR
VERSION:2.0
PRODID:icalendar-ruby
CALSCALE:GREGORIAN
BEGIN:VTIMEZONE
TZID:America/New_York
BEGIN:DAYLIGHT
DTSTART:20260308T030000
TZOFFSETFROM:-0500
TZOFFSETTO:-0400
RRULE:FREQ=YEARLY;BYDAY=2SU;BYMONTH=3
TZNAME:EDT
END:DAYLIGHT
BEGIN:STANDARD
DTSTART:20261101T010000
TZOFFSETFROM:-0400
TZOFFSETTO:-0500
RRULE:FREQ=YEARLY;BYDAY=1SU;BYMONTH=11
TZNAME:EST
END:STANDARD
END:VTIMEZONE
BEGIN:VEVENT
DTSTAMP:20260423T104240Z
UID:b3758517-ffe0-433a-87a1-6fb47993f325
DTSTART;VALUE=DATE:20260423
DTEND;VALUE=DATE:20260424
DESCRIPTION:
LOCATION:
SUMMARY:PSSA ELA Testing Grades 3-5
END:VEVENT
BEGIN:VEVENT
DTSTAMP:20260423T104240Z
UID:c6188830-e8ea-49c1-b455-8bb95286149d
DTSTART:20260423T130000
DTEND:20260423T141500
DESCRIPTION:
LOCATION:
SUMMARY:2nd Gr. Swim - Hunsberger 
END:VEVENT
BEGIN:VEVENT
DTSTAMP:20260423T104240Z
UID:8d07c5c1-4c04-4df1-9702-f008b231f197
DTSTART;VALUE=DATE:20260424
DTEND;VALUE=DATE:20260425
DESCRIPTION:
LOCATION:
SUMMARY:SR - Pretzel Sale (HSA)
END:VEVENT
BEGIN:VEVENT
DTSTAMP:20260423T104240Z
UID:20a84949-a4ef-48a8-8d3e-15195ed10df5
DTSTART:20260424T130000
DTEND:20260424T141500
DESCRIPTION:
LOCATION:
SUMMARY:2nd Gr. Swim - Gilmer 
END:VEVENT
BEGIN:VEVENT
DTSTAMP:20260423T104240Z
UID:b6350fe8-a9dd-4ac9-a254-84037f4fa077
DTSTART:20260427T130000
DTEND:20260427T141500
DESCRIPTION:
LOCATION:
SUMMARY:2nd Gr. Swim - Hill 
END:VEVENT
BEGIN:VEVENT
DTSTAMP:20260423T104240Z
UID:1cb7c02a-a553-477c-80c7-8289373b5968
DTSTART:20260427T154000
DTEND:20260427T170000
DESCRIPTION:
LOCATION:
SUMMARY:GOTR
END:VEVENT
BEGIN:VEVENT
DTSTAMP:20260423T104240Z
UID:02188dda-0124-438b-842d-b2b43b19c798
DTSTART;VALUE=DATE:20260428
DTEND;VALUE=DATE:20260429
DESCRIPTION:
LOCATION:
SUMMARY:PSSA Testing Math (Grades 3-5)
END:VEVENT
BEGIN:VEVENT
DTSTAMP:20260423T104240Z
UID:44def8fb-5002-47aa-a626-508b5c78b806
DTSTART:20260428T130000
DTEND:20260428T141500
DESCRIPTION:
LOCATION:
SUMMARY:2nd Gr. Swim - Henry 
END:VEVENT
BEGIN:VEVENT
DTSTAMP:20260423T104240Z
UID:c041a75f-c2a9-4dbb-979b-2caf92d2d948
DTSTART;VALUE=DATE:20260429
DTEND;VALUE=DATE:20260430
DESCRIPTION:
LOCATION:
SUMMARY: PSSA Testing Math (Grades 3-5)
END:VEVENT
BEGIN:VEVENT
DTSTAMP:20260423T104240Z
UID:045c3245-f92a-42ec-a3bd-143ff88a0924
DTSTART:20260429T130000
DTEND:20260429T141500
DESCRIPTION:
LOCATION:
SUMMARY:2nd Gr. Swim - Himmelberger 
END:VEVENT
BEGIN:VEVENT
DTSTAMP:20260423T104240Z
UID:60d50786-6209-4468-a09f-fc9e2837a22c
DTSTART:20260429T154000
DTEND:20260429T170000
DESCRIPTION:
LOCATION:
SUMMARY:GOTR
END:VEVENT
BEGIN:VEVENT
DTSTAMP:20260423T104240Z
UID:ff79d5c8-1c09-4969-860a-dcc39b22d0d5
DTSTART:20260429T154000
DTEND:20260429T164000
DESCRIPTION:
LOCATION:
SUMMARY:Science Explorers - Science Mash-Up
END:VEVENT
BEGIN:VEVENT
DTSTAMP:20260423T104240Z
UID:fc4a5d10-f3a6-42b7-875a-fa09883f600d
DTSTART;VALUE=DATE:20260430
DTEND;VALUE=DATE:20260501
DESCRIPTION:
LOCATION:
SUMMARY:PSSA Testing Science (Grade 5)
END:VEVENT
BEGIN:VEVENT
DTSTAMP:20260423T104240Z
UID:14502938-2104-4981-a856-054d6640a155
DTSTART:20260430T130000
DTEND:20260430T141500
DESCRIPTION:
LOCATION:
SUMMARY:2nd Gr. Swim - Hunsberger 
END:VEVENT
BEGIN:VEVENT
DTSTAMP:20260423T104240Z
UID:2bd32840-1619-4c5c-b6a4-af227b44e10c
DTSTART:20260501T130000
DTEND:20260501T141500
DESCRIPTION:
LOCATION:
SUMMARY:2nd Gr. Swim - Gilmer 
END:VEVENT
BEGIN:VEVENT
DTSTAMP:20260423T104240Z
UID:c2bb8105-6933-4d60-ba8f-600c1f724ca2
DTSTART;VALUE=DATE:20260504
DTEND;VALUE=DATE:20260509
DESCRIPTION:
LOCATION:
SUMMARY:Staff Appreciation Week
END:VEVENT
BEGIN:VEVENT
DTSTAMP:20260423T104240Z
UID:cc1e8006-e024-4950-95de-2814bb7b068d
DTSTART:20260504T130000
DTEND:20260504T141500
DESCRIPTION:
LOCATION:
SUMMARY:2nd Gr. Swim - Hill 
END:VEVENT
BEGIN:VEVENT
DTSTAMP:20260423T104240Z
UID:9708f8ab-b572-46d8-a0ba-6975ad566785
DTSTART:20260504T154000
DTEND:20260504T170000
DESCRIPTION:
LOCATION:
SUMMARY:GOTR
END:VEVENT
BEGIN:VEVENT
DTSTAMP:20260423T104240Z
UID:2d5da90f-e669-42b6-8cf0-0c4d314b065a
DTSTART:20260505T130000
DTEND:20260505T141500
DESCRIPTION:
LOCATION:
SUMMARY:2nd Gr. Swim - Henry 
END:VEVENT
BEGIN:VEVENT
DTSTAMP:20260423T104240Z
UID:e6d836a5-18ab-4885-af20-198b9d9a4b80
DTSTART:20260505T180000
DTEND:20260505T193000
DESCRIPTION:
LOCATION:
SUMMARY:SR - Spring Book Fair / Art Show / Discovery Fair
END:VEVENT
BEGIN:VEVENT
DTSTAMP:20260423T104240Z
UID:8aa43e8b-4b67-4507-bef5-cc40af42b356
DTSTART:20260506T130000
DTEND:20260506T141500
DESCRIPTION:
LOCATION:
SUMMARY:2nd Gr. Swim - Himmelberger 
END:VEVENT
BEGIN:VEVENT
DTSTAMP:20260423T104240Z
UID:9bd13a61-25ee-4623-80ab-bb9ee70ed9dc
DTSTART:20260506T154000
DTEND:20260506T170000
DESCRIPTION:
LOCATION:
SUMMARY:GOTR
END:VEVENT
BEGIN:VEVENT
DTSTAMP:20260423T104240Z
UID:b15493d1-d48e-4188-9d71-2dbcd386924b
DTSTART:20260506T154000
DTEND:20260506T164000
DESCRIPTION:
LOCATION:
SUMMARY:Science Explorers - Secret Agent Academy 
END:VEVENT
BEGIN:VEVENT
DTSTAMP:20260423T104240Z
UID:0b8b6f01-7efa-469b-ba10-8ecbdfcd8e79
DTSTART:20260506T183000
DTEND:20260506T193000
DESCRIPTION:
LOCATION:
SUMMARY:ESL Family Night
END:VEVENT
BEGIN:VEVENT
DTSTAMP:20260423T104240Z
UID:2a2c798d-bfb7-477b-a92c-20fc6ab2bba6
DTSTART:20260507T130000
DTEND:20260507T141500
DESCRIPTION:
LOCATION:
SUMMARY:2nd Gr. Swim - Hunsberger 
END:VEVENT
BEGIN:VEVENT
DTSTAMP:20260423T104240Z
UID:41fc8942-3cb5-4e29-99f0-6d079faede57
DTSTART:20260508T090000
DTEND:20260508T113000
DESCRIPTION:
LOCATION:
SUMMARY:Orchestra/ Band/ Chorus Spring Dress Rehearsal - @ High School
END:VEVENT
BEGIN:VEVENT
DTSTAMP:20260423T104240Z
UID:d5b757d6-69e7-473a-89ac-5115c670b41c
DTSTART:20260508T130000
DTEND:20260508T141500
DESCRIPTION:
LOCATION:
SUMMARY:2nd Gr. Swim - Gilmer 
END:VEVENT
BEGIN:VEVENT
DTSTAMP:20260423T104240Z
UID:2b00d70d-12cd-4123-96ea-b3f49b7387f3
DTSTART:20260508T183000
DTEND:20260508T203000
DESCRIPTION:
LOCATION:
SUMMARY:Orchestra/ Band/ 5th Grade Chorus - Spring Concert - @ High School
END:VEVENT
BEGIN:VEVENT
DTSTAMP:20260423T104240Z
UID:bebc5205-4b04-4164-a288-f3447f408a9c
DTSTART:20260511T154000
DTEND:20260511T170000
DESCRIPTION:
LOCATION:
SUMMARY:GOTR
END:VEVENT
BEGIN:VEVENT
DTSTAMP:20260423T104240Z
UID:c1a2e61e-3890-42bc-b091-ed25203044c9
DTSTART:20260511T180000
DTEND:20260511T190000
DESCRIPTION:
LOCATION:
SUMMARY:SR - HSA Meeting (SR-Library)
END:VEVENT
BEGIN:VEVENT
DTSTAMP:20260423T104240Z
UID:50f9eb46-67b2-4437-993d-2480be5b93ec
DTSTART:20260513T154000
DTEND:20260513T170000
DESCRIPTION:
LOCATION:
SUMMARY:GOTR
END:VEVENT
BEGIN:VEVENT
DTSTAMP:20260423T104240Z
UID:c375dbb9-7d40-45b0-8652-9f3b1eb25436
DTSTART:20260513T154000
DTEND:20260513T164000
DESCRIPTION:
LOCATION:
SUMMARY:Science Explorers - Secret Agent Academy 
END:VEVENT
BEGIN:VEVENT
DTSTAMP:20260423T104240Z
UID:e0abfa1e-8f62-4424-9efe-cba7627c3155
DTSTART:20260514T180000
DTEND:20260514T190000
DESCRIPTION:
LOCATION:
SUMMARY:ESL Family Night (Cafe and Gym)
END:VEVENT
BEGIN:VEVENT
DTSTAMP:20260423T104240Z
UID:2458ecdc-2a23-465c-86ed-ad8e0541d241
DTSTART:20260515T180000
DTEND:20260515T193000
DESCRIPTION:
LOCATION:
SUMMARY:SR Family Carnival
END:VEVENT
BEGIN:VEVENT
DTSTAMP:20260423T104240Z
UID:5fb94975-3c77-4841-836e-0e530de669f0
DTSTART;VALUE=DATE:20260519
DTEND;VALUE=DATE:20260520
DESCRIPTION:
LOCATION:
SUMMARY:SR - 5th Grade Activity Day
END:VEVENT
BEGIN:VEVENT
DTSTAMP:20260423T104240Z
UID:ae839dc1-8720-4f9f-9bc3-5c73c57ea96e
DTSTART:20260520T154000
DTEND:20260520T164000
DESCRIPTION:
LOCATION:
SUMMARY:Science Explorers - Secret Agent Academy 
END:VEVENT
BEGIN:VEVENT
DTSTAMP:20260423T104240Z
UID:3fc759b2-aeb2-4c82-852b-308ffb475002
DTSTART;VALUE=DATE:20260525
DTEND;VALUE=DATE:20260526
DESCRIPTION:
LOCATION:
SUMMARY:Memorial Day- No School for Students or Staff
END:VEVENT
BEGIN:VEVENT
DTSTAMP:20260423T104240Z
UID:9db48157-d855-40a7-b12a-8a972b1abe05
DTSTART:20260527T154000
DTEND:20260527T164000
DESCRIPTION:
LOCATION:
SUMMARY:Science Explorers - Secret Agent Academy 
END:VEVENT
BEGIN:VEVENT
DTSTAMP:20260423T104240Z
UID:34b1ff7c-9d3a-480c-b48c-43096eadd141
DTSTART;VALUE=DATE:20260529
DTEND;VALUE=DATE:20260530
DESCRIPTION:
LOCATION:
SUMMARY:SR - Red and White Day
END:VEVENT
BEGIN:VEVENT
DTSTAMP:20260423T104240Z
UID:874f225a-89fa-477d-b67a-383c1fd95943
DTSTART;VALUE=DATE:20260601
DTEND;VALUE=DATE:20260602
DESCRIPTION:
LOCATION:
SUMMARY:SR - Red and White Day (Rain Date)
END:VEVENT
BEGIN:VEVENT
DTSTAMP:20260423T104240Z
UID:24ac7cdd-fd03-4e8a-a4dc-e8b6f466fe5a
DTSTART;VALUE=DATE:20260603
DTEND;VALUE=DATE:20260604
DESCRIPTION:
LOCATION:
SUMMARY:5th Grade Promotion Ceremony
END:VEVENT
BEGIN:VEVENT
DTSTAMP:20260423T104240Z
UID:f1c87060-15fe-4913-b3cf-8f23dd376f7c
DTSTART:20260603T093000
DTEND:20260603T103000
DESCRIPTION:
LOCATION:
SUMMARY:SR - 5th Grade Promotion Ceremony
END:VEVENT
BEGIN:VEVENT
DTSTAMP:20260423T104240Z
UID:6f9d9aba-562c-42c1-9142-7831131a1f0b
DTSTART:20260727T080000
DTEND:20260727T150000
DESCRIPTION:
LOCATION:
SUMMARY:Kindergarten Jumpstart
END:VEVENT
BEGIN:VEVENT
DTSTAMP:20260423T104240Z
UID:67513d44-a090-40b8-8be5-6529c7980359
DTSTART;VALUE=DATE:20260824
DTEND;VALUE=DATE:20260825
DESCRIPTION:
LOCATION:
SUMMARY:First Day of School - Stagger Start 
END:VEVENT
BEGIN:VEVENT
DTSTAMP:20260423T104240Z
UID:50a14aaa-50eb-4cf7-81ae-61291e3145e9
DTSTART;VALUE=DATE:20260825
DTEND;VALUE=DATE:20260826
DESCRIPTION:
LOCATION:
SUMMARY:First Day of School - Stagger Start 
END:VEVENT
BEGIN:VEVENT
DTSTAMP:20260423T104240Z
UID:fad36045-42d1-4f0a-ac90-3b47c3536a34
DTSTART;VALUE=DATE:20260826
DTEND;VALUE=DATE:20260827
DESCRIPTION:
LOCATION:
SUMMARY:First Day of School - Stagger Start 
END:VEVENT
BEGIN:VEVENT
DTSTAMP:20260423T104240Z
UID:2e491f4a-4e09-4353-af22-b9d98b4f49e3
DTSTART:20260901T180000
DTEND:20260901T190000
DESCRIPTION:
LOCATION:
SUMMARY:SR Meet the Teacher Night
END:VEVENT
BEGIN:VEVENT
DTSTAMP:20260423T104240Z
UID:83982e42-9876-4e0a-a8ce-44979dff71bb
DTSTART;VALUE=DATE:20260904
DTEND;VALUE=DATE:20260908
DESCRIPTION:
LOCATION:
SUMMARY:Labor Day Break
END:VEVENT
BEGIN:VEVENT
DTSTAMP:20260423T104240Z
UID:fb5c2b5e-f15f-4084-99f2-06722a11cbbc
DTSTART;VALUE=DATE:20260918
DTEND;VALUE=DATE:20260919
DESCRIPTION:
LOCATION:
SUMMARY:Teacher PL (No Students)
END:VEVENT
BEGIN:VEVENT
DTSTAMP:20260423T104240Z
UID:e600ab7f-3725-48e6-9a47-7c2801395b40
DTSTART;VALUE=DATE:20261009
DTEND;VALUE=DATE:20261010
DESCRIPTION:
LOCATION:
SUMMARY:Teacher PL (No Students)
END:VEVENT
BEGIN:VEVENT
DTSTAMP:20260423T104240Z
UID:c1739dd7-3919-4941-a40d-f0aca01a18d8
DTSTART;VALUE=DATE:20261012
DTEND;VALUE=DATE:20261013
DESCRIPTION:
LOCATION:
SUMMARY:Teacher PL (No Students)
END:VEVENT
BEGIN:VEVENT
DTSTAMP:20260423T104240Z
UID:f6cc2d5a-3980-480d-a0e1-3e9e7c8f7016
DTSTART;VALUE=DATE:20261103
DTEND;VALUE=DATE:20261104
DESCRIPTION:
LOCATION:
SUMMARY:Teacher PL (No Students)
END:VEVENT
BEGIN:VEVENT
DTSTAMP:20260423T104240Z
UID:21f15908-9edb-45f6-be43-d18d0683d4ae
DTSTART;VALUE=DATE:20261123
DTEND;VALUE=DATE:20261124
DESCRIPTION:
LOCATION:
SUMMARY:1/2 Day Dismissal\; Conferences
END:VEVENT
BEGIN:VEVENT
DTSTAMP:20260423T104240Z
UID:a335295e-20f1-4067-8bc7-ba2675c4eb24
DTSTART:20261123T170000
DTEND:20261123T200000
DESCRIPTION:
LOCATION:
SUMMARY:Parent Teacher Conferences
END:VEVENT
BEGIN:VEVENT
DTSTAMP:20260423T104240Z
UID:0d5b634e-ef8a-468d-b102-16fb442d0148
DTSTART;VALUE=DATE:20261124
DTEND;VALUE=DATE:20261125
DESCRIPTION:
LOCATION:
SUMMARY:1/2 Day Dismissal\; Conferences
END:VEVENT
BEGIN:VEVENT
DTSTAMP:20260423T104240Z
UID:5e3ee5e6-59ef-4d01-812e-c1fddb62fa36
DTSTART;VALUE=DATE:20261125
DTEND;VALUE=DATE:20261126
DESCRIPTION:
LOCATION:
SUMMARY:No Students (Replacement Day)
END:VEVENT
BEGIN:VEVENT
DTSTAMP:20260423T104240Z
UID:761e9182-898a-4d98-91a8-7cfd9323b314
DTSTART;VALUE=DATE:20261223
DTEND;VALUE=DATE:20270102
DESCRIPTION:
LOCATION:
SUMMARY:Winter Break
END:VEVENT
BEGIN:VEVENT
DTSTAMP:20260423T104240Z
UID:ec6e7fe9-89e1-4243-8614-b43a438ae3c5
DTSTART;VALUE=DATE:20270118
DTEND;VALUE=DATE:20270119
DESCRIPTION:
LOCATION:
SUMMARY:M.L. King\, Jr. Day Holiday
END:VEVENT
BEGIN:VEVENT
DTSTAMP:20260423T104240Z
UID:d2be8258-06cf-4d46-b06d-be92d02ae820
DTSTART;VALUE=DATE:20270212
DTEND;VALUE=DATE:20270213
DESCRIPTION:
LOCATION:
SUMMARY:Teacher PL (No Students)
END:VEVENT
BEGIN:VEVENT
DTSTAMP:20260423T104240Z
UID:b6fb2452-41f1-4ee2-912c-82eebaefbff5
DTSTART;VALUE=DATE:20270215
DTEND;VALUE=DATE:20270216
DESCRIPTION:
LOCATION:
SUMMARY:President's Day Holiday - School Closed
END:VEVENT
BEGIN:VEVENT
DTSTAMP:20260423T104240Z
UID:57d2ac81-e50b-415b-a736-d61297141399
DTSTART;VALUE=DATE:20270304
DTEND;VALUE=DATE:20270305
DESCRIPTION:
LOCATION:
SUMMARY:End of K-8th - 2nd Trimester
END:VEVENT
BEGIN:VEVENT
DTSTAMP:20260423T104240Z
UID:97760623-ba57-4af7-b965-d7faeca4189b
DTSTART;VALUE=DATE:20270311
DTEND;VALUE=DATE:20270312
DESCRIPTION:
LOCATION:
SUMMARY:PM Conferences
END:VEVENT
BEGIN:VEVENT
DTSTAMP:20260423T104240Z
UID:9cd34c8e-e7c7-4e53-bc3c-a71eb3966d35
DTSTART:20270311T170000
DTEND:20270311T200000
DESCRIPTION:
LOCATION:
SUMMARY:PM Conferences
END:VEVENT
BEGIN:VEVENT
DTSTAMP:20260423T104240Z
UID:212dbc6b-6dea-4372-a775-66fb75c8889b
DTSTART;VALUE=DATE:20270312
DTEND;VALUE=DATE:20270313
DESCRIPTION:
LOCATION:
SUMMARY:Parent/Teacher Conferences - No Students
END:VEVENT
BEGIN:VEVENT
DTSTAMP:20260423T104240Z
UID:93b30ba8-b6c0-4fc6-aac4-eb24cd1e3396
DTSTART;VALUE=DATE:20270322
DTEND;VALUE=DATE:20270323
DESCRIPTION:
LOCATION:
SUMMARY:Spring Break (Potential Weather Make-Up Day)
END:VEVENT
BEGIN:VEVENT
DTSTAMP:20260423T104240Z
UID:ee947ff9-c720-4d62-8503-ebbc4d867f8e
DTSTART;VALUE=DATE:20270323
DTEND;VALUE=DATE:20270330
DESCRIPTION:
LOCATION:
SUMMARY:Spring Break
END:VEVENT
END:VCALENDAR
