BEGIN:VCALENDAR
VERSION:2.0
PRODID:icalendar-ruby
CALSCALE:GREGORIAN
BEGIN:VTIMEZONE
TZID:America/New_York
BEGIN:DAYLIGHT
DTSTART:20260308T030000
TZOFFSETFROM:-0500
TZOFFSETTO:-0400
RRULE:FREQ=YEARLY;BYDAY=2SU;BYMONTH=3
TZNAME:EDT
END:DAYLIGHT
BEGIN:STANDARD
DTSTART:20261101T010000
TZOFFSETFROM:-0400
TZOFFSETTO:-0500
RRULE:FREQ=YEARLY;BYDAY=1SU;BYMONTH=11
TZNAME:EST
END:STANDARD
END:VTIMEZONE
BEGIN:VEVENT
DTSTAMP:20260423T160511Z
UID:d94e0c13-1f7d-40bf-a8e3-52f2cbf8e2aa
DTSTART:20260423T080000
DTEND:20260423T110000
DESCRIPTION:
LOCATION:
SUMMARY:PSSA Testing (ELA) Grades 6-8
END:VEVENT
BEGIN:VEVENT
DTSTAMP:20260423T160511Z
UID:3225bd21-821f-4f21-ac7b-c0b40a639c46
DTSTART:20260427T080000
DTEND:20260427T110000
DESCRIPTION:
LOCATION:
SUMMARY:PSSA Testing (Math) Grades 6-8
END:VEVENT
BEGIN:VEVENT
DTSTAMP:20260423T160511Z
UID:0e2dd093-a8eb-40c0-8cb5-9f6427ba7a51
DTSTART:20260428T080000
DTEND:20260428T110000
DESCRIPTION:
LOCATION:
SUMMARY:PSSA Testing (Math) Grades 6-8
END:VEVENT
BEGIN:VEVENT
DTSTAMP:20260423T160511Z
UID:348d210d-aa78-4396-b358-0e38807daf8f
DTSTART:20260429T080000
DTEND:20260429T110000
DESCRIPTION:
LOCATION:
SUMMARY:PSSA Testing (Science) Grade 8 Only
END:VEVENT
BEGIN:VEVENT
DTSTAMP:20260423T160511Z
UID:8dc6bd0f-c2d9-4da2-ad46-d849120df472
DTSTART:20260430T080000
DTEND:20260430T110000
DESCRIPTION:
LOCATION:
SUMMARY:PSSA Testing (Science) Grade 8 Only
END:VEVENT
BEGIN:VEVENT
DTSTAMP:20260423T160511Z
UID:8db5bc12-e4bb-4aac-a371-a18ce8f1204e
DTSTART:20260508T190000
DTEND:20260509T070000
DESCRIPTION:
LOCATION:
SUMMARY:Student Council Lock In
END:VEVENT
BEGIN:VEVENT
DTSTAMP:20260423T160511Z
UID:72182f21-068c-4e1c-a585-80ee5611d9a8
DTSTART:20260513T190000
DTEND:20260513T203000
DESCRIPTION:
LOCATION:Wilson Southern Middle School\, 3100 Iroquois Ave\, Reading\, PA 1
 9608\, USA
SUMMARY:🎶 6th Grade Concert (Band/Chorus/Orchestra)
END:VEVENT
BEGIN:VEVENT
DTSTAMP:20260423T160511Z
UID:04f25d26-0067-45d1-b072-f8e636779c00
DTSTART:20260514T190000
DTEND:20260514T203000
DESCRIPTION:
LOCATION:Wilson Southern Middle School\, 3100 Iroquois Ave\, Reading\, PA 1
 9608\, USA
SUMMARY:🎶 7/8 Chorus
END:VEVENT
BEGIN:VEVENT
DTSTAMP:20260423T160511Z
UID:ff5b25d8-064f-4762-820a-1e6493268d0e
DTSTART:20260521T190000
DTEND:20260521T203000
DESCRIPTION:
LOCATION:Wilson Southern Middle School\, 3100 Iroquois Ave\, Reading\, PA 1
 9608\, USA
SUMMARY:🎶 7/8 Band & Orchestra
END:VEVENT
BEGIN:VEVENT
DTSTAMP:20260423T160511Z
UID:5b5fe339-cd0c-4766-8afa-e83169ecd6cf
DTSTART;VALUE=DATE:20260525
DTEND;VALUE=DATE:20260526
DESCRIPTION:
LOCATION:
SUMMARY:Memorial Day- No School for Students or Staff
END:VEVENT
END:VCALENDAR
