BEGIN:VCALENDAR
VERSION:2.0
PRODID:icalendar-ruby
CALSCALE:GREGORIAN
BEGIN:VTIMEZONE
TZID:America/New_York
BEGIN:DAYLIGHT
DTSTART:20260308T030000
TZOFFSETFROM:-0500
TZOFFSETTO:-0400
RRULE:FREQ=YEARLY;BYDAY=2SU;BYMONTH=3
TZNAME:EDT
END:DAYLIGHT
BEGIN:STANDARD
DTSTART:20261101T010000
TZOFFSETFROM:-0400
TZOFFSETTO:-0500
RRULE:FREQ=YEARLY;BYDAY=1SU;BYMONTH=11
TZNAME:EST
END:STANDARD
END:VTIMEZONE
BEGIN:VEVENT
DTSTAMP:20260425T192150Z
UID:fa2e92de-1c34-48c8-bd0b-e6c349e1ab5d
DTSTART;VALUE=DATE:20260505
DTEND;VALUE=DATE:20260506
DESCRIPTION:Concert time: 7pm
LOCATION:
SUMMARY:GV Spring Concert - West Middle School
END:VEVENT
BEGIN:VEVENT
DTSTAMP:20260425T192150Z
UID:b850bc16-f45a-4eb6-86f7-cf7db071ed81
DTSTART:20260511T180000
DTEND:20260511T200000
DESCRIPTION:
LOCATION:
SUMMARY:GV Student Showcase
END:VEVENT
BEGIN:VEVENT
DTSTAMP:20260425T192150Z
UID:63b6b14c-cff8-40ea-baef-b622275add82
DTSTART;VALUE=DATE:20260520
DTEND;VALUE=DATE:20260521
DESCRIPTION:
LOCATION:
SUMMARY:GV Red and White Day
END:VEVENT
BEGIN:VEVENT
DTSTAMP:20260425T192150Z
UID:d16d0b2e-dcfb-4799-ae4b-1080c8e94d4c
DTSTART;VALUE=DATE:20260521
DTEND;VALUE=DATE:20260522
DESCRIPTION:
LOCATION:
SUMMARY:GV Red & White Day (rain date)
END:VEVENT
BEGIN:VEVENT
DTSTAMP:20260425T192150Z
UID:8a9e1df4-9378-40d1-a27f-9d9c1cc13d44
DTSTART;VALUE=DATE:20260525
DTEND;VALUE=DATE:20260526
DESCRIPTION:
LOCATION:
SUMMARY:Memorial Day- No School for Students or Staff
END:VEVENT
END:VCALENDAR
