BEGIN:VCALENDAR
VERSION:2.0
PRODID:icalendar-ruby
CALSCALE:GREGORIAN
BEGIN:VTIMEZONE
TZID:America/New_York
BEGIN:DAYLIGHT
DTSTART:20260308T030000
TZOFFSETFROM:-0500
TZOFFSETTO:-0400
RRULE:FREQ=YEARLY;BYDAY=2SU;BYMONTH=3
TZNAME:EDT
END:DAYLIGHT
BEGIN:STANDARD
DTSTART:20261101T010000
TZOFFSETFROM:-0400
TZOFFSETTO:-0500
RRULE:FREQ=YEARLY;BYDAY=1SU;BYMONTH=11
TZNAME:EST
END:STANDARD
END:VTIMEZONE
BEGIN:VEVENT
DTSTAMP:20260425T165951Z
UID:9eca5d94-3318-4422-b5e9-37cf61d5636d
DTSTART;VALUE=DATE:20260428
DTEND;VALUE=DATE:20260429
DESCRIPTION:10:55-11:40AM ANDERSON\n11:40-12:25PM JALETTE
LOCATION:DES
SUMMARY:DES GR5 DARE ANDERSON/JALETTE
END:VEVENT
BEGIN:VEVENT
DTSTAMP:20260425T165951Z
UID:b112a456-7b74-422e-9c73-c2914314bdf9
DTSTART;VALUE=DATE:20260428
DTEND;VALUE=DATE:20260429
DESCRIPTION:
LOCATION:DES
SUMMARY:DES GR 5 MCAS SCIENCE TENTATIVE DATE
END:VEVENT
BEGIN:VEVENT
DTSTAMP:20260425T165951Z
UID:11b5a92e-7e01-4949-87d8-14e72120a9a8
DTSTART;VALUE=DATE:20260428
DTEND;VALUE=DATE:20260429
DESCRIPTION:JESSICA MONTANARI PTP
LOCATION:DES CAFE
SUMMARY:DES PTO FAMILY LEGO BUILD NIGHT 5:00-7:30PM
END:VEVENT
BEGIN:VEVENT
DTSTAMP:20260425T165951Z
UID:6c2e861d-4c7e-46d7-ac43-bd4b442e0de7
DTSTART;VALUE=DATE:20260429
DTEND;VALUE=DATE:20260430
DESCRIPTION:
LOCATION:DES
SUMMARY:DES GR 5 MCAS SCIENCE TENTATIVE DATE
END:VEVENT
BEGIN:VEVENT
DTSTAMP:20260425T165951Z
UID:4b66ba2d-4dce-4028-9f57-9bf104253300
DTSTART:20260429T173000
DTEND:20260429T190000
DESCRIPTION:Starts today and goes every other Wednesday.  Another girl sco
 ut troop is also on a Wednesday opposite this troop.
LOCATION:DES LIBRARY
SUMMARY:GIRL SCOUTS GR K & 1 (KATEY MORIN 774-551-6280)
END:VEVENT
BEGIN:VEVENT
DTSTAMP:20260425T165951Z
UID:57c6b474-e07e-418f-9b83-98360c98f0bf
DTSTART;VALUE=DATE:20260430
DTEND;VALUE=DATE:20260501
DESCRIPTION:10:55-11:40AM BERTONE\n11:40-12:25PM RUSACK
LOCATION:DES
SUMMARY:DES GR 5 DARE BERTONE/RUSACK
END:VEVENT
BEGIN:VEVENT
DTSTAMP:20260425T165951Z
UID:8569212a-9bcd-496c-ba4d-28947365d947
DTSTART;VALUE=DATE:20260430
DTEND;VALUE=DATE:20260501
DESCRIPTION:
LOCATION:DES
SUMMARY:DES GR 5 MCAS SCIENCE TENTATIVE DATE
END:VEVENT
BEGIN:VEVENT
DTSTAMP:20260425T165951Z
UID:feb06d32-3e9d-4fa6-8484-f740fcb33e79
DTSTART;VALUE=DATE:20260504
DTEND;VALUE=DATE:20260505
DESCRIPTION:
LOCATION:DES
SUMMARY:DES GR 3 MCAS MATH TENTATIVE DATE
END:VEVENT
BEGIN:VEVENT
DTSTAMP:20260425T165951Z
UID:eb674236-21a0-4977-8768-5f49f47d690a
DTSTART;VALUE=DATE:20260505
DTEND;VALUE=DATE:20260506
DESCRIPTION:
LOCATION:DES
SUMMARY:DES GR 3 MCAS MATH TENTATIVE DATE
END:VEVENT
BEGIN:VEVENT
DTSTAMP:20260425T165951Z
UID:c20a2c60-e9a1-4862-b968-9c22281ef67b
DTSTART;VALUE=DATE:20260505
DTEND;VALUE=DATE:20260506
DESCRIPTION:10:55-11:40AM ANDERSON\n11:40-12:25PM JALETTE
LOCATION:DES
SUMMARY:DES GR5 DARE ANDERSON/JALETTE
END:VEVENT
BEGIN:VEVENT
DTSTAMP:20260425T165951Z
UID:e3b291ba-f6ce-4f09-ba98-c53bf7fb872b
DTSTART;VALUE=DATE:20260505
DTEND;VALUE=DATE:20260506
DESCRIPTION:
LOCATION:DES
SUMMARY:DES GR 5 MCAS SCIENCE MAKEUP TENTATIVE DATE
END:VEVENT
BEGIN:VEVENT
DTSTAMP:20260425T165951Z
UID:5e2c3d57-3aee-4101-a204-264944ee3d5a
DTSTART;VALUE=DATE:20260506
DTEND;VALUE=DATE:20260507
DESCRIPTION:
LOCATION:DES
SUMMARY:DES GR 3 MCAS MATH TENTATIVE DATE
END:VEVENT
BEGIN:VEVENT
DTSTAMP:20260425T165951Z
UID:8d2a5b23-fa25-4085-b000-35c724ccbda8
DTSTART;VALUE=DATE:20260506
DTEND;VALUE=DATE:20260507
DESCRIPTION:
LOCATION:DES
SUMMARY:DES GR 5 MCAS SCIENCE MAKEUP TENTATIVE DATE
END:VEVENT
BEGIN:VEVENT
DTSTAMP:20260425T165951Z
UID:871b1a96-d3e3-426d-b49f-ede6cf9569e9
DTSTART;VALUE=DATE:20260507
DTEND;VALUE=DATE:20260508
DESCRIPTION:10:55-11:40AM BERTONE\n11:40-12:25PM RUSACK
LOCATION:DES
SUMMARY:DES GR 5 DARE BERTONE/RUSACK
END:VEVENT
BEGIN:VEVENT
DTSTAMP:20260425T165951Z
UID:185b263d-0dbe-4691-a38f-6a95d698997c
DTSTART;VALUE=DATE:20260507
DTEND;VALUE=DATE:20260508
DESCRIPTION:
LOCATION:DES
SUMMARY:DES GR 5 MCAS SCIENCE MAKEUP TENTATIVE DATE
END:VEVENT
BEGIN:VEVENT
DTSTAMP:20260425T165951Z
UID:f95ca1ed-ae6c-4b73-a226-e73ad74cd549
DTSTART:20260508T110000
DTEND:20260508T130000
DESCRIPTION:
LOCATION:
SUMMARY:PTO School Store
END:VEVENT
BEGIN:VEVENT
DTSTAMP:20260425T165951Z
UID:c1ea1779-efc5-4bcc-a1ee-987ef2f4f1dc
DTSTART;VALUE=DATE:20260511
DTEND;VALUE=DATE:20260512
DESCRIPTION:
LOCATION:DES
SUMMARY:DES GR 4 MCAS MATH TENTATIVE DATE
END:VEVENT
BEGIN:VEVENT
DTSTAMP:20260425T165951Z
UID:f804a49c-3d63-43a7-a0b5-88211f2db7bc
DTSTART;VALUE=DATE:20260512
DTEND;VALUE=DATE:20260513
DESCRIPTION:
LOCATION:DES
SUMMARY:DES GR 4 MCAS MATH TENTATIVE DATE
END:VEVENT
BEGIN:VEVENT
DTSTAMP:20260425T165951Z
UID:a6298e57-ff0e-4922-a5cd-b487c135e49d
DTSTART;VALUE=DATE:20260512
DTEND;VALUE=DATE:20260513
DESCRIPTION:10:55-11:40AM ANDERSON\n11:40-12:25PM JALETTE
LOCATION:DES
SUMMARY:DES GR5 DARE ANDERSON/JALETTE
END:VEVENT
BEGIN:VEVENT
DTSTAMP:20260425T165951Z
UID:e2170511-d572-4549-89aa-a3895d389c81
DTSTART;VALUE=DATE:20260512
DTEND;VALUE=DATE:20260513
DESCRIPTION:
LOCATION:DES
SUMMARY:DES GR 5 MCAS MATH TENTATIVE DATE
END:VEVENT
BEGIN:VEVENT
DTSTAMP:20260425T165951Z
UID:47aab1a4-8014-4431-9365-673ac2b4cac7
DTSTART:20260512T183000
DTEND:20260512T193000
DESCRIPTION:
LOCATION:DES Library
SUMMARY:Douglas PTO Meeting
END:VEVENT
BEGIN:VEVENT
DTSTAMP:20260425T165951Z
UID:a073a869-9b08-4e28-8a8d-793cf9d3e5bc
DTSTART;VALUE=DATE:20260513
DTEND;VALUE=DATE:20260514
DESCRIPTION:
LOCATION:DES
SUMMARY:DES GR 4 MCAS MATH TENTATIVE DATE
END:VEVENT
BEGIN:VEVENT
DTSTAMP:20260425T165951Z
UID:6825c35e-78cc-4dc5-b386-2c28f434f9ed
DTSTART;VALUE=DATE:20260513
DTEND;VALUE=DATE:20260514
DESCRIPTION:
LOCATION:DES
SUMMARY:DES GR 5 MCAS MATH TENTATIVE DATE
END:VEVENT
BEGIN:VEVENT
DTSTAMP:20260425T165951Z
UID:c0d55535-78a2-40c1-b743-de9e82eaa97f
DTSTART:20260513T173000
DTEND:20260513T190000
DESCRIPTION:Starts today and goes every other Wednesday.  Another girl sco
 ut troop is also on a Wednesday opposite this troop.
LOCATION:DES LIBRARY
SUMMARY:GIRL SCOUTS GR K & 1 (KATEY MORIN 774-551-6280)
END:VEVENT
BEGIN:VEVENT
DTSTAMP:20260425T165951Z
UID:74dfc251-19f5-47e6-afa9-64653c4d465b
DTSTART;VALUE=DATE:20260514
DTEND;VALUE=DATE:20260515
DESCRIPTION:10:55-11:40AM BERTONE\n11:40-12:25PM RUSACK
LOCATION:DES
SUMMARY:DES GR 5 DARE BERTONE/RUSACK
END:VEVENT
BEGIN:VEVENT
DTSTAMP:20260425T165951Z
UID:d10456a0-8137-4960-a402-c16ac78a9f94
DTSTART;VALUE=DATE:20260514
DTEND;VALUE=DATE:20260515
DESCRIPTION:
LOCATION:DES
SUMMARY:DES GR 5 MCAS MATH TENTATIVE DATE
END:VEVENT
BEGIN:VEVENT
DTSTAMP:20260425T165951Z
UID:bd3e7001-5c97-4f7c-9418-241be85592d9
DTSTART;VALUE=DATE:20260518
DTEND;VALUE=DATE:20260519
DESCRIPTION:
LOCATION:
SUMMARY:STAR Testing Window 
END:VEVENT
BEGIN:VEVENT
DTSTAMP:20260425T165951Z
UID:da5fa543-25e0-4455-8c57-24e070519b0c
DTSTART;VALUE=DATE:20260519
DTEND;VALUE=DATE:20260520
DESCRIPTION:10:55-11:40AM ANDERSON\n11:40-12:25PM JALETTE
LOCATION:DES
SUMMARY:DES GR5 DARE ANDERSON/JALETTE
END:VEVENT
BEGIN:VEVENT
DTSTAMP:20260425T165951Z
UID:ce223986-be11-4f28-a4a9-1ec98a62ac71
DTSTART;VALUE=DATE:20260520
DTEND;VALUE=DATE:20260521
DESCRIPTION:
LOCATION:DES
SUMMARY:DES GRS 3\, 4 & 5 MCAS MATH MAKEUP TENTATIVE DATE
END:VEVENT
BEGIN:VEVENT
DTSTAMP:20260425T165951Z
UID:bbd09f8d-014f-407e-a64c-293614e6a438
DTSTART;VALUE=DATE:20260521
DTEND;VALUE=DATE:20260522
DESCRIPTION:10:55-11:40AM BERTONE\n11:40-12:25PM RUSACK
LOCATION:DES
SUMMARY:DES GR 5 DARE BERTONE/RUSACK
END:VEVENT
BEGIN:VEVENT
DTSTAMP:20260425T165951Z
UID:46cae256-da23-48b2-92b3-2aa9d3fb0a44
DTSTART;VALUE=DATE:20260521
DTEND;VALUE=DATE:20260522
DESCRIPTION:
LOCATION:DES
SUMMARY:DES GRS 3\, 4\, & 5 MCAS MATH MAKEUP TENTATIVE DATE
END:VEVENT
BEGIN:VEVENT
DTSTAMP:20260425T165951Z
UID:cab6fe36-c7ea-45bc-917d-3a28758214a0
DTSTART;VALUE=DATE:20260521
DTEND;VALUE=DATE:20260522
DESCRIPTION:DES GRADE 4 (9:45am)
LOCATION:RHODE ISLAND
SUMMARY:DES RI PHILHARMONIC ORCHESTRA FIELD TRIP GR 4
END:VEVENT
BEGIN:VEVENT
DTSTAMP:20260425T165951Z
UID:d71a5ec9-6bff-450d-9a9a-36b2db9c2be6
DTSTART;VALUE=DATE:20260521
DTEND;VALUE=DATE:20260522
DESCRIPTION:Doors open at 5:45pm
LOCATION:DES
SUMMARY:RELATED ARTS NIGHT/PTO FAMILY PICNIC starts 5:45pm
END:VEVENT
BEGIN:VEVENT
DTSTAMP:20260425T165951Z
UID:57580ef7-0a0e-4149-b733-e1f56f2836c0
DTSTART;VALUE=DATE:20260522
DTEND;VALUE=DATE:20260523
DESCRIPTION:
LOCATION:DES
SUMMARY:DES GRS 3\, 4 & 5 MCAS MATH MAKEUP TENTATIVE DATE
END:VEVENT
BEGIN:VEVENT
DTSTAMP:20260425T165951Z
UID:102a00d6-dfda-45f7-b0cf-42a9e668e77e
DTSTART;VALUE=DATE:20260523
DTEND;VALUE=DATE:20260526
DESCRIPTION:
LOCATION:
SUMMARY:Recharge Weekend
END:VEVENT
BEGIN:VEVENT
DTSTAMP:20260425T165951Z
UID:6394116c-b278-48cc-a43f-bddbe5ee39b3
DTSTART;VALUE=DATE:20260525
DTEND;VALUE=DATE:20260526
DESCRIPTION:
LOCATION:
SUMMARY:Memorial Day-  No School
END:VEVENT
BEGIN:VEVENT
DTSTAMP:20260425T165951Z
UID:6cdb1a17-8875-40ce-81cf-c6732720c0d4
DTSTART;VALUE=DATE:20260526
DTEND;VALUE=DATE:20260527
DESCRIPTION:HANOVER THEATER WORCESTER MA
LOCATION:HANOVER THEATER
SUMMARY:DES GRADE 2 HANOVER THEATER FIELD TRIP
END:VEVENT
BEGIN:VEVENT
DTSTAMP:20260425T165951Z
UID:b0096416-89ef-4855-957d-3c0762740d8f
DTSTART;VALUE=DATE:20260527
DTEND;VALUE=DATE:20260528
DESCRIPTION:
LOCATION:DES TRACK
SUMMARY:DES WALK-A-THON 7:30AM-2:30PM rain date 5/28/26
END:VEVENT
BEGIN:VEVENT
DTSTAMP:20260425T165951Z
UID:b83413bf-4e07-41f0-90e0-bf34753c8072
DTSTART:20260527T173000
DTEND:20260527T190000
DESCRIPTION:Starts today and goes every other Wednesday.  Another girl sco
 ut troop is also on a Wednesday opposite this troop.
LOCATION:DES LIBRARY
SUMMARY:GIRL SCOUTS GR K & 1 (KATEY MORIN 774-551-6280)
END:VEVENT
BEGIN:VEVENT
DTSTAMP:20260425T165951Z
UID:eb2c1948-48dc-4eb6-b161-3d97af8dd66d
DTSTART;VALUE=DATE:20260528
DTEND;VALUE=DATE:20260529
DESCRIPTION:
LOCATION:DES TRACK
SUMMARY:DES WALK-A-THON RAIN DATE 7:30AM-2:30PM
END:VEVENT
BEGIN:VEVENT
DTSTAMP:20260425T165951Z
UID:a82e24c9-b0ba-42f3-a1dd-d10fac7856fa
DTSTART;VALUE=DATE:20260603
DTEND;VALUE=DATE:20260604
DESCRIPTION:
LOCATION:
SUMMARY:Trimester 3 Ends
END:VEVENT
BEGIN:VEVENT
DTSTAMP:20260425T165951Z
UID:60e866aa-9701-47ad-afe3-2b1d0b1473a8
DTSTART;VALUE=DATE:20260603
DTEND;VALUE=DATE:20260604
DESCRIPTION:
LOCATION:POLAR PARK WORCESTER\, MA
SUMMARY:DES GRADE 5 FIELD TRIP WOO SOX POLAR PARK
END:VEVENT
BEGIN:VEVENT
DTSTAMP:20260425T165951Z
UID:6b4f25e1-21c7-437a-8a77-08f12a929839
DTSTART;VALUE=DATE:20260604
DTEND;VALUE=DATE:20260605
DESCRIPTION:
LOCATION:DES FIELDS\, PLAYSCAPE AND TRACK
SUMMARY:DES FIELD DAY 8:30AM-2:30PM (RAIN DATE 6/5/25)
END:VEVENT
BEGIN:VEVENT
DTSTAMP:20260425T165951Z
UID:309a1ec5-88a3-4acf-a112-7c881af36632
DTSTART;VALUE=DATE:20260605
DTEND;VALUE=DATE:20260606
DESCRIPTION:
LOCATION:DES FIELDS\, PLAYSCAPE AND TRACK
SUMMARY:DES FIELD DAY RAIN DATE 8:30AM-2:30PM
END:VEVENT
BEGIN:VEVENT
DTSTAMP:20260425T165951Z
UID:55967be3-505c-4f7b-95bb-0aac5ee519b3
DTSTART;VALUE=DATE:20260609
DTEND;VALUE=DATE:20260610
DESCRIPTION:DES GRADE 4 FIELD TRIP TENTATIVE DATE
LOCATION:Samuel Slater Experience\, 31 Ray St\, Webster\, MA 01570\, USA
SUMMARY:DES GRADE 4 FIELD TRIP SAMUEL SLATER (TENTATIVE)
END:VEVENT
BEGIN:VEVENT
DTSTAMP:20260425T165951Z
UID:8e2c3706-06bf-445b-99d7-2c27fc398e1b
DTSTART:20260609T183000
DTEND:20260609T193000
DESCRIPTION:
LOCATION:DES Library
SUMMARY:Douglas PTO Meeting
END:VEVENT
BEGIN:VEVENT
DTSTAMP:20260425T165951Z
UID:fd54149a-ba55-4665-b619-b0eaf1e12c0c
DTSTART;VALUE=DATE:20260610
DTEND;VALUE=DATE:20260611
DESCRIPTION:DES GRADE 4 FIELD TRIP TENTATIVE DATE
LOCATION:Samuel Slater Experience\, 31 Ray St\, Webster\, MA 01570\, USA
SUMMARY:DES GRADE 4 FIELD TRIP SAMUEL SLATER (TENTATIVE)
END:VEVENT
BEGIN:VEVENT
DTSTAMP:20260425T165951Z
UID:1a2814d1-9f95-4727-aa2a-598ac3d7927e
DTSTART:20260610T173000
DTEND:20260610T190000
DESCRIPTION:Starts today and goes every other Wednesday.  Another girl sco
 ut troop is also on a Wednesday opposite this troop.
LOCATION:DES LIBRARY
SUMMARY:GIRL SCOUTS GR K & 1 (KATEY MORIN 774-551-6280)
END:VEVENT
BEGIN:VEVENT
DTSTAMP:20260425T165951Z
UID:ebaeabff-8d0e-4f06-8aab-2207e798f4f9
DTSTART;VALUE=DATE:20260611
DTEND;VALUE=DATE:20260612
DESCRIPTION:
LOCATION:DES FIELD/DMS AUDITORIUM IF RAINING
SUMMARY:DES GR 5 GRADUATION 1:00-2:00PM
END:VEVENT
END:VCALENDAR
