BEGIN:VCALENDAR
VERSION:2.0
PRODID:icalendar-ruby
CALSCALE:GREGORIAN
BEGIN:VTIMEZONE
TZID:America/Chicago
BEGIN:DAYLIGHT
DTSTART:20260308T030000
TZOFFSETFROM:-0600
TZOFFSETTO:-0500
RRULE:FREQ=YEARLY;BYDAY=2SU;BYMONTH=3
TZNAME:CDT
END:DAYLIGHT
BEGIN:STANDARD
DTSTART:20261101T010000
TZOFFSETFROM:-0500
TZOFFSETTO:-0600
RRULE:FREQ=YEARLY;BYDAY=1SU;BYMONTH=11
TZNAME:CST
END:STANDARD
END:VTIMEZONE
BEGIN:VEVENT
DTSTAMP:20260419T194810Z
UID:cbb77090-2bea-43e5-a85d-6062f9358ff6
DTSTART;VALUE=DATE:20260513
DTEND;VALUE=DATE:20260514
DESCRIPTION:<p>Last College T-Shirt Day of the School Year! Let's inspire o
 ur Lil' Jays to explore higher education early and Dream BIG! 🏫💙📚
 📗📓📒 #NISD #Collegebound #Early Education</p>
LOCATION:3600 Margaret St\, Needville\, TX 77461\, USA
SUMMARY:College T-Shirt Day 
END:VEVENT
END:VCALENDAR
