BEGIN:VCALENDAR
VERSION:2.0
PRODID:icalendar-ruby
CALSCALE:GREGORIAN
BEGIN:VTIMEZONE
TZID:America/Chicago
BEGIN:DAYLIGHT
DTSTART:20260308T030000
TZOFFSETFROM:-0600
TZOFFSETTO:-0500
RRULE:FREQ=YEARLY;BYDAY=2SU;BYMONTH=3
TZNAME:CDT
END:DAYLIGHT
BEGIN:STANDARD
DTSTART:20261101T010000
TZOFFSETFROM:-0500
TZOFFSETTO:-0600
RRULE:FREQ=YEARLY;BYDAY=1SU;BYMONTH=11
TZNAME:CST
END:STANDARD
END:VTIMEZONE
BEGIN:VEVENT
DTSTAMP:20260419T215011Z
UID:d934b3ae-0235-4305-b18c-4a3cdfa7c7e1
DTSTART;VALUE=DATE:20260421
DTEND;VALUE=DATE:20260422
DESCRIPTION:
LOCATION:
SUMMARY:8th Grade Math STAAR Test
END:VEVENT
BEGIN:VEVENT
DTSTAMP:20260419T215011Z
UID:36e416e4-26cb-4333-b0f0-8995935dbddf
DTSTART;VALUE=DATE:20260421
DTEND;VALUE=DATE:20260422
DESCRIPTION:
LOCATION:
SUMMARY:Algebra 1 End of Course Test
END:VEVENT
BEGIN:VEVENT
DTSTAMP:20260419T215011Z
UID:4ff0bf92-5298-4995-901b-5817bbfa02da
DTSTART;VALUE=DATE:20260430
DTEND;VALUE=DATE:20260501
DESCRIPTION:
LOCATION:
SUMMARY:Progress Reports Go Out
END:VEVENT
BEGIN:VEVENT
DTSTAMP:20260419T215011Z
UID:690ce448-f9db-4558-a3c4-172104bc4a8d
DTSTART;VALUE=DATE:20260501
DTEND;VALUE=DATE:20260502
DESCRIPTION:
LOCATION:
SUMMARY:Needville Youth Fair Holiday - No School
END:VEVENT
BEGIN:VEVENT
DTSTAMP:20260419T215011Z
UID:df5bbd9c-3308-4cc2-88f2-a8f383e7386e
DTSTART;VALUE=DATE:20260504
DTEND;VALUE=DATE:20260505
DESCRIPTION:
LOCATION:
SUMMARY:Progress Reports Due Back
END:VEVENT
BEGIN:VEVENT
DTSTAMP:20260419T215011Z
UID:3fc22b4c-edea-486e-9b21-5c966713fc43
DTSTART;VALUE=DATE:20260515
DTEND;VALUE=DATE:20260516
DESCRIPTION:
LOCATION:
SUMMARY:Needville High School Graduation
END:VEVENT
BEGIN:VEVENT
DTSTAMP:20260419T215011Z
UID:9fbbc09d-962f-43b6-8764-0788044b0f9b
DTSTART;VALUE=DATE:20260518
DTEND;VALUE=DATE:20260522
DESCRIPTION:
LOCATION:
SUMMARY:Early Release
END:VEVENT
BEGIN:VEVENT
DTSTAMP:20260419T215011Z
UID:c1bec357-3bc7-46c1-ad06-a3b39c7e517b
DTSTART;VALUE=DATE:20260518
DTEND;VALUE=DATE:20260522
DESCRIPTION:
LOCATION:
SUMMARY:Spring Semester Exams
END:VEVENT
END:VCALENDAR
