BEGIN:VCALENDAR
VERSION:2.0
PRODID:icalendar-ruby
CALSCALE:GREGORIAN
BEGIN:VTIMEZONE
TZID:America/Chicago
BEGIN:DAYLIGHT
DTSTART:20260308T030000
TZOFFSETFROM:-0600
TZOFFSETTO:-0500
RRULE:FREQ=YEARLY;BYDAY=2SU;BYMONTH=3
TZNAME:CDT
END:DAYLIGHT
BEGIN:STANDARD
DTSTART:20261101T010000
TZOFFSETFROM:-0500
TZOFFSETTO:-0600
RRULE:FREQ=YEARLY;BYDAY=1SU;BYMONTH=11
TZNAME:CST
END:STANDARD
END:VTIMEZONE
BEGIN:VEVENT
DTSTAMP:20260424T090936Z
UID:dd4db50b-fe06-4276-8c69-00d423252f3e
DTSTART;VALUE=DATE:20260413
DTEND;VALUE=DATE:20260502
DESCRIPTION:<p><strong>STAAR Testing Notice – No Lunch Visitors</strong><
 /p><p>During our STAAR testing window\, campus will be closed to lunch vis
 itors to ensure a quiet and secure testing environment for all students. T
 his will be in effect for the full three weeks of testing.</p><p>We apprec
 iate your understanding and support as we help our students stay focused a
 nd do their very best.</p>
LOCATION:
SUMMARY:Closed Campus - No Lunch Visitors 
END:VEVENT
BEGIN:VEVENT
DTSTAMP:20260424T090936Z
UID:265ac66f-3f47-4520-9a44-d13c6a27800d
DTSTART:20260424T070000
DTEND:20260424T073000
DESCRIPTION:<p>Hosted by Schultz PTO.  Bring your dad\, grandpa\, or uncle 
 and join us for donuts\, juice\, and coffee!</p><p>An RSVP form was sent h
 ome.  Please return promptly so we can plan ahead!</p><p></p>
LOCATION:Schultz Cafeteria
SUMMARY:Donuts with Dudes
END:VEVENT
BEGIN:VEVENT
DTSTAMP:20260424T090936Z
UID:4c79ebf2-6f98-485e-8f6e-5d94c9c84b3a
DTSTART;VALUE=DATE:20260428
DTEND;VALUE=DATE:20260429
DESCRIPTION:<p></p>
LOCATION:
SUMMARY:STAAR - Math
END:VEVENT
BEGIN:VEVENT
DTSTAMP:20260424T090936Z
UID:80467e07-5bf8-4a38-9efe-13bfe9176ee0
DTSTART:20260515T080000
DTEND:20260515T090000
DESCRIPTION:<p>Please turn in ALL library books or pay fines  in <a target=
 "_blank" rel="noopener noreferrer nofollow" href="https://kleinisd.schoolc
 ashonline.com/" relative-link="">SchoolCash </a>by May 15th!</p><p></p>
LOCATION:Schultz Library
SUMMARY:All Library Books are DUE!
END:VEVENT
BEGIN:VEVENT
DTSTAMP:20260424T090936Z
UID:4f4aa59f-7db9-470e-8a64-d43af3b0fd05
DTSTART;VALUE=DATE:20260525
DTEND;VALUE=DATE:20260526
DESCRIPTION:
LOCATION:
SUMMARY:Memorial Day (Student & Staff Holiday)
END:VEVENT
BEGIN:VEVENT
DTSTAMP:20260424T090936Z
UID:f8f00ef6-86f8-4e76-9d4b-cc0d686c3686
DTSTART;VALUE=DATE:20260526
DTEND;VALUE=DATE:20260529
DESCRIPTION:
LOCATION:
SUMMARY:Early Dismissal for High School Students
END:VEVENT
BEGIN:VEVENT
DTSTAMP:20260424T090936Z
UID:4ee030b1-c159-402f-83f9-fdd8b0937e16
DTSTART;VALUE=DATE:20260528
DTEND;VALUE=DATE:20260529
DESCRIPTION:
LOCATION:
SUMMARY:Last Day of School / End of Grading Period 4
END:VEVENT
BEGIN:VEVENT
DTSTAMP:20260424T090936Z
UID:f4081ccf-f0fc-4734-8dc8-4196965a619d
DTSTART;VALUE=DATE:20260529
DTEND;VALUE=DATE:20260530
DESCRIPTION:
LOCATION:
SUMMARY:Teacher & Staff Workday
END:VEVENT
BEGIN:VEVENT
DTSTAMP:20260424T090936Z
UID:ac7883e6-b601-42ee-8188-535e5504ef40
DTSTART;VALUE=DATE:20260601
DTEND;VALUE=DATE:20260603
DESCRIPTION:
LOCATION:
SUMMARY:Teacher & Staff Workdays
END:VEVENT
BEGIN:VEVENT
DTSTAMP:20260424T090936Z
UID:d44be7c6-6ad0-467e-9c2e-abf4b65da4ee
DTSTART;VALUE=DATE:20260603
DTEND;VALUE=DATE:20260604
DESCRIPTION:
LOCATION:
SUMMARY:Teacher Exchange Day
END:VEVENT
BEGIN:VEVENT
DTSTAMP:20260424T090936Z
UID:b5e8bfb0-9e1a-4d1b-ba83-46b589e254fa
DTSTART;VALUE=DATE:20260703
DTEND;VALUE=DATE:20260704
DESCRIPTION:
LOCATION:
SUMMARY:Independence Day (Observed Staff Holiday)
END:VEVENT
BEGIN:VEVENT
DTSTAMP:20260424T090936Z
UID:037af1be-f61b-4198-b48f-c82a2ab829b1
DTSTART;VALUE=DATE:20260704
DTEND;VALUE=DATE:20260705
DESCRIPTION:
LOCATION:
SUMMARY:Independence Day
END:VEVENT
BEGIN:VEVENT
DTSTAMP:20260424T090936Z
UID:8b2a3b77-576c-4cd6-8611-5590a3b8b3f7
DTSTART;VALUE=DATE:20260803
DTEND;VALUE=DATE:20260808
DESCRIPTION:
LOCATION:
SUMMARY:Teacher & Staff Workdays
END:VEVENT
BEGIN:VEVENT
DTSTAMP:20260424T090936Z
UID:012eb495-566b-4c37-a3f9-986858358fc7
DTSTART;VALUE=DATE:20260810
DTEND;VALUE=DATE:20260812
DESCRIPTION:
LOCATION:
SUMMARY:Teacher & Staff Workdays
END:VEVENT
BEGIN:VEVENT
DTSTAMP:20260424T090936Z
UID:c5b5dee3-559d-4a97-9d2a-4ea172b29a57
DTSTART;VALUE=DATE:20260812
DTEND;VALUE=DATE:20260813
DESCRIPTION:
LOCATION:
SUMMARY:First Day of School
END:VEVENT
BEGIN:VEVENT
DTSTAMP:20260424T090936Z
UID:0c4a8ad5-c85a-445f-ba53-5aa65a925ed1
DTSTART;VALUE=DATE:20260907
DTEND;VALUE=DATE:20260908
DESCRIPTION:
LOCATION:
SUMMARY:Labor Day (Student & Staff Holiday)
END:VEVENT
BEGIN:VEVENT
DTSTAMP:20260424T090936Z
UID:d281836e-7753-4af9-b66b-7c1ee95b54fd
DTSTART;VALUE=DATE:20260918
DTEND;VALUE=DATE:20260919
DESCRIPTION:
LOCATION:
SUMMARY:Student Holiday / Teacher & Staff Workday
END:VEVENT
BEGIN:VEVENT
DTSTAMP:20260424T090936Z
UID:aba0fb65-b33f-4d56-869d-54801e2bad2e
DTSTART;VALUE=DATE:20261009
DTEND;VALUE=DATE:20261010
DESCRIPTION:
LOCATION:
SUMMARY:End of Grading Period 1
END:VEVENT
BEGIN:VEVENT
DTSTAMP:20260424T090936Z
UID:7ffda4e1-db3a-49fe-b7d0-4d6b7ffe2dc1
DTSTART;VALUE=DATE:20261012
DTEND;VALUE=DATE:20261017
DESCRIPTION:
LOCATION:
SUMMARY:Fall Break (Student & Staff Holiday)
END:VEVENT
BEGIN:VEVENT
DTSTAMP:20260424T090936Z
UID:ece8c632-1a7a-4409-b4d6-61089ef4dbe8
DTSTART;VALUE=DATE:20261019
DTEND;VALUE=DATE:20261020
DESCRIPTION:
LOCATION:
SUMMARY:First day of Grading Period 2
END:VEVENT
BEGIN:VEVENT
DTSTAMP:20260424T090936Z
UID:64d51924-8adb-456d-a4da-779d57f573fd
DTSTART;VALUE=DATE:20261103
DTEND;VALUE=DATE:20261104
DESCRIPTION:
LOCATION:
SUMMARY:Election Day (Student Holiday / Teacher & Staff Holiday)
END:VEVENT
BEGIN:VEVENT
DTSTAMP:20260424T090936Z
UID:58915ba6-a9fa-4ae1-bf80-385f15a5072d
DTSTART;VALUE=DATE:20261123
DTEND;VALUE=DATE:20261128
DESCRIPTION:
LOCATION:
SUMMARY:Thanksgiving Break (Student & Staff Holiday)
END:VEVENT
BEGIN:VEVENT
DTSTAMP:20260424T090936Z
UID:a760fc96-2634-45f9-a891-600bc7e84df9
DTSTART;VALUE=DATE:20261218
DTEND;VALUE=DATE:20261219
DESCRIPTION:
LOCATION:
SUMMARY:Last Day of 1st Semester / End of Grading Period 2
END:VEVENT
BEGIN:VEVENT
DTSTAMP:20260424T090936Z
UID:42408a21-a8a2-4cb2-9432-cfe4931a3cc9
DTSTART;VALUE=DATE:20261221
DTEND;VALUE=DATE:20261226
DESCRIPTION:
LOCATION:
SUMMARY:Winter Break (Student & Staff Holiday)
END:VEVENT
BEGIN:VEVENT
DTSTAMP:20260424T090936Z
UID:8ec6cbe6-6769-45b4-8174-650ae17fe014
DTSTART;VALUE=DATE:20261228
DTEND;VALUE=DATE:20270102
DESCRIPTION:
LOCATION:
SUMMARY:Winter Break (Student & Staff Holiday)
END:VEVENT
BEGIN:VEVENT
DTSTAMP:20260424T090936Z
UID:78a6230b-218a-404a-908d-bb5033a742f5
DTSTART;VALUE=DATE:20270104
DTEND;VALUE=DATE:20270106
DESCRIPTION:
LOCATION:
SUMMARY:Student Holiday / Teacher & Staff Workday
END:VEVENT
BEGIN:VEVENT
DTSTAMP:20260424T090936Z
UID:e024bb1b-b955-4445-a601-214e02446ca0
DTSTART;VALUE=DATE:20270106
DTEND;VALUE=DATE:20270107
DESCRIPTION:
LOCATION:
SUMMARY:First Day of Grading Period 3
END:VEVENT
BEGIN:VEVENT
DTSTAMP:20260424T090936Z
UID:3b812c4a-a116-4e36-a305-cc1d5c353a12
DTSTART;VALUE=DATE:20270118
DTEND;VALUE=DATE:20270119
DESCRIPTION:
LOCATION:
SUMMARY:Birthday of Martin Luther King\, Jr. (Student & Staff Holiday)
END:VEVENT
BEGIN:VEVENT
DTSTAMP:20260424T090936Z
UID:9b16186a-7bb6-40f1-adc4-8457c978fdcf
DTSTART;VALUE=DATE:20270208
DTEND;VALUE=DATE:20270211
DESCRIPTION:
LOCATION:
SUMMARY:Mid-Winter Break (Student Holiday / Teacher & Staff Workdays)
END:VEVENT
BEGIN:VEVENT
DTSTAMP:20260424T090936Z
UID:8551674c-ac17-4e90-a518-70e68eb9ebff
DTSTART;VALUE=DATE:20270211
DTEND;VALUE=DATE:20270213
DESCRIPTION:
LOCATION:
SUMMARY:Mid-Winter Break (Student & Staff Holiday)
END:VEVENT
BEGIN:VEVENT
DTSTAMP:20260424T090936Z
UID:f22d1211-bb19-4eec-8897-180ed9c520b0
DTSTART;VALUE=DATE:20270215
DTEND;VALUE=DATE:20270216
DESCRIPTION:
LOCATION:
SUMMARY:Presidents Day (Student & Staff Holiday)
END:VEVENT
BEGIN:VEVENT
DTSTAMP:20260424T090936Z
UID:c9c5ffdd-1625-4ada-b03b-78c8ecce9c1c
DTSTART;VALUE=DATE:20270312
DTEND;VALUE=DATE:20270313
DESCRIPTION:
LOCATION:
SUMMARY:End of Grading Period 3
END:VEVENT
BEGIN:VEVENT
DTSTAMP:20260424T090936Z
UID:3a8d8998-4aec-41d5-a699-4f51cb709c1c
DTSTART;VALUE=DATE:20270315
DTEND;VALUE=DATE:20270320
DESCRIPTION:
LOCATION:
SUMMARY:Spring Break (Student & Staff Holiday)
END:VEVENT
BEGIN:VEVENT
DTSTAMP:20260424T090936Z
UID:ce1366ac-24fb-49f6-876d-0d7f59345baf
DTSTART;VALUE=DATE:20270322
DTEND;VALUE=DATE:20270323
DESCRIPTION:
LOCATION:
SUMMARY:First Day of Grading Period 4
END:VEVENT
BEGIN:VEVENT
DTSTAMP:20260424T090936Z
UID:a0969536-872d-4797-8d00-41c0f28ffd6b
DTSTART;VALUE=DATE:20270326
DTEND;VALUE=DATE:20270327
DESCRIPTION:
LOCATION:
SUMMARY:Student & Staff Holiday
END:VEVENT
BEGIN:VEVENT
DTSTAMP:20260424T090936Z
UID:9ae82885-2b20-4c5f-a3a8-e7b161235922
DTSTART;VALUE=DATE:20270416
DTEND;VALUE=DATE:20270417
DESCRIPTION:
LOCATION:
SUMMARY:Student Holiday / Teacher & Staff Workday
END:VEVENT
BEGIN:VEVENT
DTSTAMP:20260424T090936Z
UID:c02be4cc-6c7f-49d7-a83c-7deab43a722d
DTSTART;VALUE=DATE:20270528
DTEND;VALUE=DATE:20270529
DESCRIPTION:
LOCATION:
SUMMARY:Last Day of School / End of Grading Period 4
END:VEVENT
BEGIN:VEVENT
DTSTAMP:20260424T090936Z
UID:2edda764-2066-4af6-819c-227eb3cd4608
DTSTART;VALUE=DATE:20270531
DTEND;VALUE=DATE:20270601
DESCRIPTION:
LOCATION:
SUMMARY:Memorial Day (Staff Holiday)
END:VEVENT
BEGIN:VEVENT
DTSTAMP:20260424T090936Z
UID:4925674e-3cbe-4ea2-8c01-9b9b583b2af1
DTSTART;VALUE=DATE:20270601
DTEND;VALUE=DATE:20270604
DESCRIPTION:
LOCATION:
SUMMARY:Teacher & Staff Workdays
END:VEVENT
END:VCALENDAR
