BEGIN:VCALENDAR
VERSION:2.0
PRODID:icalendar-ruby
CALSCALE:GREGORIAN
BEGIN:VTIMEZONE
TZID:America/Los_Angeles
BEGIN:DAYLIGHT
DTSTART:20260308T030000
TZOFFSETFROM:-0800
TZOFFSETTO:-0700
RRULE:FREQ=YEARLY;BYDAY=2SU;BYMONTH=3
TZNAME:PDT
END:DAYLIGHT
BEGIN:STANDARD
DTSTART:20261101T010000
TZOFFSETFROM:-0700
TZOFFSETTO:-0800
RRULE:FREQ=YEARLY;BYDAY=1SU;BYMONTH=11
TZNAME:PST
END:STANDARD
END:VTIMEZONE
BEGIN:VEVENT
DTSTAMP:20260421T165135Z
UID:d6bdc6c3-6aaa-493d-8025-58b3d6ab2a52
DTSTART:20260422T190000
DTEND:20260422T210000
DESCRIPTION:<p>The meeting will be broadcast live via YouTube at this link:
  <a target="_blank" rel="noopener noreferrer nofollow" href="https://www.y
 outube.com/@moscowschooldistrict2816/streams">https://www.youtube.com/@mos
 cowschooldistrict2816/streams</a></p><p><a target="_blank" rel="noopener n
 oreferrer nofollow" href="https://msd281.community.diligentoneplatform.com
 /Portal/"><strong>Click Here For Upcoming Meeting Agenda Access</strong></
 a></p><p><br></p>
LOCATION:1410 E D St\, Moscow\, ID 83843\, USA
SUMMARY:Regular Board Meeting
END:VEVENT
BEGIN:VEVENT
DTSTAMP:20260421T165135Z
UID:202d4d87-3a1f-4952-aa7b-37ef47b53d0f
DTSTART:20260429T160000
DTEND:20260429T190000
DESCRIPTION:<p>Meetings are open to the public.</p><p>The purpose of this m
 eeting and the following meetings will be to discuss and address negotiati
 ons between the Moscow School District and the Moscow Education Associatio
 n through the Interest-Based Bargaining Committee.</p><p>To view the live 
 meeting online\, click on the following link: <a target="_blank" rel="noop
 ener noreferrer nofollow" href="https://www.youtube.com/@moscowschooldistr
 ict2816/streams">https://www.youtube.com/@moscowschooldistrict2816/streams
 </a></p><p>2026 meetings:</p><ul><li><p><s>First meeting: April 8\, 2026\,
  4 pm.</s></p></li><li><p><s>2nd meeting: April 15\, 2026\, 4:30-7:30 pm</
 s></p></li><li><p>3rd meeting: April 29\, 2026\, 4-7 pm</p></li><li><p>4th
  meeting: May 6\, 20265-8 pm</p></li></ul><p style="text-align: center"><e
 m>Meeting dates are only tentative and can be subject to change.</em></p>
LOCATION:650 N Cleveland St\, Moscow\, ID 83843\, USA
SUMMARY:Interest Based Bargaining Meeting 
END:VEVENT
BEGIN:VEVENT
DTSTAMP:20260421T165135Z
UID:200f8d90-9968-47a7-8a45-655184974577
DTSTART:20260506T170000
DTEND:20260506T200000
DESCRIPTION:<p>Meetings are open to the public.</p><p>The purpose of this m
 eeting and the following meetings will be to discuss and address negotiati
 ons between the Moscow School District and the Moscow Education Associatio
 n through the Interest-Based Bargaining Committee.</p><p>To view the live 
 meeting online\, click on the following link: <a target="_blank" rel="noop
 ener noreferrer nofollow" href="https://www.youtube.com/@moscowschooldistr
 ict2816/streams">https://www.youtube.com/@moscowschooldistrict2816/streams
 </a></p><p>2026 meetings:</p><ul><li><p><s>First meeting: April 8\, 2026\,
  4 pm.</s></p></li><li><p><s>2nd meeting: April 15\, 2026\, 4:30-7:30 pm</
 s></p></li><li><p><s>3rd meeting: April 29\, 2026\, 4-7 pm</s></p></li><li
 ><p>4th meeting: May 6\, 2026\, 5-8 pm</p></li></ul><p style="text-align: 
 center"><em>Meeting dates are only tentative and can be subject to change.
 </em></p>
LOCATION:650 N Cleveland St\, Moscow\, ID 83843\, USA
SUMMARY:Interest Based Bargaining Meeting
END:VEVENT
BEGIN:VEVENT
DTSTAMP:20260421T165135Z
UID:6fb87cea-cd98-4f5a-a7e7-3cc98be8603a
DTSTART;VALUE=DATE:20260518
DTEND;VALUE=DATE:20260519
DESCRIPTION:
LOCATION:
SUMMARY:No School - Professional Development Day
END:VEVENT
BEGIN:VEVENT
DTSTAMP:20260421T165135Z
UID:bae0e0d2-709e-41c1-ab5c-f7cebc06ee53
DTSTART;VALUE=DATE:20260525
DTEND;VALUE=DATE:20260526
DESCRIPTION:
LOCATION:
SUMMARY:No School – Memorial Day 
END:VEVENT
BEGIN:VEVENT
DTSTAMP:20260421T165135Z
UID:ec371307-886b-4fbf-9ee2-ebe96eaafa47
DTSTART:20260527T190000
DTEND:20260527T210000
DESCRIPTION:<p>The meeting will be broadcast live via YouTube at this link:
  <a target="_blank" rel="noopener noreferrer nofollow" href="https://www.y
 outube.com/@moscowschooldistrict2816/streams">https://www.youtube.com/@mos
 cowschooldistrict2816/streams</a></p><p><a target="_blank" rel="noopener n
 oreferrer nofollow" href="https://msd281.community.diligentoneplatform.com
 /Portal/"><strong>Click Here For Upcoming Meeting Agenda Access</strong></
 a></p><p><br></p>
LOCATION:650 N Cleveland St\, Moscow\, ID 83843\, USA
SUMMARY:Regular Board Meeting
END:VEVENT
BEGIN:VEVENT
DTSTAMP:20260421T165135Z
UID:94a9da40-9e57-42e2-9c05-bf6c88e38128
DTSTART;VALUE=DATE:20260603
DTEND;VALUE=DATE:20260604
DESCRIPTION:
LOCATION:
SUMMARY:End of 2nd Semester
END:VEVENT
BEGIN:VEVENT
DTSTAMP:20260421T165135Z
UID:4ef1e636-0749-4fc4-a787-5fa92298eeb6
DTSTART;VALUE=DATE:20260603
DTEND;VALUE=DATE:20260604
DESCRIPTION:
LOCATION:
SUMMARY:Last Day for Students – 1:30 Release
END:VEVENT
BEGIN:VEVENT
DTSTAMP:20260421T165135Z
UID:e2c3a61b-8557-4581-a12b-aadc82911db9
DTSTART;VALUE=DATE:20260605
DTEND;VALUE=DATE:20260606
DESCRIPTION:
LOCATION:
SUMMARY:MHS Graduation
END:VEVENT
BEGIN:VEVENT
DTSTAMP:20260421T165135Z
UID:af5f8074-54da-481c-b01f-d3946f744b49
DTSTART:20260623T190000
DTEND:20260623T210000
DESCRIPTION:<p>The meeting will be broadcast live via YouTube at this link:
  <a target="_blank" rel="noopener noreferrer nofollow" href="https://www.y
 outube.com/@moscowschooldistrict2816/streams">https://www.youtube.com/@mos
 cowschooldistrict2816/streams</a></p><p><a target="_blank" rel="noopener n
 oreferrer nofollow" href="https://msd281.community.diligentoneplatform.com
 /Portal/"><strong>Click Here For Upcoming Meeting Agenda Access</strong></
 a></p><p><br></p>
LOCATION:650 N Cleveland St\, Moscow\, ID 83843\, USA
SUMMARY:Regular Board Meeting
END:VEVENT
BEGIN:VEVENT
DTSTAMP:20260421T165135Z
UID:64e41159-e4b8-4e9e-9b93-58705e082e8a
DTSTART:20260722T190000
DTEND:20260722T210000
DESCRIPTION:<p>The meeting will be broadcast live via YouTube at this link:
  <a target="_blank" rel="noopener noreferrer nofollow" href="https://www.y
 outube.com/@moscowschooldistrict2816/streams">https://www.youtube.com/@mos
 cowschooldistrict2816/streams</a></p><p><a target="_blank" rel="noopener n
 oreferrer nofollow" href="https://msd281.community.diligentoneplatform.com
 /Portal/"><strong>Click Here For Upcoming Meeting Agenda Access</strong></
 a></p><p><br></p>
LOCATION:650 N Cleveland St\, Moscow\, ID 83843\, USA
SUMMARY:Regular Board Meeting
END:VEVENT
BEGIN:VEVENT
DTSTAMP:20260421T165135Z
UID:9818e332-f8bd-4d36-aabd-d08853240e6e
DTSTART:20260826T190000
DTEND:20260826T210000
DESCRIPTION:<p>The meeting will be broadcast live via YouTube at this link:
  <a target="_blank" rel="noopener noreferrer nofollow" href="https://www.y
 outube.com/@moscowschooldistrict2816/streams">https://www.youtube.com/@mos
 cowschooldistrict2816/streams</a></p><p><a target="_blank" rel="noopener n
 oreferrer nofollow" href="https://msd281.community.diligentoneplatform.com
 /Portal/"><strong>Click Here For Upcoming Meeting Agenda Access</strong></
 a></p><p><br></p>
LOCATION:650 N Cleveland St\, Moscow\, ID 83843\, USA
SUMMARY:Regular Board Meeting
END:VEVENT
BEGIN:VEVENT
DTSTAMP:20260421T165135Z
UID:be60802f-6d5a-4792-9d06-a2d0703580ad
DTSTART:20260923T190000
DTEND:20260923T210000
DESCRIPTION:<p>The meeting will be broadcast live via YouTube at this link:
  <a target="_blank" rel="noopener noreferrer nofollow" href="https://www.y
 outube.com/@moscowschooldistrict2816/streams">https://www.youtube.com/@mos
 cowschooldistrict2816/streams</a></p><p><a target="_blank" rel="noopener n
 oreferrer nofollow" href="https://msd281.community.diligentoneplatform.com
 /Portal/"><strong>Click Here For Upcoming Meeting Agenda Access</strong></
 a></p><p><br></p>
LOCATION:650 N Cleveland St\, Moscow\, ID 83843\, USA
SUMMARY:Regular Board Meeting
END:VEVENT
BEGIN:VEVENT
DTSTAMP:20260421T165135Z
UID:428425b3-fd2f-4526-8376-6d76198f7917
DTSTART:20261028T190000
DTEND:20261028T210000
DESCRIPTION:<p>The meeting will be broadcast live via YouTube at this link:
  <a target="_blank" rel="noopener noreferrer nofollow" href="https://www.y
 outube.com/@moscowschooldistrict2816/streams">https://www.youtube.com/@mos
 cowschooldistrict2816/streams</a></p><p><a target="_blank" rel="noopener n
 oreferrer nofollow" href="https://msd281.community.diligentoneplatform.com
 /Portal/"><strong>Click Here For Upcoming Meeting Agenda Access</strong></
 a></p><p><br></p>
LOCATION:650 N Cleveland St\, Moscow\, ID 83843\, USA
SUMMARY:Regular Board Meeting
END:VEVENT
BEGIN:VEVENT
DTSTAMP:20260421T165135Z
UID:b1d780e9-b766-43b7-a7aa-febb12890c6e
DTSTART:20261118T190000
DTEND:20261118T210000
DESCRIPTION:<p>The meeting will be broadcast live via YouTube at this link:
  <a target="_blank" rel="noopener noreferrer nofollow" href="https://www.y
 outube.com/@moscowschooldistrict2816/streams">https://www.youtube.com/@mos
 cowschooldistrict2816/streams</a></p><p><a target="_blank" rel="noopener n
 oreferrer nofollow" href="https://msd281.community.diligentoneplatform.com
 /Portal/"><strong>Click Here For Upcoming Meeting Agenda Access</strong></
 a></p><p><br></p>
LOCATION:2323 E D St\, Moscow\, ID 83843\, USA
SUMMARY:Regular Board Meeting
END:VEVENT
BEGIN:VEVENT
DTSTAMP:20260421T165135Z
UID:0061831a-5287-42df-8ed3-0efba5bd99a0
DTSTART:20261216T190000
DTEND:20261216T210000
DESCRIPTION:<p>The meeting will be broadcast live via YouTube at this link:
  <a target="_blank" rel="noopener noreferrer nofollow" href="https://www.y
 outube.com/@moscowschooldistrict2816/streams">https://www.youtube.com/@mos
 cowschooldistrict2816/streams</a></p><p><a target="_blank" rel="noopener n
 oreferrer nofollow" href="https://msd281.community.diligentoneplatform.com
 /Portal/"><strong>Click Here For Upcoming Meeting Agenda Access</strong></
 a></p><p><br></p>
LOCATION:402 E 5th St\, Moscow\, ID 83843\, USA
SUMMARY:Regular Board Meeting
END:VEVENT
BEGIN:VEVENT
DTSTAMP:20260421T165135Z
UID:0f2dbf20-d046-491e-84be-7aa0e630c218
DTSTART:20270127T190000
DTEND:20270127T210000
DESCRIPTION:<p>The meeting will be broadcast live via YouTube at this link:
  <a target="_blank" rel="noopener noreferrer nofollow" href="https://www.y
 outube.com/@moscowschooldistrict2816/streams">https://www.youtube.com/@mos
 cowschooldistrict2816/streams</a></p><p><a target="_blank" rel="noopener n
 oreferrer nofollow" href="https://msd281.community.diligentoneplatform.com
 /Portal/"><strong>Click Here For Upcoming Meeting Agenda Access</strong></
 a></p><p><br></p>
LOCATION:650 N Cleveland St\, Moscow\, ID 83843\, USA
SUMMARY:Annual Meeting & Regular Board Meeting
END:VEVENT
END:VCALENDAR
