BEGIN:VCALENDAR
VERSION:2.0
PRODID:icalendar-ruby
CALSCALE:GREGORIAN
BEGIN:VTIMEZONE
TZID:America/Denver
BEGIN:DAYLIGHT
DTSTART:20260308T030000
TZOFFSETFROM:-0700
TZOFFSETTO:-0600
RRULE:FREQ=YEARLY;BYDAY=2SU;BYMONTH=3
TZNAME:MDT
END:DAYLIGHT
BEGIN:STANDARD
DTSTART:20261101T010000
TZOFFSETFROM:-0600
TZOFFSETTO:-0700
RRULE:FREQ=YEARLY;BYDAY=1SU;BYMONTH=11
TZNAME:MST
END:STANDARD
END:VTIMEZONE
BEGIN:VEVENT
DTSTAMP:20260421T163407Z
UID:88b566c0-2896-4f54-b01b-9bb01d2e4188
DTSTART:20260422T093000
DTEND:20260422T101500
DESCRIPTION:
LOCATION:
SUMMARY:Coffee Talk/Cafecito
END:VEVENT
BEGIN:VEVENT
DTSTAMP:20260421T163407Z
UID:a506cd5b-d1d1-4a94-a3f2-8c160a8bc66e
DTSTART:20260513T093000
DTEND:20260513T101500
DESCRIPTION:
LOCATION:
SUMMARY:Coffee Talk/Cafecito
END:VEVENT
END:VCALENDAR
