BEGIN:VCALENDAR
VERSION:2.0
PRODID:icalendar-ruby
CALSCALE:GREGORIAN
BEGIN:VTIMEZONE
TZID:America/Chicago
BEGIN:DAYLIGHT
DTSTART:20260308T030000
TZOFFSETFROM:-0600
TZOFFSETTO:-0500
RRULE:FREQ=YEARLY;BYDAY=2SU;BYMONTH=3
TZNAME:CDT
END:DAYLIGHT
BEGIN:STANDARD
DTSTART:20261101T010000
TZOFFSETFROM:-0500
TZOFFSETTO:-0600
RRULE:FREQ=YEARLY;BYDAY=1SU;BYMONTH=11
TZNAME:CST
END:STANDARD
END:VTIMEZONE
BEGIN:VEVENT
DTSTAMP:20260421T152213Z
UID:c5a740a9-fb07-478c-9f13-f8df5749190a
DTSTART;VALUE=DATE:20260521
DTEND;VALUE=DATE:20260522
DESCRIPTION:
LOCATION:
SUMMARY:Last Day for Students 60% Day
END:VEVENT
BEGIN:VEVENT
DTSTAMP:20260421T152213Z
UID:851db687-7c0e-4ecb-80b1-cc9c2d5d68e5
DTSTART;VALUE=DATE:20260522
DTEND;VALUE=DATE:20260523
DESCRIPTION:
LOCATION:
SUMMARY:Professional Development- Last Day for Teachers 🎉
END:VEVENT
END:VCALENDAR
