BEGIN:VCALENDAR
VERSION:2.0
PRODID:icalendar-ruby
CALSCALE:GREGORIAN
BEGIN:VTIMEZONE
TZID:America/Chicago
BEGIN:DAYLIGHT
DTSTART:20260308T030000
TZOFFSETFROM:-0600
TZOFFSETTO:-0500
RRULE:FREQ=YEARLY;BYDAY=2SU;BYMONTH=3
TZNAME:CDT
END:DAYLIGHT
BEGIN:STANDARD
DTSTART:20261101T010000
TZOFFSETFROM:-0500
TZOFFSETTO:-0600
RRULE:FREQ=YEARLY;BYDAY=1SU;BYMONTH=11
TZNAME:CST
END:STANDARD
END:VTIMEZONE
BEGIN:VEVENT
DTSTAMP:20260420T220132Z
UID:dbcbb659-f05f-4eab-86be-5ec69d09ab11
DTSTART;VALUE=DATE:20260422
DTEND;VALUE=DATE:20260423
DESCRIPTION:
LOCATION:
SUMMARY:National Administrative Professional Day 
END:VEVENT
BEGIN:VEVENT
DTSTAMP:20260420T220132Z
UID:ab564689-d199-4643-9d4f-63b96e89eab0
DTSTART;VALUE=DATE:20260501
DTEND;VALUE=DATE:20260502
DESCRIPTION:
LOCATION:
SUMMARY:Lunch Hero Day 
END:VEVENT
BEGIN:VEVENT
DTSTAMP:20260420T220132Z
UID:7374f19e-8c79-4d41-aae8-3ab1fc09d0ee
DTSTART;VALUE=DATE:20260501
DTEND;VALUE=DATE:20260502
DESCRIPTION:
LOCATION:
SUMMARY:School Principal's Day 
END:VEVENT
BEGIN:VEVENT
DTSTAMP:20260420T220132Z
UID:f11e9fd7-434c-4498-b55c-97c616649532
DTSTART;VALUE=DATE:20260504
DTEND;VALUE=DATE:20260505
DESCRIPTION:
LOCATION:
SUMMARY:Teacher Appreciation Week 
END:VEVENT
BEGIN:VEVENT
DTSTAMP:20260420T220132Z
UID:9295a0a5-81a8-4e74-baef-6053388e730f
DTSTART;VALUE=DATE:20260505
DTEND;VALUE=DATE:20260506
DESCRIPTION:
LOCATION:
SUMMARY:Teacher Appreciation Week 
END:VEVENT
BEGIN:VEVENT
DTSTAMP:20260420T220132Z
UID:5abfaed7-3352-4ef6-bc09-f0cda1707082
DTSTART;VALUE=DATE:20260506
DTEND;VALUE=DATE:20260507
DESCRIPTION:
LOCATION:
SUMMARY:School Nurse Day 
END:VEVENT
BEGIN:VEVENT
DTSTAMP:20260420T220132Z
UID:abd21618-8ce5-4efa-b51b-8949461c647c
DTSTART;VALUE=DATE:20260506
DTEND;VALUE=DATE:20260507
DESCRIPTION:
LOCATION:
SUMMARY:Teacher Appreciation Week 
END:VEVENT
BEGIN:VEVENT
DTSTAMP:20260420T220132Z
UID:2fff82dd-bb96-495c-8918-559ce8ca3417
DTSTART;VALUE=DATE:20260507
DTEND;VALUE=DATE:20260508
DESCRIPTION:
LOCATION:
SUMMARY:Teacher Appreciation Week 
END:VEVENT
BEGIN:VEVENT
DTSTAMP:20260420T220132Z
UID:d1b42655-d471-4bf5-af06-88a76555829a
DTSTART;VALUE=DATE:20260508
DTEND;VALUE=DATE:20260509
DESCRIPTION:
LOCATION:
SUMMARY:Teacher Appreciation Week 
END:VEVENT
BEGIN:VEVENT
DTSTAMP:20260420T220132Z
UID:a77f7478-1fc8-4541-8079-608d2c66c941
DTSTART;VALUE=DATE:20260515
DTEND;VALUE=DATE:20260516
DESCRIPTION:
LOCATION:
SUMMARY:Speech Language Pathologist Day 
END:VEVENT
BEGIN:VEVENT
DTSTAMP:20260420T220132Z
UID:d2831853-aa0d-46a1-b331-c16e93ee78e8
DTSTART:20260518T080000
DTEND:20260518T093000
DESCRIPTION:
LOCATION:
SUMMARY:Benchmark Testing
END:VEVENT
BEGIN:VEVENT
DTSTAMP:20260420T220132Z
UID:5c4643ee-de2c-448d-a931-b0cf80eabf48
DTSTART:20260519T080000
DTEND:20260519T093000
DESCRIPTION:
LOCATION:
SUMMARY:Benchmark Testing
END:VEVENT
BEGIN:VEVENT
DTSTAMP:20260420T220132Z
UID:22d8bff4-5011-483f-be90-61291cfae5dd
DTSTART:20260520T080000
DTEND:20260520T090000
DESCRIPTION:
LOCATION:
SUMMARY:6th Grade Awards Program in Gym
END:VEVENT
BEGIN:VEVENT
DTSTAMP:20260420T220132Z
UID:7bc69b68-8602-45d3-8358-7765b157a283
DTSTART:20260520T090000
DTEND:20260520T100000
DESCRIPTION:
LOCATION:
SUMMARY:4th Grade Awards Program in Gym
END:VEVENT
BEGIN:VEVENT
DTSTAMP:20260420T220132Z
UID:bcc28c5a-ef04-45b1-8d98-3694a11aa47f
DTSTART:20260520T100000
DTEND:20260520T110000
DESCRIPTION:
LOCATION:
SUMMARY:3rd Grade Awards Program in Gym 
END:VEVENT
BEGIN:VEVENT
DTSTAMP:20260420T220132Z
UID:530eaf1e-d8c0-4540-ac80-91b871b81b74
DTSTART:20260520T110000
DTEND:20260520T120000
DESCRIPTION:
LOCATION:
SUMMARY:2nd Grade Awards Program in Gym
END:VEVENT
BEGIN:VEVENT
DTSTAMP:20260420T220132Z
UID:0c2cb24a-a6ba-4666-9757-8eb7c69a96bd
DTSTART:20260520T120000
DTEND:20260520T130000
DESCRIPTION:
LOCATION:
SUMMARY:1st Grade Awards Program in Gym 
END:VEVENT
BEGIN:VEVENT
DTSTAMP:20260420T220132Z
UID:2a31c673-43fa-4153-98c3-3db1a2a4f667
DTSTART;VALUE=DATE:20260521
DTEND;VALUE=DATE:20260522
DESCRIPTION:
LOCATION:
SUMMARY:Student's Last Day 60% day 
END:VEVENT
BEGIN:VEVENT
DTSTAMP:20260420T220132Z
UID:0e1c0a85-8889-4d81-8576-b9a2c73d691b
DTSTART:20260521T080000
DTEND:20260521T090000
DESCRIPTION:
LOCATION:
SUMMARY:5th Grade Awards Program in Gym 
END:VEVENT
BEGIN:VEVENT
DTSTAMP:20260420T220132Z
UID:2b174779-bc32-4005-98a6-df8f99c6b666
DTSTART;VALUE=DATE:20260603
DTEND;VALUE=DATE:20260604
DESCRIPTION:
LOCATION:
SUMMARY:Report Card Pick up
END:VEVENT
BEGIN:VEVENT
DTSTAMP:20260420T220132Z
UID:3ff094ec-0a4c-4c70-b467-7c441f66f954
DTSTART;VALUE=DATE:20260828
DTEND;VALUE=DATE:20260829
DESCRIPTION:
LOCATION:
SUMMARY:Counselor Kim's Birthday 
END:VEVENT
BEGIN:VEVENT
DTSTAMP:20260420T220132Z
UID:2b69072e-3ef6-4c19-9e14-df9e175e71fa
DTSTART;VALUE=DATE:20270828
DTEND;VALUE=DATE:20270829
DESCRIPTION:
LOCATION:
SUMMARY:Counselor Kim's Birthday 
END:VEVENT
BEGIN:VEVENT
DTSTAMP:20260420T220132Z
UID:12d17d6b-1418-40db-9d41-8bed0c1651eb
DTSTART;VALUE=DATE:20280828
DTEND;VALUE=DATE:20280829
DESCRIPTION:
LOCATION:
SUMMARY:Counselor Kim's Birthday 
END:VEVENT
BEGIN:VEVENT
DTSTAMP:20260420T220132Z
UID:de03666b-ab99-4fa6-a4f7-ef147d496468
DTSTART;VALUE=DATE:20290828
DTEND;VALUE=DATE:20290829
DESCRIPTION:
LOCATION:
SUMMARY:Counselor Kim's Birthday 
END:VEVENT
BEGIN:VEVENT
DTSTAMP:20260420T220132Z
UID:5256825b-7172-417a-b8ea-f0a2e6793719
DTSTART;VALUE=DATE:20300828
DTEND;VALUE=DATE:20300829
DESCRIPTION:
LOCATION:
SUMMARY:Counselor Kim's Birthday 
END:VEVENT
BEGIN:VEVENT
DTSTAMP:20260420T220132Z
UID:ab899c25-f946-488a-b43f-42e7d708fa13
DTSTART;VALUE=DATE:20310828
DTEND;VALUE=DATE:20310829
DESCRIPTION:
LOCATION:
SUMMARY:Counselor Kim's Birthday 
END:VEVENT
BEGIN:VEVENT
DTSTAMP:20260420T220132Z
UID:fcf651a8-0fe8-4a5a-b80a-63e736e34d17
DTSTART;VALUE=DATE:20320828
DTEND;VALUE=DATE:20320829
DESCRIPTION:
LOCATION:
SUMMARY:Counselor Kim's Birthday 
END:VEVENT
BEGIN:VEVENT
DTSTAMP:20260420T220132Z
UID:17562bb7-b833-4de2-8159-fa3cce59d33c
DTSTART;VALUE=DATE:20330828
DTEND;VALUE=DATE:20330829
DESCRIPTION:
LOCATION:
SUMMARY:Counselor Kim's Birthday 
END:VEVENT
BEGIN:VEVENT
DTSTAMP:20260420T220132Z
UID:0c9eef8c-f36a-4fad-85d8-8a35e07fb984
DTSTART;VALUE=DATE:20340828
DTEND;VALUE=DATE:20340829
DESCRIPTION:
LOCATION:
SUMMARY:Counselor Kim's Birthday 
END:VEVENT
BEGIN:VEVENT
DTSTAMP:20260420T220132Z
UID:f8f575da-ba23-451b-b5ed-fcd605f617ee
DTSTART;VALUE=DATE:20350828
DTEND;VALUE=DATE:20350829
DESCRIPTION:
LOCATION:
SUMMARY:Counselor Kim's Birthday 
END:VEVENT
BEGIN:VEVENT
DTSTAMP:20260420T220132Z
UID:b330f1a0-e066-455e-9689-23f1e95f7cab
DTSTART;VALUE=DATE:20360828
DTEND;VALUE=DATE:20360829
DESCRIPTION:
LOCATION:
SUMMARY:Counselor Kim's Birthday 
END:VEVENT
BEGIN:VEVENT
DTSTAMP:20260420T220132Z
UID:a775b974-24a8-4955-83a6-da418e736e5b
DTSTART;VALUE=DATE:20370828
DTEND;VALUE=DATE:20370829
DESCRIPTION:
LOCATION:
SUMMARY:Counselor Kim's Birthday 
END:VEVENT
BEGIN:VEVENT
DTSTAMP:20260420T220132Z
UID:40a8d64e-1f61-46be-b081-19b508d1497b
DTSTART;VALUE=DATE:20380828
DTEND;VALUE=DATE:20380829
DESCRIPTION:
LOCATION:
SUMMARY:Counselor Kim's Birthday 
END:VEVENT
BEGIN:VEVENT
DTSTAMP:20260420T220132Z
UID:798144b9-43c8-44fc-9884-c8fb64fb94d2
DTSTART;VALUE=DATE:20390828
DTEND;VALUE=DATE:20390829
DESCRIPTION:
LOCATION:
SUMMARY:Counselor Kim's Birthday 
END:VEVENT
BEGIN:VEVENT
DTSTAMP:20260420T220132Z
UID:2031b390-5e8e-4997-a875-c67ab7bd1f18
DTSTART;VALUE=DATE:20400828
DTEND;VALUE=DATE:20400829
DESCRIPTION:
LOCATION:
SUMMARY:Counselor Kim's Birthday 
END:VEVENT
BEGIN:VEVENT
DTSTAMP:20260420T220132Z
UID:8a7fa5fb-80fc-479f-9edb-aecab610a615
DTSTART;VALUE=DATE:20410828
DTEND;VALUE=DATE:20410829
DESCRIPTION:
LOCATION:
SUMMARY:Counselor Kim's Birthday 
END:VEVENT
BEGIN:VEVENT
DTSTAMP:20260420T220132Z
UID:f6a6172f-9787-45c7-a3c2-f3e89646c262
DTSTART;VALUE=DATE:20420828
DTEND;VALUE=DATE:20420829
DESCRIPTION:
LOCATION:
SUMMARY:Counselor Kim's Birthday 
END:VEVENT
BEGIN:VEVENT
DTSTAMP:20260420T220132Z
UID:1550c7c6-d09c-4088-b051-2f616beebaed
DTSTART;VALUE=DATE:20430828
DTEND;VALUE=DATE:20430829
DESCRIPTION:
LOCATION:
SUMMARY:Counselor Kim's Birthday 
END:VEVENT
BEGIN:VEVENT
DTSTAMP:20260420T220132Z
UID:e0ab3f7e-417e-4ab2-b321-d73531a31879
DTSTART;VALUE=DATE:20440828
DTEND;VALUE=DATE:20440829
DESCRIPTION:
LOCATION:
SUMMARY:Counselor Kim's Birthday 
END:VEVENT
BEGIN:VEVENT
DTSTAMP:20260420T220132Z
UID:0152e2f6-8903-4b05-b9f4-67de43960645
DTSTART;VALUE=DATE:20450828
DTEND;VALUE=DATE:20450829
DESCRIPTION:
LOCATION:
SUMMARY:Counselor Kim's Birthday 
END:VEVENT
BEGIN:VEVENT
DTSTAMP:20260420T220132Z
UID:8d0ae939-c2f7-4a09-b9cc-9b164d19a0f7
DTSTART;VALUE=DATE:20460828
DTEND;VALUE=DATE:20460829
DESCRIPTION:
LOCATION:
SUMMARY:Counselor Kim's Birthday 
END:VEVENT
BEGIN:VEVENT
DTSTAMP:20260420T220132Z
UID:be0c5b9d-f653-4473-8e35-d73b5a5737a3
DTSTART;VALUE=DATE:20470828
DTEND;VALUE=DATE:20470829
DESCRIPTION:
LOCATION:
SUMMARY:Counselor Kim's Birthday 
END:VEVENT
BEGIN:VEVENT
DTSTAMP:20260420T220132Z
UID:a36455cf-9ce8-47c1-867b-985d6b18b541
DTSTART;VALUE=DATE:20480828
DTEND;VALUE=DATE:20480829
DESCRIPTION:
LOCATION:
SUMMARY:Counselor Kim's Birthday 
END:VEVENT
BEGIN:VEVENT
DTSTAMP:20260420T220132Z
UID:64622f12-8a84-4d19-9c39-3b84f093688f
DTSTART;VALUE=DATE:20490828
DTEND;VALUE=DATE:20490829
DESCRIPTION:
LOCATION:
SUMMARY:Counselor Kim's Birthday 
END:VEVENT
BEGIN:VEVENT
DTSTAMP:20260420T220132Z
UID:db70f926-5e87-42b3-9b76-59c6e9bb0468
DTSTART;VALUE=DATE:20500828
DTEND;VALUE=DATE:20500829
DESCRIPTION:
LOCATION:
SUMMARY:Counselor Kim's Birthday 
END:VEVENT
BEGIN:VEVENT
DTSTAMP:20260420T220132Z
UID:0765831a-54df-4fb4-8d16-30fb94fdc110
DTSTART;VALUE=DATE:20510828
DTEND;VALUE=DATE:20510829
DESCRIPTION:
LOCATION:
SUMMARY:Counselor Kim's Birthday 
END:VEVENT
BEGIN:VEVENT
DTSTAMP:20260420T220132Z
UID:3a587b7a-481d-41a4-9a06-919a63cc4039
DTSTART;VALUE=DATE:20520828
DTEND;VALUE=DATE:20520829
DESCRIPTION:
LOCATION:
SUMMARY:Counselor Kim's Birthday 
END:VEVENT
BEGIN:VEVENT
DTSTAMP:20260420T220132Z
UID:9552f764-7ec5-44d7-89fc-13897da3f1a1
DTSTART;VALUE=DATE:20530828
DTEND;VALUE=DATE:20530829
DESCRIPTION:
LOCATION:
SUMMARY:Counselor Kim's Birthday 
END:VEVENT
BEGIN:VEVENT
DTSTAMP:20260420T220132Z
UID:e555f81b-2290-42dc-bec8-d93cef706917
DTSTART;VALUE=DATE:20540828
DTEND;VALUE=DATE:20540829
DESCRIPTION:
LOCATION:
SUMMARY:Counselor Kim's Birthday 
END:VEVENT
BEGIN:VEVENT
DTSTAMP:20260420T220132Z
UID:3f2fca76-5250-44dd-b87f-68fda2de75ba
DTSTART;VALUE=DATE:20550828
DTEND;VALUE=DATE:20550829
DESCRIPTION:
LOCATION:
SUMMARY:Counselor Kim's Birthday 
END:VEVENT
BEGIN:VEVENT
DTSTAMP:20260420T220132Z
UID:45ab2c9f-b2e9-4d6a-ba3d-80f92c6cea4e
DTSTART;VALUE=DATE:20560828
DTEND;VALUE=DATE:20560829
DESCRIPTION:
LOCATION:
SUMMARY:Counselor Kim's Birthday 
END:VEVENT
BEGIN:VEVENT
DTSTAMP:20260420T220132Z
UID:1e23c32a-27d1-4cd8-9d17-5650061026e6
DTSTART;VALUE=DATE:20570828
DTEND;VALUE=DATE:20570829
DESCRIPTION:
LOCATION:
SUMMARY:Counselor Kim's Birthday 
END:VEVENT
BEGIN:VEVENT
DTSTAMP:20260420T220132Z
UID:1267e80c-3363-4633-b054-d1e071b7989b
DTSTART;VALUE=DATE:20580828
DTEND;VALUE=DATE:20580829
DESCRIPTION:
LOCATION:
SUMMARY:Counselor Kim's Birthday 
END:VEVENT
BEGIN:VEVENT
DTSTAMP:20260420T220132Z
UID:da85b89b-369c-4c84-ab02-df0cc22f1433
DTSTART;VALUE=DATE:20590828
DTEND;VALUE=DATE:20590829
DESCRIPTION:
LOCATION:
SUMMARY:Counselor Kim's Birthday 
END:VEVENT
BEGIN:VEVENT
DTSTAMP:20260420T220132Z
UID:336534a8-5e1e-4d23-a4a2-7e6347fd0e1d
DTSTART;VALUE=DATE:20600828
DTEND;VALUE=DATE:20600829
DESCRIPTION:
LOCATION:
SUMMARY:Counselor Kim's Birthday 
END:VEVENT
BEGIN:VEVENT
DTSTAMP:20260420T220132Z
UID:16db46e6-e285-42f1-83d6-fd4d52ad4cb7
DTSTART;VALUE=DATE:20610828
DTEND;VALUE=DATE:20610829
DESCRIPTION:
LOCATION:
SUMMARY:Counselor Kim's Birthday 
END:VEVENT
BEGIN:VEVENT
DTSTAMP:20260420T220132Z
UID:e2d82b3e-4257-4106-b46c-555db1c69764
DTSTART;VALUE=DATE:20620828
DTEND;VALUE=DATE:20620829
DESCRIPTION:
LOCATION:
SUMMARY:Counselor Kim's Birthday 
END:VEVENT
BEGIN:VEVENT
DTSTAMP:20260420T220132Z
UID:e3da778a-fec4-4b7c-8468-33666c33a88d
DTSTART;VALUE=DATE:20630828
DTEND;VALUE=DATE:20630829
DESCRIPTION:
LOCATION:
SUMMARY:Counselor Kim's Birthday 
END:VEVENT
BEGIN:VEVENT
DTSTAMP:20260420T220132Z
UID:138115fd-8371-4152-86f0-39a2e2f97800
DTSTART;VALUE=DATE:20640828
DTEND;VALUE=DATE:20640829
DESCRIPTION:
LOCATION:
SUMMARY:Counselor Kim's Birthday 
END:VEVENT
BEGIN:VEVENT
DTSTAMP:20260420T220132Z
UID:6a74ca84-21b3-4b6d-bc8d-51320e1530f2
DTSTART;VALUE=DATE:20650828
DTEND;VALUE=DATE:20650829
DESCRIPTION:
LOCATION:
SUMMARY:Counselor Kim's Birthday 
END:VEVENT
BEGIN:VEVENT
DTSTAMP:20260420T220132Z
UID:7a8a5314-8642-45b7-bbe0-b9b4e28f37dd
DTSTART;VALUE=DATE:20660828
DTEND;VALUE=DATE:20660829
DESCRIPTION:
LOCATION:
SUMMARY:Counselor Kim's Birthday 
END:VEVENT
BEGIN:VEVENT
DTSTAMP:20260420T220132Z
UID:b9d93041-b756-4e74-beb9-5eef59309252
DTSTART;VALUE=DATE:20670828
DTEND;VALUE=DATE:20670829
DESCRIPTION:
LOCATION:
SUMMARY:Counselor Kim's Birthday 
END:VEVENT
BEGIN:VEVENT
DTSTAMP:20260420T220132Z
UID:21f81cdd-7e13-4072-a5a2-ebc06cdec940
DTSTART;VALUE=DATE:20680828
DTEND;VALUE=DATE:20680829
DESCRIPTION:
LOCATION:
SUMMARY:Counselor Kim's Birthday 
END:VEVENT
BEGIN:VEVENT
DTSTAMP:20260420T220132Z
UID:d4efff2d-a9ba-4986-860a-38ff93122b21
DTSTART;VALUE=DATE:20690828
DTEND;VALUE=DATE:20690829
DESCRIPTION:
LOCATION:
SUMMARY:Counselor Kim's Birthday 
END:VEVENT
BEGIN:VEVENT
DTSTAMP:20260420T220132Z
UID:5a7e3ff9-cce4-4b06-a57e-5bd125fc33b6
DTSTART;VALUE=DATE:20700828
DTEND;VALUE=DATE:20700829
DESCRIPTION:
LOCATION:
SUMMARY:Counselor Kim's Birthday 
END:VEVENT
BEGIN:VEVENT
DTSTAMP:20260420T220132Z
UID:61d92c0b-0674-4b37-8523-d607a745ded9
DTSTART;VALUE=DATE:20710828
DTEND;VALUE=DATE:20710829
DESCRIPTION:
LOCATION:
SUMMARY:Counselor Kim's Birthday 
END:VEVENT
BEGIN:VEVENT
DTSTAMP:20260420T220132Z
UID:d24c7fdf-56d5-4f3c-b027-d25ac4910822
DTSTART;VALUE=DATE:20720828
DTEND;VALUE=DATE:20720829
DESCRIPTION:
LOCATION:
SUMMARY:Counselor Kim's Birthday 
END:VEVENT
BEGIN:VEVENT
DTSTAMP:20260420T220132Z
UID:2dc55043-050f-4f5a-ae29-da31e33a6ae8
DTSTART;VALUE=DATE:20730828
DTEND;VALUE=DATE:20730829
DESCRIPTION:
LOCATION:
SUMMARY:Counselor Kim's Birthday 
END:VEVENT
BEGIN:VEVENT
DTSTAMP:20260420T220132Z
UID:511bbf23-5064-495e-9109-c2ec915353e8
DTSTART;VALUE=DATE:20740828
DTEND;VALUE=DATE:20740829
DESCRIPTION:
LOCATION:
SUMMARY:Counselor Kim's Birthday 
END:VEVENT
BEGIN:VEVENT
DTSTAMP:20260420T220132Z
UID:ad7fb546-cbd7-4b68-8196-607231b454a0
DTSTART;VALUE=DATE:20750828
DTEND;VALUE=DATE:20750829
DESCRIPTION:
LOCATION:
SUMMARY:Counselor Kim's Birthday 
END:VEVENT
BEGIN:VEVENT
DTSTAMP:20260420T220132Z
UID:b4abe261-28fc-4bd5-840d-e5ff75fb4fe7
DTSTART;VALUE=DATE:20760828
DTEND;VALUE=DATE:20760829
DESCRIPTION:
LOCATION:
SUMMARY:Counselor Kim's Birthday 
END:VEVENT
BEGIN:VEVENT
DTSTAMP:20260420T220132Z
UID:c44ffe9c-4065-4f63-ac36-a5fa57c48f9c
DTSTART;VALUE=DATE:20770828
DTEND;VALUE=DATE:20770829
DESCRIPTION:
LOCATION:
SUMMARY:Counselor Kim's Birthday 
END:VEVENT
BEGIN:VEVENT
DTSTAMP:20260420T220132Z
UID:d9f965f3-af9d-4cb5-ad8a-88a94d650b30
DTSTART;VALUE=DATE:20780828
DTEND;VALUE=DATE:20780829
DESCRIPTION:
LOCATION:
SUMMARY:Counselor Kim's Birthday 
END:VEVENT
BEGIN:VEVENT
DTSTAMP:20260420T220132Z
UID:5a012269-8cdc-4102-99e3-542f8d3a34f4
DTSTART;VALUE=DATE:20790828
DTEND;VALUE=DATE:20790829
DESCRIPTION:
LOCATION:
SUMMARY:Counselor Kim's Birthday 
END:VEVENT
BEGIN:VEVENT
DTSTAMP:20260420T220132Z
UID:278273ea-872a-4eec-b878-bb31f12e5f7a
DTSTART;VALUE=DATE:20800828
DTEND;VALUE=DATE:20800829
DESCRIPTION:
LOCATION:
SUMMARY:Counselor Kim's Birthday 
END:VEVENT
BEGIN:VEVENT
DTSTAMP:20260420T220132Z
UID:051d7599-d3f1-4491-8023-54cfb4e1916c
DTSTART;VALUE=DATE:20810828
DTEND;VALUE=DATE:20810829
DESCRIPTION:
LOCATION:
SUMMARY:Counselor Kim's Birthday 
END:VEVENT
BEGIN:VEVENT
DTSTAMP:20260420T220132Z
UID:fdb829c8-ba4a-40b1-a9d0-c0e2ab85503b
DTSTART;VALUE=DATE:20820828
DTEND;VALUE=DATE:20820829
DESCRIPTION:
LOCATION:
SUMMARY:Counselor Kim's Birthday 
END:VEVENT
BEGIN:VEVENT
DTSTAMP:20260420T220132Z
UID:04c769f6-e187-497a-af90-607e59eb6360
DTSTART;VALUE=DATE:20830828
DTEND;VALUE=DATE:20830829
DESCRIPTION:
LOCATION:
SUMMARY:Counselor Kim's Birthday 
END:VEVENT
BEGIN:VEVENT
DTSTAMP:20260420T220132Z
UID:f034f301-4cd4-4c71-aca4-90af6350c268
DTSTART;VALUE=DATE:20840828
DTEND;VALUE=DATE:20840829
DESCRIPTION:
LOCATION:
SUMMARY:Counselor Kim's Birthday 
END:VEVENT
BEGIN:VEVENT
DTSTAMP:20260420T220132Z
UID:9eed7abf-070e-4613-a22e-a9df793e1aa3
DTSTART;VALUE=DATE:20850828
DTEND;VALUE=DATE:20850829
DESCRIPTION:
LOCATION:
SUMMARY:Counselor Kim's Birthday 
END:VEVENT
BEGIN:VEVENT
DTSTAMP:20260420T220132Z
UID:4a03e6ca-29d3-46eb-9bc1-3e9d7ac7b8ec
DTSTART;VALUE=DATE:20860828
DTEND;VALUE=DATE:20860829
DESCRIPTION:
LOCATION:
SUMMARY:Counselor Kim's Birthday 
END:VEVENT
BEGIN:VEVENT
DTSTAMP:20260420T220132Z
UID:69293155-5aef-4100-9147-e9b568375150
DTSTART;VALUE=DATE:20870828
DTEND;VALUE=DATE:20870829
DESCRIPTION:
LOCATION:
SUMMARY:Counselor Kim's Birthday 
END:VEVENT
BEGIN:VEVENT
DTSTAMP:20260420T220132Z
UID:814b0076-e4b2-455e-a158-1e8617ce20b8
DTSTART;VALUE=DATE:20880828
DTEND;VALUE=DATE:20880829
DESCRIPTION:
LOCATION:
SUMMARY:Counselor Kim's Birthday 
END:VEVENT
BEGIN:VEVENT
DTSTAMP:20260420T220132Z
UID:227d08f4-72a5-4098-a2fb-3cb35b4334aa
DTSTART;VALUE=DATE:20890828
DTEND;VALUE=DATE:20890829
DESCRIPTION:
LOCATION:
SUMMARY:Counselor Kim's Birthday 
END:VEVENT
BEGIN:VEVENT
DTSTAMP:20260420T220132Z
UID:830d4b50-5baa-431d-bb1c-08af6e6400a0
DTSTART;VALUE=DATE:20900828
DTEND;VALUE=DATE:20900829
DESCRIPTION:
LOCATION:
SUMMARY:Counselor Kim's Birthday 
END:VEVENT
BEGIN:VEVENT
DTSTAMP:20260420T220132Z
UID:9479dcff-ab17-4cfa-82c2-277c71c3e019
DTSTART;VALUE=DATE:20910828
DTEND;VALUE=DATE:20910829
DESCRIPTION:
LOCATION:
SUMMARY:Counselor Kim's Birthday 
END:VEVENT
BEGIN:VEVENT
DTSTAMP:20260420T220132Z
UID:3c773afb-54a2-4586-b4da-84dd7b412149
DTSTART;VALUE=DATE:20920828
DTEND;VALUE=DATE:20920829
DESCRIPTION:
LOCATION:
SUMMARY:Counselor Kim's Birthday 
END:VEVENT
BEGIN:VEVENT
DTSTAMP:20260420T220132Z
UID:6015ed54-cfbb-4dba-8975-b3d777627819
DTSTART;VALUE=DATE:20930828
DTEND;VALUE=DATE:20930829
DESCRIPTION:
LOCATION:
SUMMARY:Counselor Kim's Birthday 
END:VEVENT
BEGIN:VEVENT
DTSTAMP:20260420T220132Z
UID:f249baf6-94c2-4c19-a806-52196919c79b
DTSTART;VALUE=DATE:20940828
DTEND;VALUE=DATE:20940829
DESCRIPTION:
LOCATION:
SUMMARY:Counselor Kim's Birthday 
END:VEVENT
BEGIN:VEVENT
DTSTAMP:20260420T220132Z
UID:6d1d8caf-7128-4370-97a9-bf8690b29859
DTSTART;VALUE=DATE:20950828
DTEND;VALUE=DATE:20950829
DESCRIPTION:
LOCATION:
SUMMARY:Counselor Kim's Birthday 
END:VEVENT
BEGIN:VEVENT
DTSTAMP:20260420T220132Z
UID:f370c20f-a7b9-47a4-8525-cb7ae9dce824
DTSTART;VALUE=DATE:20960828
DTEND;VALUE=DATE:20960829
DESCRIPTION:
LOCATION:
SUMMARY:Counselor Kim's Birthday 
END:VEVENT
BEGIN:VEVENT
DTSTAMP:20260420T220132Z
UID:37562f14-39ee-41d3-bb4c-ad7e5525f13e
DTSTART;VALUE=DATE:20970828
DTEND;VALUE=DATE:20970829
DESCRIPTION:
LOCATION:
SUMMARY:Counselor Kim's Birthday 
END:VEVENT
BEGIN:VEVENT
DTSTAMP:20260420T220132Z
UID:d99922df-73a3-4f46-9f0c-cade6665b548
DTSTART;VALUE=DATE:20980828
DTEND;VALUE=DATE:20980829
DESCRIPTION:
LOCATION:
SUMMARY:Counselor Kim's Birthday 
END:VEVENT
BEGIN:VEVENT
DTSTAMP:20260420T220132Z
UID:e51719a4-169c-4686-aa95-47e2c0e4b088
DTSTART;VALUE=DATE:20990828
DTEND;VALUE=DATE:20990829
DESCRIPTION:
LOCATION:
SUMMARY:Counselor Kim's Birthday 
END:VEVENT
END:VCALENDAR
