BEGIN:VCALENDAR
VERSION:2.0
PRODID:icalendar-ruby
CALSCALE:GREGORIAN
BEGIN:VTIMEZONE
TZID:America/Denver
BEGIN:DAYLIGHT
DTSTART:20260308T030000
TZOFFSETFROM:-0700
TZOFFSETTO:-0600
RRULE:FREQ=YEARLY;BYDAY=2SU;BYMONTH=3
TZNAME:MDT
END:DAYLIGHT
BEGIN:STANDARD
DTSTART:20261101T010000
TZOFFSETFROM:-0600
TZOFFSETTO:-0700
RRULE:FREQ=YEARLY;BYDAY=1SU;BYMONTH=11
TZNAME:MST
END:STANDARD
END:VTIMEZONE
BEGIN:VEVENT
DTSTAMP:20260423T062556Z
UID:53c76279-abde-4411-a27f-33da451ab0f1
DTSTART;VALUE=DATE:20260501
DTEND;VALUE=DATE:20260502
DESCRIPTION:
LOCATION:
SUMMARY:Principal Appreciation Day
END:VEVENT
BEGIN:VEVENT
DTSTAMP:20260423T062556Z
UID:39467718-103d-468d-baba-a9eb1eb3bb7d
DTSTART;VALUE=DATE:20260504
DTEND;VALUE=DATE:20260509
DESCRIPTION:
LOCATION:
SUMMARY:Teacher Appreciation Week
END:VEVENT
BEGIN:VEVENT
DTSTAMP:20260423T062556Z
UID:e6471dd7-833f-488b-b25d-95fbcf796467
DTSTART;VALUE=DATE:20260522
DTEND;VALUE=DATE:20260523
DESCRIPTION:
LOCATION:
SUMMARY:Last Day of School/Minimal Day (ATECW out at 9:15\, Horizon out at 
 10:45\, NO PREK or K)
END:VEVENT
BEGIN:VEVENT
DTSTAMP:20260423T062556Z
UID:be8a3cd2-5572-4e31-ab80-2e148f4032de
DTSTART;VALUE=DATE:20260616
DTEND;VALUE=DATE:20260619
DESCRIPTION:
LOCATION:
SUMMARY:ESY
END:VEVENT
BEGIN:VEVENT
DTSTAMP:20260423T062556Z
UID:d7b87ce6-34a6-4ddf-b7b2-332d98fae04e
DTSTART;VALUE=DATE:20260623
DTEND;VALUE=DATE:20260626
DESCRIPTION:
LOCATION:
SUMMARY:ESY
END:VEVENT
BEGIN:VEVENT
DTSTAMP:20260423T062556Z
UID:a27f2d3a-d2fc-4d83-b25d-d11bcfdac3c7
DTSTART;VALUE=DATE:20260707
DTEND;VALUE=DATE:20260710
DESCRIPTION:
LOCATION:
SUMMARY:ESY
END:VEVENT
BEGIN:VEVENT
DTSTAMP:20260423T062556Z
UID:9e2419ab-20ba-43fc-a5b6-aa5fbc7af034
DTSTART;VALUE=DATE:20260714
DTEND;VALUE=DATE:20260717
DESCRIPTION:
LOCATION:
SUMMARY:ESY
END:VEVENT
BEGIN:VEVENT
DTSTAMP:20260423T062556Z
UID:a75bf927-5d9e-4476-9682-e381a4e9eb78
DTSTART;VALUE=DATE:20260911
DTEND;VALUE=DATE:20260912
DESCRIPTION:
LOCATION:
SUMMARY:Patriot Day
END:VEVENT
BEGIN:VEVENT
DTSTAMP:20260423T062556Z
UID:f6ae34ba-cf8d-43d4-8ad9-ff3f15ff0980
DTSTART;VALUE=DATE:20261031
DTEND;VALUE=DATE:20261101
DESCRIPTION:
LOCATION:
SUMMARY:Halloween
END:VEVENT
END:VCALENDAR
