BEGIN:VCALENDAR
VERSION:2.0
PRODID:icalendar-ruby
CALSCALE:GREGORIAN
BEGIN:VTIMEZONE
TZID:America/Denver
BEGIN:DAYLIGHT
DTSTART:20260308T030000
TZOFFSETFROM:-0700
TZOFFSETTO:-0600
RRULE:FREQ=YEARLY;BYDAY=2SU;BYMONTH=3
TZNAME:MDT
END:DAYLIGHT
BEGIN:STANDARD
DTSTART:20261101T010000
TZOFFSETFROM:-0600
TZOFFSETTO:-0700
RRULE:FREQ=YEARLY;BYDAY=1SU;BYMONTH=11
TZNAME:MST
END:STANDARD
END:VTIMEZONE
BEGIN:VEVENT
DTSTAMP:20260423T151503Z
UID:55d68d30-d10a-42b4-87a0-410c27054a65
DTSTART:20260423T093000
DTEND:20260423T103000
DESCRIPTION:
LOCATION:
SUMMARY:Confidence Crew with Mrs. Bree
END:VEVENT
BEGIN:VEVENT
DTSTAMP:20260423T151503Z
UID:63dcc38a-b993-4fbe-9364-176d8eae5b47
DTSTART:20260424T100000
DTEND:20260424T140000
DESCRIPTION:
LOCATION:759 E Pacific Dr\, American Fork\, UT 84003\, USA
SUMMARY:Acadience Testing
END:VEVENT
BEGIN:VEVENT
DTSTAMP:20260423T151503Z
UID:2db77f9b-78f9-4958-a6fe-ad208fc62fe6
DTSTART:20260427T093000
DTEND:20260427T100000
DESCRIPTION:meet.google.com/dgg-pmcn-fcr -This is the link to join!
LOCATION:
SUMMARY:Kindergarten Writing Classes
END:VEVENT
BEGIN:VEVENT
DTSTAMP:20260423T151503Z
UID:63b7c921-fe5b-40b3-8197-b5d489d0bd95
DTSTART:20260427T100000
DTEND:20260427T103000
DESCRIPTION:The link to join is: meet.google.com/dmi-jrbv-cny
LOCATION:
SUMMARY:1st/2nd Grade Huddles
END:VEVENT
BEGIN:VEVENT
DTSTAMP:20260423T151503Z
UID:764008a7-dbd7-4153-aaa4-23a065b5c321
DTSTART:20260427T103000
DTEND:20260427T110000
DESCRIPTION:
LOCATION:
SUMMARY:3rd - 5th Grade Huddles
END:VEVENT
BEGIN:VEVENT
DTSTAMP:20260423T151503Z
UID:6e2ed1b2-bbac-4041-98e8-989e05480a28
DTSTART:20260428T093000
DTEND:20260428T140000
DESCRIPTION:
LOCATION:759 E Pacific Dr\, American Fork\, UT 84003\, USA
SUMMARY:RISE Testing - Sessions 10:00\, 11:30 an 12:00
END:VEVENT
BEGIN:VEVENT
DTSTAMP:20260423T151503Z
UID:386ad3c8-d502-4cf1-bdbc-1069a63f2da5
DTSTART:20260429T100000
DTEND:20260429T103000
DESCRIPTION:<a href="https://www.google.com/url?q=https://meet.google.com/b
 mt-pscv-uty&amp\;sa=D&amp\;source=calendar&amp\;ust=1756330317265590&amp\;
 usg=AOvVaw3wycZJ8coNfiHnyN5ADTAC" target="_blank">https://meet.google.com/
 bmt-pscv-uty</a> - Link to join class<br><a href="https://www.google.com/
 url?q=https://docs.google.com/spreadsheets/d/1_eHr1tPbQkh8OKHmtdw6j3wyKAHn
 -VOECAgfCXuAHd4/edit?usp%3Dsharing&amp\;sa=D&amp\;source=calendar&amp\;ust
 =1756330317265590&amp\;usg=AOvVaw1XtnPX9qG8CNAjoPYibMsP" target="_blank">H
 uddle Schedule</a>
LOCATION:
SUMMARY:6th Gr Huddle
END:VEVENT
BEGIN:VEVENT
DTSTAMP:20260423T151503Z
UID:adc8af91-1009-4b36-af07-cd340d125be5
DTSTART:20260430T093000
DTEND:20260430T103000
DESCRIPTION:
LOCATION:
SUMMARY:Confidence Crew with Mrs. Bree
END:VEVENT
BEGIN:VEVENT
DTSTAMP:20260423T151503Z
UID:37386b6d-3bd1-4b13-8ccc-42dde4bcebc4
DTSTART:20260501T093000
DTEND:20260501T103000
DESCRIPTION:
LOCATION:759 E Pacific Dr\, American Fork\, UT 84003\, USA
SUMMARY:RISE Testing - Sessions
END:VEVENT
BEGIN:VEVENT
DTSTAMP:20260423T151503Z
UID:f65af7fd-93c5-4d84-be93-1891ef1fbdbd
DTSTART:20260504T103000
DTEND:20260504T110000
DESCRIPTION:
LOCATION:
SUMMARY:3rd - 5th Grade Huddles
END:VEVENT
BEGIN:VEVENT
DTSTAMP:20260423T151503Z
UID:14fe147e-154a-4b3e-9e66-3db5851450eb
DTSTART:20260507T093000
DTEND:20260507T103000
DESCRIPTION:
LOCATION:
SUMMARY:Confidence Crew with Mrs. Bree
END:VEVENT
BEGIN:VEVENT
DTSTAMP:20260423T151503Z
UID:f91638c0-3e5c-4182-b455-d667f3c11a10
DTSTART:20260511T103000
DTEND:20260511T110000
DESCRIPTION:
LOCATION:
SUMMARY:3rd - 5th Grade Huddles
END:VEVENT
BEGIN:VEVENT
DTSTAMP:20260423T151503Z
UID:531494d6-c0c3-477d-be48-8567339a44f1
DTSTART;VALUE=DATE:20260520
DTEND;VALUE=DATE:20260521
DESCRIPTION:
LOCATION:
SUMMARY:Last Day to Submit Student Work
END:VEVENT
BEGIN:VEVENT
DTSTAMP:20260423T151503Z
UID:3d4541c7-8ced-407b-921a-c4bee8d86e17
DTSTART;VALUE=DATE:20260520
DTEND;VALUE=DATE:20260521
DESCRIPTION:
LOCATION:
SUMMARY:Last Day to Submit Student Work
END:VEVENT
BEGIN:VEVENT
DTSTAMP:20260423T151503Z
UID:7e63f761-61e3-47f5-8bc1-630ac33a4739
DTSTART;VALUE=DATE:20260522
DTEND;VALUE=DATE:20260523
DESCRIPTION:
LOCATION:
SUMMARY:Last Day of School
END:VEVENT
BEGIN:VEVENT
DTSTAMP:20260423T151503Z
UID:22201921-086c-4127-bc94-37a7876bf7a1
DTSTART;VALUE=DATE:20260522
DTEND;VALUE=DATE:20260523
DESCRIPTION:
LOCATION:
SUMMARY:Last Day of School
END:VEVENT
END:VCALENDAR
