BEGIN:VCALENDAR
VERSION:2.0
PRODID:icalendar-ruby
CALSCALE:GREGORIAN
BEGIN:VTIMEZONE
TZID:America/Denver
BEGIN:DAYLIGHT
DTSTART:20260308T030000
TZOFFSETFROM:-0700
TZOFFSETTO:-0600
RRULE:FREQ=YEARLY;BYDAY=2SU;BYMONTH=3
TZNAME:MDT
END:DAYLIGHT
BEGIN:STANDARD
DTSTART:20261101T010000
TZOFFSETFROM:-0600
TZOFFSETTO:-0700
RRULE:FREQ=YEARLY;BYDAY=1SU;BYMONTH=11
TZNAME:MST
END:STANDARD
END:VTIMEZONE
BEGIN:VEVENT
DTSTAMP:20260423T151542Z
UID:14a87f82-7b9e-463c-add2-047d346c329d
DTSTART:20260423T154000
DTEND:20260423T164000
DESCRIPTION:
LOCATION:
SUMMARY:Ballroom Level 2 6th Gr - Gym
END:VEVENT
BEGIN:VEVENT
DTSTAMP:20260423T151542Z
UID:796ff1bf-bab3-4844-9c59-435eb1dde16b
DTSTART:20260424T080000
DTEND:20260424T090000
DESCRIPTION:
LOCATION:
SUMMARY:Ballroom Level 1 5th Gr - Gym 
END:VEVENT
BEGIN:VEVENT
DTSTAMP:20260423T151542Z
UID:04103097-ceef-469f-8adb-21b057053222
DTSTART:20260428T153000
DTEND:20260428T160000
DESCRIPTION:
LOCATION:
SUMMARY:Hope Squad - Library
END:VEVENT
BEGIN:VEVENT
DTSTAMP:20260423T151542Z
UID:963bc130-326c-4914-9e3e-1bf435897461
DTSTART:20260428T154000
DTEND:20260428T164000
DESCRIPTION:
LOCATION:
SUMMARY:Ballroom Level 2 6th Gr - Gym
END:VEVENT
BEGIN:VEVENT
DTSTAMP:20260423T151542Z
UID:3f2c8910-cce4-4de6-94da-81173033c753
DTSTART:20260428T181500
DTEND:20260428T191500
DESCRIPTION:
LOCATION:
SUMMARY:Art Night Gala Walkthrough
END:VEVENT
BEGIN:VEVENT
DTSTAMP:20260423T151542Z
UID:367021e2-d494-4798-ae23-177ea9c985e7
DTSTART:20260429T080000
DTEND:20260429T090000
DESCRIPTION:
LOCATION:Music Room
SUMMARY:Choir in Music Room
END:VEVENT
BEGIN:VEVENT
DTSTAMP:20260423T151542Z
UID:1422f363-874f-4b74-b89b-3f1453059fae
DTSTART:20260429T154000
DTEND:20260429T164000
DESCRIPTION:
LOCATION:
SUMMARY:Ballroom Intro Class
END:VEVENT
BEGIN:VEVENT
DTSTAMP:20260423T151542Z
UID:d5be799f-3dec-463b-8931-f63537b3a81f
DTSTART:20260430T154000
DTEND:20260430T164000
DESCRIPTION:
LOCATION:
SUMMARY:Ballroom Level 2 6th Gr - Gym
END:VEVENT
BEGIN:VEVENT
DTSTAMP:20260423T151542Z
UID:e46db23f-17aa-4a18-9616-6e4ee2acd5d1
DTSTART:20260504T093000
DTEND:20260504T103000
DESCRIPTION:
LOCATION:
SUMMARY:PTA Meeting
END:VEVENT
BEGIN:VEVENT
DTSTAMP:20260423T151542Z
UID:9e766567-87cb-4b24-a888-602e2865aa2c
DTSTART:20260505T153000
DTEND:20260505T160000
DESCRIPTION:
LOCATION:
SUMMARY:Hope Squad - Library
END:VEVENT
BEGIN:VEVENT
DTSTAMP:20260423T151542Z
UID:23ec538c-40cb-4c38-9697-2cc8717dd359
DTSTART:20260506T080000
DTEND:20260506T090000
DESCRIPTION:
LOCATION:Music Room
SUMMARY:Choir in Music Room
END:VEVENT
BEGIN:VEVENT
DTSTAMP:20260423T151542Z
UID:4c8bc4fb-74b2-437b-8f26-2540acb1e484
DTSTART:20260506T154000
DTEND:20260506T164000
DESCRIPTION:
LOCATION:
SUMMARY:Ballroom Intro Class
END:VEVENT
BEGIN:VEVENT
DTSTAMP:20260423T151542Z
UID:7466d623-2148-4383-93e9-441c7a1d5c4d
DTSTART:20260511T093000
DTEND:20260511T103000
DESCRIPTION:
LOCATION:
SUMMARY:Talent Show
END:VEVENT
BEGIN:VEVENT
DTSTAMP:20260423T151542Z
UID:42f5df7c-8186-4b57-aace-d66eb2d6e2c8
DTSTART:20260512T153000
DTEND:20260512T160000
DESCRIPTION:
LOCATION:
SUMMARY:Hope Squad - Library
END:VEVENT
BEGIN:VEVENT
DTSTAMP:20260423T151542Z
UID:17040498-1f63-492e-a3f9-bb0a2fc2b359
DTSTART;VALUE=DATE:20260515
DTEND;VALUE=DATE:20260516
DESCRIPTION:
LOCATION:
SUMMARY:6th Grade Graduation
END:VEVENT
BEGIN:VEVENT
DTSTAMP:20260423T151542Z
UID:9ba447ae-5b33-4bad-8d9b-ce39c73d7553
DTSTART;VALUE=DATE:20260518
DTEND;VALUE=DATE:20260519
DESCRIPTION:
LOCATION:
SUMMARY:3rd Grade Carnival
END:VEVENT
BEGIN:VEVENT
DTSTAMP:20260423T151542Z
UID:6508cc95-876b-491b-9266-d0c8e3b83a38
DTSTART:20260519T153000
DTEND:20260519T160000
DESCRIPTION:
LOCATION:
SUMMARY:Hope Squad - Library
END:VEVENT
BEGIN:VEVENT
DTSTAMP:20260423T151542Z
UID:c2587a16-909c-41a8-9bf8-7211f41a2004
DTSTART;VALUE=DATE:20260520
DTEND;VALUE=DATE:20260521
DESCRIPTION:
LOCATION:
SUMMARY:Field Day
END:VEVENT
BEGIN:VEVENT
DTSTAMP:20260423T151542Z
UID:ba82be08-a686-44e2-89be-c9cb65f3e077
DTSTART;VALUE=DATE:20260522
DTEND;VALUE=DATE:20260523
DESCRIPTION:
LOCATION:
SUMMARY:Last Day of School (minimal day)
END:VEVENT
END:VCALENDAR
