BEGIN:VCALENDAR
VERSION:2.0
PRODID:icalendar-ruby
CALSCALE:GREGORIAN
BEGIN:VTIMEZONE
TZID:America/Denver
BEGIN:DAYLIGHT
DTSTART:20260308T030000
TZOFFSETFROM:-0700
TZOFFSETTO:-0600
RRULE:FREQ=YEARLY;BYDAY=2SU;BYMONTH=3
TZNAME:MDT
END:DAYLIGHT
BEGIN:STANDARD
DTSTART:20261101T010000
TZOFFSETFROM:-0600
TZOFFSETTO:-0700
RRULE:FREQ=YEARLY;BYDAY=1SU;BYMONTH=11
TZNAME:MST
END:STANDARD
END:VTIMEZONE
BEGIN:VEVENT
DTSTAMP:20260423T224155Z
UID:49f4066a-d7e2-4605-884d-9e84bff34102
DTSTART;VALUE=DATE:20260427
DTEND;VALUE=DATE:20260502
DESCRIPTION:
LOCATION:
SUMMARY:Staff Appreciation
END:VEVENT
BEGIN:VEVENT
DTSTAMP:20260423T224155Z
UID:79d8ceb6-72b7-4b8f-95e1-0a28b26dae50
DTSTART;VALUE=DATE:20260428
DTEND;VALUE=DATE:20260429
DESCRIPTION:
LOCATION:
SUMMARY:Cory Wride park field trip 
END:VEVENT
BEGIN:VEVENT
DTSTAMP:20260423T224155Z
UID:a9a7dd24-8549-4e69-b79f-52a794e6f0bb
DTSTART;VALUE=DATE:20260429
DTEND;VALUE=DATE:20260430
DESCRIPTION:
LOCATION:
SUMMARY:Cory Wride park field trip 
END:VEVENT
BEGIN:VEVENT
DTSTAMP:20260423T224155Z
UID:4c42427c-e4b6-4113-84ee-4c97ba105e97
DTSTART:20260430T093000
DTEND:20260430T133000
DESCRIPTION:
LOCATION:
SUMMARY:4th grade field trip to Camp Floyd
END:VEVENT
BEGIN:VEVENT
DTSTAMP:20260423T224155Z
UID:fc2587ed-cae5-4d26-8c27-bef45aff13bb
DTSTART:20260507T090000
DTEND:20260507T140000
DESCRIPTION:
LOCATION:
SUMMARY:5th grade field trip Hope of America
END:VEVENT
BEGIN:VEVENT
DTSTAMP:20260423T224155Z
UID:b4f40059-91fe-4209-a868-6756c4981182
DTSTART:20260513T130000
DTEND:20260513T140000
DESCRIPTION:
LOCATION:
SUMMARY:Senior Walk
END:VEVENT
BEGIN:VEVENT
DTSTAMP:20260423T224155Z
UID:2aa32640-35ed-4b8d-8f04-0977d5ca83fd
DTSTART:20260514T142000
DTEND:20260514T150000
DESCRIPTION:
LOCATION:
SUMMARY:Kindness Crew meeting
END:VEVENT
BEGIN:VEVENT
DTSTAMP:20260423T224155Z
UID:6261a8b1-8172-437a-8dba-4566cce18243
DTSTART:20260514T142000
DTEND:20260514T150000
DESCRIPTION:
LOCATION:
SUMMARY:Kindness Crew Meeting
END:VEVENT
BEGIN:VEVENT
DTSTAMP:20260423T224155Z
UID:a8fe8acb-c61b-4035-bfc7-6e404318118a
DTSTART;VALUE=DATE:20260515
DTEND;VALUE=DATE:20260516
DESCRIPTION:
LOCATION:
SUMMARY:Family BBQ
END:VEVENT
BEGIN:VEVENT
DTSTAMP:20260423T224155Z
UID:bbc5a8cc-f6e0-4c32-bf10-1910bd765ae4
DTSTART;VALUE=DATE:20260519
DTEND;VALUE=DATE:20260520
DESCRIPTION:
LOCATION:
SUMMARY:Field Day
END:VEVENT
BEGIN:VEVENT
DTSTAMP:20260423T224155Z
UID:b2b50b70-3e5e-4d89-ad88-2be0433e1e20
DTSTART:20260521T130000
DTEND:20260521T140000
DESCRIPTION:
LOCATION:
SUMMARY:Dance Festival
END:VEVENT
END:VCALENDAR
