BEGIN:VCALENDAR
VERSION:2.0
PRODID:icalendar-ruby
CALSCALE:GREGORIAN
BEGIN:VTIMEZONE
TZID:America/Denver
BEGIN:DAYLIGHT
DTSTART:20260308T030000
TZOFFSETFROM:-0700
TZOFFSETTO:-0600
RRULE:FREQ=YEARLY;BYDAY=2SU;BYMONTH=3
TZNAME:MDT
END:DAYLIGHT
BEGIN:STANDARD
DTSTART:20261101T010000
TZOFFSETFROM:-0600
TZOFFSETTO:-0700
RRULE:FREQ=YEARLY;BYDAY=1SU;BYMONTH=11
TZNAME:MST
END:STANDARD
END:VTIMEZONE
BEGIN:VEVENT
DTSTAMP:20260424T211940Z
UID:dae72520-44dc-408f-a6b4-9ebc668cfedc
DTSTART;VALUE=DATE:20260420
DTEND;VALUE=DATE:20260501
DESCRIPTION:
LOCATION:
SUMMARY:Tabitha's Way Food Drive
END:VEVENT
BEGIN:VEVENT
DTSTAMP:20260424T211940Z
UID:873d0f3b-665f-4545-b048-1f04d8d409ad
DTSTART;VALUE=DATE:20260424
DTEND;VALUE=DATE:20260425
DESCRIPTION:
LOCATION:
SUMMARY:Badger Dash Fundraiser
END:VEVENT
BEGIN:VEVENT
DTSTAMP:20260424T211940Z
UID:d7267e23-63b2-42a7-b8ec-e41a770c24c7
DTSTART;VALUE=DATE:20260427
DTEND;VALUE=DATE:20260428
DESCRIPTION:
LOCATION:
SUMMARY:Kindergarten Field Trip to Curiosity Farms at Thanksgiving Point
END:VEVENT
BEGIN:VEVENT
DTSTAMP:20260424T211940Z
UID:ce3a736b-201d-487b-96f0-19158bc787de
DTSTART:20260429T153000
DTEND:20260429T161500
DESCRIPTION:
LOCATION:
SUMMARY:Choir Rehearsal in the Music Room
END:VEVENT
BEGIN:VEVENT
DTSTAMP:20260424T211940Z
UID:fee62ddb-fe06-4a6d-9b00-60189c2429f7
DTSTART:20260506T153000
DTEND:20260506T161500
DESCRIPTION:
LOCATION:
SUMMARY:Choir Rehearsal in the Music Room
END:VEVENT
BEGIN:VEVENT
DTSTAMP:20260424T211940Z
UID:54644b22-0206-4cd5-87cc-c83cfa8c3a4a
DTSTART;VALUE=DATE:20260511
DTEND;VALUE=DATE:20260512
DESCRIPTION:
LOCATION:
SUMMARY:Birthday Lunch Bunch in the Cafeteria (May and July birthdays)
END:VEVENT
BEGIN:VEVENT
DTSTAMP:20260424T211940Z
UID:92025fc9-bd07-403b-a707-7c2665fd9644
DTSTART:20260513T153000
DTEND:20260513T161500
DESCRIPTION:
LOCATION:
SUMMARY:Choir Rehearsal in the Music Room
END:VEVENT
BEGIN:VEVENT
DTSTAMP:20260424T211940Z
UID:5bc5f225-6c72-4eeb-a51e-7c4f13e95e46
DTSTART:20260520T153000
DTEND:20260520T161500
DESCRIPTION:
LOCATION:
SUMMARY:Choir Rehearsal in the Music Room
END:VEVENT
BEGIN:VEVENT
DTSTAMP:20260424T211940Z
UID:94febc6d-b221-4754-97f5-dcbd9fcc5855
DTSTART;VALUE=DATE:20260522
DTEND;VALUE=DATE:20260523
DESCRIPTION:
LOCATION:
SUMMARY:Last Day of School
END:VEVENT
BEGIN:VEVENT
DTSTAMP:20260424T211940Z
UID:ed5fd910-88c4-4a85-a32b-856b1ac930df
DTSTART;VALUE=DATE:20260819
DTEND;VALUE=DATE:20260820
DESCRIPTION:
LOCATION:
SUMMARY:1st Day of School (Grades 1-6)
END:VEVENT
BEGIN:VEVENT
DTSTAMP:20260424T211940Z
UID:8e5183db-1e12-4447-b8c8-f22492d304d0
DTSTART;VALUE=DATE:20260819
DTEND;VALUE=DATE:20260825
DESCRIPTION:
LOCATION:
SUMMARY:Kindergarten Assessment Days
END:VEVENT
BEGIN:VEVENT
DTSTAMP:20260424T211940Z
UID:4622499f-e9c6-4fad-923e-ebf84bf97bb1
DTSTART;VALUE=DATE:20260825
DTEND;VALUE=DATE:20260826
DESCRIPTION:
LOCATION:
SUMMARY:1st Day of School for Kindergarten (9:15am - 3:30pm)
END:VEVENT
BEGIN:VEVENT
DTSTAMP:20260424T211940Z
UID:90bbebae-a881-4776-817b-a6acdc60b65e
DTSTART;VALUE=DATE:20260914
DTEND;VALUE=DATE:20260915
DESCRIPTION:
LOCATION:
SUMMARY:Fall School Pictures with Eastman Adams
END:VEVENT
BEGIN:VEVENT
DTSTAMP:20260424T211940Z
UID:36f62b44-98a9-4409-9833-39eff84cb742
DTSTART;VALUE=DATE:20261015
DTEND;VALUE=DATE:20261017
DESCRIPTION:
LOCATION:
SUMMARY:Fall Break (No School)
END:VEVENT
BEGIN:VEVENT
DTSTAMP:20260424T211940Z
UID:b8843d40-adb1-4703-8dd8-eb9ec8bc7851
DTSTART;VALUE=DATE:20261019
DTEND;VALUE=DATE:20261020
DESCRIPTION:
LOCATION:
SUMMARY:Teacher Work Day (No School for Students)
END:VEVENT
BEGIN:VEVENT
DTSTAMP:20260424T211940Z
UID:5b6db021-4f40-4421-8bac-fb45b4bc2f30
DTSTART;VALUE=DATE:20261026
DTEND;VALUE=DATE:20261027
DESCRIPTION:
LOCATION:
SUMMARY:School Picture Make Ups with Eastman Adams
END:VEVENT
BEGIN:VEVENT
DTSTAMP:20260424T211940Z
UID:bc8e6257-0ec8-4b90-bcc4-9bb52c3a2459
DTSTART;VALUE=DATE:20261102
DTEND;VALUE=DATE:20261103
DESCRIPTION:
LOCATION:
SUMMARY:Teacher Professional Dev. Day (No school for Students)
END:VEVENT
BEGIN:VEVENT
DTSTAMP:20260424T211940Z
UID:4aa505fc-910e-4a93-9ad3-5d4ea5b45585
DTSTART;VALUE=DATE:20261125
DTEND;VALUE=DATE:20261128
DESCRIPTION:
LOCATION:
SUMMARY:Thanksgiving Break (No School)
END:VEVENT
BEGIN:VEVENT
DTSTAMP:20260424T211940Z
UID:7edc795a-0e2b-4558-8ba7-6e1189e06395
DTSTART;VALUE=DATE:20261218
DTEND;VALUE=DATE:20261219
DESCRIPTION:
LOCATION:
SUMMARY:Minimal Day (Students excused 12:45pm)
END:VEVENT
BEGIN:VEVENT
DTSTAMP:20260424T211940Z
UID:668a5d0d-9099-423c-b17b-11251200f3f1
DTSTART;VALUE=DATE:20261221
DTEND;VALUE=DATE:20270102
DESCRIPTION:
LOCATION:
SUMMARY:Christmas Holiday Break (No School)
END:VEVENT
BEGIN:VEVENT
DTSTAMP:20260424T211940Z
UID:b125cae6-af89-4113-87a3-e21257716944
DTSTART;VALUE=DATE:20270104
DTEND;VALUE=DATE:20270105
DESCRIPTION:
LOCATION:
SUMMARY:Teacher Work Day (No School for Students)
END:VEVENT
BEGIN:VEVENT
DTSTAMP:20260424T211940Z
UID:a3b93f3e-d074-4191-b832-69f948eb34f9
DTSTART;VALUE=DATE:20270212
DTEND;VALUE=DATE:20270213
DESCRIPTION:
LOCATION:
SUMMARY:Teacher Work Day (No School for Students)
END:VEVENT
BEGIN:VEVENT
DTSTAMP:20260424T211940Z
UID:066f9ddf-3b1c-42d6-b2d0-979715654ab6
DTSTART;VALUE=DATE:20270312
DTEND;VALUE=DATE:20270313
DESCRIPTION:
LOCATION:
SUMMARY:Teacher Work Day (No School for Students)
END:VEVENT
BEGIN:VEVENT
DTSTAMP:20260424T211940Z
UID:caa83b4d-55d7-4b51-95fe-65bf3fff3134
DTSTART;VALUE=DATE:20270315
DTEND;VALUE=DATE:20270316
DESCRIPTION:
LOCATION:
SUMMARY:Teacher Prof. Dev. Day (No School for Students)
END:VEVENT
BEGIN:VEVENT
DTSTAMP:20260424T211940Z
UID:8097b2a0-f61a-4a65-921b-505269909fec
DTSTART;VALUE=DATE:20270322
DTEND;VALUE=DATE:20270323
DESCRIPTION:
LOCATION:
SUMMARY:Spring Pictures with Eastman Adams
END:VEVENT
BEGIN:VEVENT
DTSTAMP:20260424T211940Z
UID:257bf21c-7687-470c-8301-954507afb869
DTSTART;VALUE=DATE:20270405
DTEND;VALUE=DATE:20270410
DESCRIPTION:
LOCATION:
SUMMARY:Spring Break (No School)
END:VEVENT
BEGIN:VEVENT
DTSTAMP:20260424T211940Z
UID:27786f29-e88c-4ff7-bc24-35ab6d3583f9
DTSTART;VALUE=DATE:20270528
DTEND;VALUE=DATE:20270529
DESCRIPTION:
LOCATION:
SUMMARY:Last Day of School (Students excused 12:45pm)
END:VEVENT
END:VCALENDAR
