BEGIN:VCALENDAR
VERSION:2.0
PRODID:icalendar-ruby
CALSCALE:GREGORIAN
BEGIN:VTIMEZONE
TZID:America/Denver
BEGIN:DAYLIGHT
DTSTART:20260308T030000
TZOFFSETFROM:-0700
TZOFFSETTO:-0600
RRULE:FREQ=YEARLY;BYDAY=2SU;BYMONTH=3
TZNAME:MDT
END:DAYLIGHT
BEGIN:STANDARD
DTSTART:20261101T010000
TZOFFSETFROM:-0600
TZOFFSETTO:-0700
RRULE:FREQ=YEARLY;BYDAY=1SU;BYMONTH=11
TZNAME:MST
END:STANDARD
END:VTIMEZONE
BEGIN:VEVENT
DTSTAMP:20260425T221151Z
UID:9661e8ef-e7bb-4862-b23f-1e7b2822e2c1
DTSTART:20260427T083000
DTEND:20260427T110000
DESCRIPTION:
LOCATION:
SUMMARY:Nova Graduation
END:VEVENT
BEGIN:VEVENT
DTSTAMP:20260425T221151Z
UID:a8ef5aa6-e9fb-48df-aa0d-bdec4553c9ca
DTSTART;VALUE=DATE:20260430
DTEND;VALUE=DATE:20260501
DESCRIPTION:
LOCATION:
SUMMARY:Camp Blackridge 
END:VEVENT
BEGIN:VEVENT
DTSTAMP:20260425T221151Z
UID:ce8b8aaa-8cae-427d-8cf4-1baffc003342
DTSTART;VALUE=DATE:20260501
DTEND;VALUE=DATE:20260502
DESCRIPTION:
LOCATION:
SUMMARY:6th Grade to Space Center
END:VEVENT
BEGIN:VEVENT
DTSTAMP:20260425T221151Z
UID:580c78f6-14f7-415d-bdc3-e84737cd305a
DTSTART;VALUE=DATE:20260501
DTEND;VALUE=DATE:20260502
DESCRIPTION:
LOCATION:
SUMMARY:Camp Blackridge 
END:VEVENT
BEGIN:VEVENT
DTSTAMP:20260425T221151Z
UID:b0c162dc-000c-422c-93f8-72ab9a86852e
DTSTART:20260507T163000
DTEND:20260507T180000
DESCRIPTION:
LOCATION:
SUMMARY:4th Grade Utah county presentation night
END:VEVENT
BEGIN:VEVENT
DTSTAMP:20260425T221151Z
UID:91d03123-d740-4b1f-a741-0bfa83bd2f71
DTSTART:20260508T090000
DTEND:20260508T110000
DESCRIPTION:
LOCATION:
SUMMARY:4th grade Rendezvous
END:VEVENT
BEGIN:VEVENT
DTSTAMP:20260425T221151Z
UID:dff4be0c-3679-4f8a-9d60-4e2fe5dc562a
DTSTART:20260511T130000
DTEND:20260511T140000
DESCRIPTION:
LOCATION:
SUMMARY:G3 Market Day
END:VEVENT
BEGIN:VEVENT
DTSTAMP:20260425T221151Z
UID:e3db3576-c5b6-4af0-b3b4-a4901b6004b4
DTSTART:20260513T130000
DTEND:20260513T140000
DESCRIPTION:
LOCATION:
SUMMARY:Cedar Valley - Elementary Cap & Gown Walk
END:VEVENT
BEGIN:VEVENT
DTSTAMP:20260425T221151Z
UID:d64a4a44-b33f-40a2-8753-27e771c18d08
DTSTART:20260514T091500
DTEND:20260514T101500
DESCRIPTION:9:25-9:30 Kdg. \n9:30-9:35 6th Grade \n9:35-9:40 4th Grade \
 n9:40-9:45 3rd Grade\n9:45-9:50 Teacher Dance \n9:50-9:55 2nd Grade \n9:
 55-10:00 5th Grade \n10:00-10:05 1st Grade\n10:05-10:10 Small Group Class
 es
LOCATION:
SUMMARY:Dance Festival 
END:VEVENT
BEGIN:VEVENT
DTSTAMP:20260425T221151Z
UID:28617ab4-11c7-456e-854f-907f91636b70
DTSTART:20260514T130000
DTEND:20260514T140000
DESCRIPTION:1:00-1:05 Kdg.\n1:05-1:10 6th grade\n1:10-1:15 4th grade\n1:15-
 1:20 3rd grade\n1:20-1:25 Teacher Dance  \n1:25-1:30 2nd grade\n1:30-1:3
 5 5th grade\n1:35-1:40 1st Grade\n1:40-1:45 Small Group Classes
LOCATION:
SUMMARY:Dance Festival
END:VEVENT
BEGIN:VEVENT
DTSTAMP:20260425T221151Z
UID:a052f01b-5a10-4320-a5b3-760f98b47508
DTSTART:20260515T083000
DTEND:20260515T100000
DESCRIPTION:In Gym
LOCATION:
SUMMARY:6th Grade Graduation 
END:VEVENT
BEGIN:VEVENT
DTSTAMP:20260425T221151Z
UID:6c0857a6-ed0c-4f3d-9370-60eceadb961f
DTSTART:20260515T130000
DTEND:20260515T140000
DESCRIPTION:
LOCATION:
SUMMARY:G3 Ice Cream Party
END:VEVENT
BEGIN:VEVENT
DTSTAMP:20260425T221151Z
UID:7321a3f3-1436-440c-a79d-0f1663b0a2d9
DTSTART:20260518T090000
DTEND:20260518T120000
DESCRIPTION:On playground
LOCATION:
SUMMARY:6th grade BBQ
END:VEVENT
BEGIN:VEVENT
DTSTAMP:20260425T221151Z
UID:cb1f2b77-74c9-41a7-a117-a295c9fbed6d
DTSTART;VALUE=DATE:20260520
DTEND;VALUE=DATE:20260521
DESCRIPTION:
LOCATION:
SUMMARY:Field Day - No Specialty
END:VEVENT
BEGIN:VEVENT
DTSTAMP:20260425T221151Z
UID:08e71c3c-6f31-4866-87b1-44ce9cd43f6a
DTSTART;VALUE=DATE:20260522
DTEND;VALUE=DATE:20260523
DESCRIPTION:
LOCATION:
SUMMARY:LAST DAY OF SCHOOL
END:VEVENT
BEGIN:VEVENT
DTSTAMP:20260425T221151Z
UID:d5659ed2-ad86-407f-987b-07d2cc792aaf
DTSTART:20260602T090000
DTEND:20260602T130000
DESCRIPTION:
LOCATION:
SUMMARY:Summer library 
END:VEVENT
BEGIN:VEVENT
DTSTAMP:20260425T221151Z
UID:84da75b3-a9b2-40be-9ad6-da948544f5a8
DTSTART:20260609T090000
DTEND:20260609T130000
DESCRIPTION:
LOCATION:
SUMMARY:Summer library 
END:VEVENT
BEGIN:VEVENT
DTSTAMP:20260425T221151Z
UID:ce1699a6-3ef5-4670-a87b-5d947e5f235b
DTSTART:20260616T090000
DTEND:20260616T130000
DESCRIPTION:
LOCATION:
SUMMARY:Summer library 
END:VEVENT
BEGIN:VEVENT
DTSTAMP:20260425T221151Z
UID:0ec23400-e1d7-47a3-a804-c5287e75be58
DTSTART:20260623T090000
DTEND:20260623T130000
DESCRIPTION:
LOCATION:
SUMMARY:Summer library 
END:VEVENT
BEGIN:VEVENT
DTSTAMP:20260425T221151Z
UID:d2f8b518-b86d-41d8-9c48-f4326ce8e403
DTSTART:20260630T090000
DTEND:20260630T130000
DESCRIPTION:
LOCATION:
SUMMARY:Summer library 
END:VEVENT
END:VCALENDAR
