BEGIN:VCALENDAR
VERSION:2.0
PRODID:icalendar-ruby
CALSCALE:GREGORIAN
BEGIN:VTIMEZONE
TZID:America/Chicago
BEGIN:DAYLIGHT
DTSTART:20260308T030000
TZOFFSETFROM:-0600
TZOFFSETTO:-0500
RRULE:FREQ=YEARLY;BYDAY=2SU;BYMONTH=3
TZNAME:CDT
END:DAYLIGHT
BEGIN:STANDARD
DTSTART:20261101T010000
TZOFFSETFROM:-0500
TZOFFSETTO:-0600
RRULE:FREQ=YEARLY;BYDAY=1SU;BYMONTH=11
TZNAME:CST
END:STANDARD
END:VTIMEZONE
BEGIN:VEVENT
DTSTAMP:20260423T232601Z
UID:8cf2aeb8-e210-4f29-af4a-25e949132316
DTSTART:20260423T170000
DTEND:20260423T180000
DESCRIPTION:
LOCATION:
SUMMARY:HS Softball @ Gleason
END:VEVENT
BEGIN:VEVENT
DTSTAMP:20260423T232601Z
UID:b97a6b68-c1f2-4ed0-9206-beca3dbd6158
DTSTART:20260424T170000
DTEND:20260424T180000
DESCRIPTION:
LOCATION:
SUMMARY:HS Softball vs. Northside
END:VEVENT
BEGIN:VEVENT
DTSTAMP:20260423T232601Z
UID:d3a498f9-6b90-4ca8-9ba1-09f1bcf402ad
DTSTART:20260427T170000
DTEND:20260427T180000
DESCRIPTION:
LOCATION:
SUMMARY:Hs Softball @ Gibson County
END:VEVENT
BEGIN:VEVENT
DTSTAMP:20260423T232601Z
UID:5c426256-94cf-458d-9ee9-2eda96c1cb2a
DTSTART:20260428T170000
DTEND:20260428T180000
DESCRIPTION:
LOCATION:
SUMMARY:HS Softball vs Dresden
END:VEVENT
END:VCALENDAR
