BEGIN:VCALENDAR
VERSION:2.0
PRODID:icalendar-ruby
CALSCALE:GREGORIAN
BEGIN:VTIMEZONE
TZID:America/Chicago
BEGIN:DAYLIGHT
DTSTART:20260308T030000
TZOFFSETFROM:-0600
TZOFFSETTO:-0500
RRULE:FREQ=YEARLY;BYDAY=2SU;BYMONTH=3
TZNAME:CDT
END:DAYLIGHT
BEGIN:STANDARD
DTSTART:20261101T010000
TZOFFSETFROM:-0500
TZOFFSETTO:-0600
RRULE:FREQ=YEARLY;BYDAY=1SU;BYMONTH=11
TZNAME:CST
END:STANDARD
END:VTIMEZONE
BEGIN:VEVENT
DTSTAMP:20260421T161615Z
UID:d13a4681-4c0a-417b-aa79-87e4e5f717f3
DTSTART:20260427T180000
DTEND:20260427T193000
DESCRIPTION:
LOCATION:BGHS Performing Arts Center
SUMMARY:Sounds of Purple Elementary Choir Concert
END:VEVENT
BEGIN:VEVENT
DTSTAMP:20260421T161615Z
UID:801ebc75-3b4c-4a88-9a2f-9a5390b36e76
DTSTART:20260507T180000
DTEND:20260507T193000
DESCRIPTION:
LOCATION:BGHS Performing Arts Center 
SUMMARY:Elementary Strings Finale Concert
END:VEVENT
END:VCALENDAR
