BEGIN:VCALENDAR
VERSION:2.0
PRODID:icalendar-ruby
CALSCALE:GREGORIAN
BEGIN:VTIMEZONE
TZID:America/Denver
BEGIN:DAYLIGHT
DTSTART:20260308T030000
TZOFFSETFROM:-0700
TZOFFSETTO:-0600
RRULE:FREQ=YEARLY;BYDAY=2SU;BYMONTH=3
TZNAME:MDT
END:DAYLIGHT
BEGIN:STANDARD
DTSTART:20261101T010000
TZOFFSETFROM:-0600
TZOFFSETTO:-0700
RRULE:FREQ=YEARLY;BYDAY=1SU;BYMONTH=11
TZNAME:MST
END:STANDARD
END:VTIMEZONE
BEGIN:VEVENT
DTSTAMP:20260422T002822Z
UID:bfab1852-f17e-4ef4-9a15-fe7598dbce32
DTSTART:20260421T144500
DTEND:20260421T160000
DESCRIPTION:
LOCATION:
SUMMARY:Cub Scouts 358
END:VEVENT
BEGIN:VEVENT
DTSTAMP:20260422T002822Z
UID:a29303a3-c553-42ac-a327-7516b73448a6
DTSTART:20260422T085000
DTEND:20260422T085000
DESCRIPTION:
LOCATION:
SUMMARY:Late Start PLC
END:VEVENT
BEGIN:VEVENT
DTSTAMP:20260422T002822Z
UID:4a8a5451-bf6b-45bc-91ac-a5128fd5c0ef
DTSTART:20260428T181500
DTEND:20260428T200000
DESCRIPTION:
LOCATION:
SUMMARY:Cub Scouts 
END:VEVENT
BEGIN:VEVENT
DTSTAMP:20260422T002822Z
UID:a1d02ff4-38a5-467e-b8fc-ae0e28b402ad
DTSTART:20260429T085000
DTEND:20260429T085000
DESCRIPTION:
LOCATION:
SUMMARY:Late Start PLC
END:VEVENT
BEGIN:VEVENT
DTSTAMP:20260422T002822Z
UID:6331b7b9-3923-4702-8100-d35453d7a897
DTSTART:20260501T144500
DTEND:20260501T161500
DESCRIPTION:
LOCATION:
SUMMARY:Green Team Meeting
END:VEVENT
BEGIN:VEVENT
DTSTAMP:20260422T002822Z
UID:26c619c2-4c9b-4603-8343-299d8683c29b
DTSTART:20260504T171500
DTEND:20260504T200000
DESCRIPTION:
LOCATION:
SUMMARY:Girl Scouts
END:VEVENT
BEGIN:VEVENT
DTSTAMP:20260422T002822Z
UID:b5f00d58-bc82-4b30-8789-6e37453fc542
DTSTART:20260506T085000
DTEND:20260506T085000
DESCRIPTION:
LOCATION:
SUMMARY:Late Start PLC
END:VEVENT
BEGIN:VEVENT
DTSTAMP:20260422T002822Z
UID:494b0df0-6470-4dfe-bbda-fc140c617571
DTSTART;VALUE=DATE:20260511
DTEND;VALUE=DATE:20260516
DESCRIPTION:
LOCATION:
SUMMARY:Scholastic Book Fair
END:VEVENT
BEGIN:VEVENT
DTSTAMP:20260422T002822Z
UID:067339da-d65b-4c70-8b98-9718c0dfe6f7
DTSTART:20260512T181500
DTEND:20260512T200000
DESCRIPTION:
LOCATION:
SUMMARY:Cub Scouts 
END:VEVENT
BEGIN:VEVENT
DTSTAMP:20260422T002822Z
UID:10805bb4-6ed9-4780-9a33-c07cd105d239
DTSTART:20260513T085000
DTEND:20260513T085000
DESCRIPTION:
LOCATION:
SUMMARY:Late Start PLC
END:VEVENT
BEGIN:VEVENT
DTSTAMP:20260422T002822Z
UID:6537b78a-3ae6-453d-b1d7-893a6a1badbf
DTSTART:20260519T144500
DTEND:20260519T160000
DESCRIPTION:
LOCATION:
SUMMARY:Cub Scouts 358
END:VEVENT
BEGIN:VEVENT
DTSTAMP:20260422T002822Z
UID:71a6a6f0-fdf8-44eb-9e8f-48ebacdca244
DTSTART:20260520T085000
DTEND:20260520T085000
DESCRIPTION:
LOCATION:
SUMMARY:Late Start PLC
END:VEVENT
BEGIN:VEVENT
DTSTAMP:20260422T002822Z
UID:1281445d-af16-4c74-8c60-9b639d9cf429
DTSTART:20260521T133000
DTEND:20260521T143000
DESCRIPTION:
LOCATION:
SUMMARY:Kindergarten Celebration
END:VEVENT
BEGIN:VEVENT
DTSTAMP:20260422T002822Z
UID:e7dfdb8f-cbb3-4ecc-a10b-5da5f71995d1
DTSTART;VALUE=DATE:20260522
DTEND;VALUE=DATE:20260523
DESCRIPTION:
LOCATION:
SUMMARY:Last Day of School\, Early Release
END:VEVENT
BEGIN:VEVENT
DTSTAMP:20260422T002822Z
UID:dbf90796-ce02-4371-9a1b-d333fd7ed42a
DTSTART;VALUE=DATE:20260811
DTEND;VALUE=DATE:20260812
DESCRIPTION:
LOCATION:
SUMMARY:First Day of School-1st-5th Early Release Day
END:VEVENT
BEGIN:VEVENT
DTSTAMP:20260422T002822Z
UID:d2ce8142-17c5-4b10-aad3-4039b2278f4d
DTSTART;VALUE=DATE:20260907
DTEND;VALUE=DATE:20260908
DESCRIPTION:
LOCATION:
SUMMARY:No School-Labor Day
END:VEVENT
BEGIN:VEVENT
DTSTAMP:20260422T002822Z
UID:0b4dfe88-3b83-49c6-9da0-d921ce9f1ad4
DTSTART;VALUE=DATE:20260917
DTEND;VALUE=DATE:20260918
DESCRIPTION:
LOCATION:
SUMMARY:Picture Day
END:VEVENT
BEGIN:VEVENT
DTSTAMP:20260422T002822Z
UID:e36911db-98a2-451f-9fee-0e1217ebee98
DTSTART;VALUE=DATE:20260925
DTEND;VALUE=DATE:20260926
DESCRIPTION:
LOCATION:
SUMMARY:Non-Student Day-No School 
END:VEVENT
BEGIN:VEVENT
DTSTAMP:20260422T002822Z
UID:65cb7587-fdab-4064-b81a-ea1d77373272
DTSTART;VALUE=DATE:20261015
DTEND;VALUE=DATE:20261016
DESCRIPTION:
LOCATION:
SUMMARY:Parent Teacher Conf-No School
END:VEVENT
BEGIN:VEVENT
DTSTAMP:20260422T002822Z
UID:ffa6391e-38d4-48b4-88aa-67f14cfa1c90
DTSTART;VALUE=DATE:20261016
DTEND;VALUE=DATE:20261017
DESCRIPTION:
LOCATION:
SUMMARY:No School
END:VEVENT
BEGIN:VEVENT
DTSTAMP:20260422T002822Z
UID:2a70d9c3-8508-455f-9341-8067ec97810c
DTSTART;VALUE=DATE:20261019
DTEND;VALUE=DATE:20261020
DESCRIPTION:
LOCATION:
SUMMARY:Non-student Day-No School
END:VEVENT
BEGIN:VEVENT
DTSTAMP:20260422T002822Z
UID:027b99d9-0289-4e96-94cc-bde3878064ed
DTSTART;VALUE=DATE:20261103
DTEND;VALUE=DATE:20261104
DESCRIPTION:
LOCATION:
SUMMARY:Picture Retake Day
END:VEVENT
BEGIN:VEVENT
DTSTAMP:20260422T002822Z
UID:4d801d75-17b2-4f2b-9338-a0c9c720943f
DTSTART;VALUE=DATE:20261123
DTEND;VALUE=DATE:20261128
DESCRIPTION:
LOCATION:
SUMMARY:Thanksgiving Break
END:VEVENT
BEGIN:VEVENT
DTSTAMP:20260422T002822Z
UID:dc76928a-3927-4948-bbec-357c161688a5
DTSTART;VALUE=DATE:20261221
DTEND;VALUE=DATE:20261226
DESCRIPTION:
LOCATION:
SUMMARY:Winter Break
END:VEVENT
BEGIN:VEVENT
DTSTAMP:20260422T002822Z
UID:0deb14bf-7ff5-4e30-bdd3-3000028d6601
DTSTART;VALUE=DATE:20261228
DTEND;VALUE=DATE:20270102
DESCRIPTION:
LOCATION:
SUMMARY:Winter Break
END:VEVENT
BEGIN:VEVENT
DTSTAMP:20260422T002822Z
UID:68914825-a98c-4cc4-b480-e98dd4128546
DTSTART;VALUE=DATE:20270104
DTEND;VALUE=DATE:20270105
DESCRIPTION:
LOCATION:
SUMMARY:Non-Student Day-No School
END:VEVENT
BEGIN:VEVENT
DTSTAMP:20260422T002822Z
UID:f715652d-eefa-42b3-95f3-395bb8bbc161
DTSTART;VALUE=DATE:20270118
DTEND;VALUE=DATE:20270119
DESCRIPTION:
LOCATION:
SUMMARY:MLK Day-No School
END:VEVENT
BEGIN:VEVENT
DTSTAMP:20260422T002822Z
UID:a46bdcb2-1d6a-4de2-9fb5-1f93b5e50ea2
DTSTART;VALUE=DATE:20270212
DTEND;VALUE=DATE:20270213
DESCRIPTION:
LOCATION:
SUMMARY:Non-Student Day-No School
END:VEVENT
BEGIN:VEVENT
DTSTAMP:20260422T002822Z
UID:d8b98e66-3b26-4f1d-8858-c9d8c74d2bd1
DTSTART;VALUE=DATE:20270215
DTEND;VALUE=DATE:20270216
DESCRIPTION:
LOCATION:
SUMMARY:Presidents' Day-No School
END:VEVENT
BEGIN:VEVENT
DTSTAMP:20260422T002822Z
UID:e266298f-d72a-4df9-8bff-9eaf702050f6
DTSTART;VALUE=DATE:20270301
DTEND;VALUE=DATE:20270304
DESCRIPTION:
LOCATION:
SUMMARY:No Enrichment
END:VEVENT
BEGIN:VEVENT
DTSTAMP:20260422T002822Z
UID:04d2c9ba-79a8-4980-834f-bd2435dfe801
DTSTART;VALUE=DATE:20270304
DTEND;VALUE=DATE:20270305
DESCRIPTION:
LOCATION:
SUMMARY:Parent/Teacher Conf-No School 
END:VEVENT
BEGIN:VEVENT
DTSTAMP:20260422T002822Z
UID:eb08f9b7-229b-4936-9b89-7c25e261580f
DTSTART;VALUE=DATE:20270305
DTEND;VALUE=DATE:20270306
DESCRIPTION:
LOCATION:
SUMMARY:No School-Teacher Comp Day
END:VEVENT
BEGIN:VEVENT
DTSTAMP:20260422T002822Z
UID:aa3f51e5-61f0-4295-864c-ff507442f0a2
DTSTART;VALUE=DATE:20270318
DTEND;VALUE=DATE:20270319
DESCRIPTION:
LOCATION:
SUMMARY:Class Picture Day
END:VEVENT
BEGIN:VEVENT
DTSTAMP:20260422T002822Z
UID:8afde21c-f525-4df3-806f-e375e8ad81e4
DTSTART;VALUE=DATE:20270322
DTEND;VALUE=DATE:20270327
DESCRIPTION:
LOCATION:
SUMMARY:Spring Break
END:VEVENT
BEGIN:VEVENT
DTSTAMP:20260422T002822Z
UID:645696f5-d64c-4056-932e-a053d6a55abd
DTSTART;VALUE=DATE:20270416
DTEND;VALUE=DATE:20270417
DESCRIPTION:
LOCATION:
SUMMARY:Non-Student Day-No School
END:VEVENT
BEGIN:VEVENT
DTSTAMP:20260422T002822Z
UID:394b77cb-de5c-4149-95e5-c673abc6c1f4
DTSTART;VALUE=DATE:20270419
DTEND;VALUE=DATE:20270420
DESCRIPTION:
LOCATION:
SUMMARY:Non-Student Day-No School 
END:VEVENT
BEGIN:VEVENT
DTSTAMP:20260422T002822Z
UID:7e2b6344-98ad-460f-8c95-47ebd8d61bd5
DTSTART;VALUE=DATE:20270521
DTEND;VALUE=DATE:20270522
DESCRIPTION:
LOCATION:
SUMMARY:Last Day of School-Early Release
END:VEVENT
END:VCALENDAR
