BEGIN:VCALENDAR
VERSION:2.0
PRODID:icalendar-ruby
CALSCALE:GREGORIAN
BEGIN:VTIMEZONE
TZID:America/New_York
BEGIN:DAYLIGHT
DTSTART:20260308T030000
TZOFFSETFROM:-0500
TZOFFSETTO:-0400
RRULE:FREQ=YEARLY;BYDAY=2SU;BYMONTH=3
TZNAME:EDT
END:DAYLIGHT
BEGIN:STANDARD
DTSTART:20261101T010000
TZOFFSETFROM:-0400
TZOFFSETTO:-0500
RRULE:FREQ=YEARLY;BYDAY=1SU;BYMONTH=11
TZNAME:EST
END:STANDARD
END:VTIMEZONE
BEGIN:VEVENT
DTSTAMP:20260424T214803Z
UID:a28e32e2-3171-44e3-907c-ea5cc71eaa89
DTSTART:20260427T190000
DTEND:20260427T200000
DESCRIPTION:
LOCATION:90 Livingston Blvd\, Gaylord\, MI 49735\, USA
SUMMARY:NHS Inductions
END:VEVENT
BEGIN:VEVENT
DTSTAMP:20260424T214803Z
UID:675f9e56-b375-4c46-bf4b-083707fe33a0
DTSTART:20260505T120000
DTEND:20260505T130000
DESCRIPTION:
LOCATION:Gaylord Board of Education\, 615 S Elm Ave\, Gaylord\, MI 49735\, 
 USA
SUMMARY:Board Workshop
END:VEVENT
BEGIN:VEVENT
DTSTAMP:20260424T214803Z
UID:93966d3d-c9f0-44d9-9960-ed9996ea94fa
DTSTART:20260511T180000
DTEND:20260511T190000
DESCRIPTION:
LOCATION:Gaylord Board of Education\, 615 S Elm Ave\, Gaylord\, MI 49735\, 
 USA
SUMMARY:Regular Board Meeting
END:VEVENT
BEGIN:VEVENT
DTSTAMP:20260424T214803Z
UID:e4684722-3cd5-491b-a52f-d03d5e8a2317
DTSTART:20260512T190000
DTEND:20260512T203000
DESCRIPTION:
LOCATION:90 Livingston Blvd\, Gaylord\, MI 49735\, USA
SUMMARY:Gaylord Middle School Band Concert
END:VEVENT
BEGIN:VEVENT
DTSTAMP:20260424T214803Z
UID:60c7b709-cf7d-46b8-91d8-8548257f1646
DTSTART:20260512T190000
DTEND:20260512T200000
DESCRIPTION:
LOCATION:90 Livingston Blvd\, Gaylord\, MI 49735\, USA
SUMMARY:GMS Band Concert
END:VEVENT
BEGIN:VEVENT
DTSTAMP:20260424T214803Z
UID:eeb40572-988b-45f0-9bf4-f508195bc7c5
DTSTART:20260513T190000
DTEND:20260513T200000
DESCRIPTION:
LOCATION:90 Livingston Blvd\, Gaylord\, MI 49735\, USA
SUMMARY:GHS Band Concert
END:VEVENT
BEGIN:VEVENT
DTSTAMP:20260424T214803Z
UID:27591d55-e86a-4910-ba91-08ac544d8175
DTSTART:20260514T180000
DTEND:20260514T200000
DESCRIPTION:
LOCATION:90 Livingston Blvd\, Gaylord\, MI 49735\, USA
SUMMARY:6th Grade Band Concert
END:VEVENT
BEGIN:VEVENT
DTSTAMP:20260424T214803Z
UID:d75f51a2-8a5c-444e-b6b2-6ee285a14b84
DTSTART:20260518T190000
DTEND:20260518T203000
DESCRIPTION:
LOCATION:E-Free Church Gaylord Campus\, 1649 M-32\, Gaylord\, MI 49735\, US
 A
SUMMARY:Honors Convocation
END:VEVENT
BEGIN:VEVENT
DTSTAMP:20260424T214803Z
UID:5ca42a33-fb48-4270-af7d-1bf0a1a3c627
DTSTART:20260519T190000
DTEND:20260519T200000
DESCRIPTION:
LOCATION:90 Livingston Blvd\, Gaylord\, MI 49735\, USA
SUMMARY:GHS Choir Concert
END:VEVENT
BEGIN:VEVENT
DTSTAMP:20260424T214803Z
UID:ec91a665-f3ea-4717-b1d5-03711744a10f
DTSTART:20260520T090000
DTEND:20260520T110000
DESCRIPTION:
LOCATION:90 Livingston Blvd\, Gaylord\, MI 49735\, USA
SUMMARY:NOE Spring Sing
END:VEVENT
BEGIN:VEVENT
DTSTAMP:20260424T214803Z
UID:72007340-208f-432b-82bc-d1f35a71ad6d
DTSTART:20260521T190000
DTEND:20260521T203000
DESCRIPTION:
LOCATION:90 Livingston Blvd\, Gaylord\, MI 49735\, USA
SUMMARY:Gaylord Middle School Choir Concert
END:VEVENT
BEGIN:VEVENT
DTSTAMP:20260424T214803Z
UID:0f367b16-697b-45f1-9949-f8109232a292
DTSTART:20260521T190000
DTEND:20260521T200000
DESCRIPTION:
LOCATION:90 Livingston Blvd\, Gaylord\, MI 49735\, USA
SUMMARY:GMS Choir Concert
END:VEVENT
BEGIN:VEVENT
DTSTAMP:20260424T214803Z
UID:5908bfe6-771f-4231-8e16-a6c9450c4653
DTSTART;VALUE=DATE:20260522
DTEND;VALUE=DATE:20260523
DESCRIPTION:
LOCATION:90 Livingston Blvd\, Gaylord\, MI 49735\, USA
SUMMARY:Class of 2026 Last Day of School
END:VEVENT
BEGIN:VEVENT
DTSTAMP:20260424T214803Z
UID:0120f713-6acf-4c3d-b518-b0ee7df0ccd3
DTSTART;VALUE=DATE:20260525
DTEND;VALUE=DATE:20260526
DESCRIPTION:
LOCATION:
SUMMARY:No School - Memorial Day
END:VEVENT
BEGIN:VEVENT
DTSTAMP:20260424T214803Z
UID:708a0d3f-92ee-4b6c-acc1-1513bda406ef
DTSTART:20260527T130000
DTEND:20260527T180000
DESCRIPTION:
LOCATION:615 S Elm Ave\, Gaylord\, MI 49735\, USA
SUMMARY:Dental Assessment for Kindergarten
END:VEVENT
BEGIN:VEVENT
DTSTAMP:20260424T214803Z
UID:15bf2c3e-bb72-4d18-962e-9bdb0f6d4460
DTSTART:20260527T130000
DTEND:20260527T180000
DESCRIPTION:
LOCATION:615 S Elm Ave\, Gaylord\, MI 49735\, USA
SUMMARY:Hearing and Vision Screening for Kindergarten 
END:VEVENT
BEGIN:VEVENT
DTSTAMP:20260424T214803Z
UID:8cd8b2a1-cd94-4bcb-a8a9-b1105e7b9e5c
DTSTART:20260527T130000
DTEND:20260527T180000
DESCRIPTION:
LOCATION:615 S Elm Ave\, Gaylord\, MI 49735\, USA
SUMMARY:Immunization Clinic for PK-12th Grades
END:VEVENT
BEGIN:VEVENT
DTSTAMP:20260424T214803Z
UID:7acba10b-18d4-432a-a8ba-57ab4b0c2468
DTSTART:20260527T190000
DTEND:20260527T200000
DESCRIPTION:
LOCATION:90 Livingston Blvd\, Gaylord\, MI 49735\, USA
SUMMARY:6th Grade Band Concert
END:VEVENT
BEGIN:VEVENT
DTSTAMP:20260424T214803Z
UID:086d9d4c-43c5-4da4-9007-127565539349
DTSTART:20260529T190000
DTEND:20260529T203000
DESCRIPTION:
LOCATION:90 Livingston Blvd\, Gaylord\, MI 49735\, USA
SUMMARY:Graduation 
END:VEVENT
BEGIN:VEVENT
DTSTAMP:20260424T214803Z
UID:66b72a8d-da1f-4d95-9ca6-5857174e4cc1
DTSTART;VALUE=DATE:20260602
DTEND;VALUE=DATE:20260603
DESCRIPTION:
LOCATION:912 N Ohio Ave\, Gaylord\, MI 49735\, USA
SUMMARY:NOE Fun Day
END:VEVENT
BEGIN:VEVENT
DTSTAMP:20260424T214803Z
UID:005df912-9929-4f60-ac9b-f004cb577c75
DTSTART:20260602T120000
DTEND:20260602T130000
DESCRIPTION:
LOCATION:Gaylord Board of Education\, 615 S Elm Ave\, Gaylord\, MI 49735\, 
 USA
SUMMARY:Board Workshop
END:VEVENT
BEGIN:VEVENT
DTSTAMP:20260424T214803Z
UID:7c361218-109a-4986-a4d4-21848002a732
DTSTART;VALUE=DATE:20260608
DTEND;VALUE=DATE:20260609
DESCRIPTION:<ul> <li>GHS     Dismissal – 11:27am</li> <li>GMS     Dismiss
 al - 11:55am</li> <li>GIS     Dismissal - 12:00pm</li> <li>NOE     Dismiss
 al - 11:30am</li><li>SME Dismissal - 11:50am</li></ul>
LOCATION:
SUMMARY:Last Day of School - Half Day
END:VEVENT
BEGIN:VEVENT
DTSTAMP:20260424T214803Z
UID:13208d87-a8a5-49f3-8d49-69dd5141801c
DTSTART:20260608T180000
DTEND:20260608T190000
DESCRIPTION:
LOCATION:Gaylord Board of Education\, 615 S Elm Ave\, Gaylord\, MI 49735\, 
 USA
SUMMARY:Regular Board Meeting
END:VEVENT
BEGIN:VEVENT
DTSTAMP:20260424T214803Z
UID:21ad5b7e-d053-4abb-8b7c-7d3df5238fe9
DTSTART:20260707T120000
DTEND:20260707T130000
DESCRIPTION:
LOCATION:Gaylord Board of Education\, 615 S Elm Ave\, Gaylord\, MI 49735\, 
 USA
SUMMARY:Board Workshop
END:VEVENT
BEGIN:VEVENT
DTSTAMP:20260424T214803Z
UID:4d7a9a94-c19e-4d38-b93f-9580cedf3fcc
DTSTART:20260713T180000
DTEND:20260713T190000
DESCRIPTION:
LOCATION:Gaylord Board of Education\, 615 S Elm Ave\, Gaylord\, MI 49735\, 
 USA
SUMMARY:Regular Board Meeting
END:VEVENT
BEGIN:VEVENT
DTSTAMP:20260424T214803Z
UID:4ff1eacb-e683-4f9f-87b4-ff99edcfb31f
DTSTART:20260803T130000
DTEND:20260803T180000
DESCRIPTION:
LOCATION:615 S Elm Ave\, Gaylord\, MI 49735\, USA
SUMMARY:Dental Assessment for Kindergarten
END:VEVENT
BEGIN:VEVENT
DTSTAMP:20260424T214803Z
UID:d4bea00b-d927-4941-8589-f1936a489d5d
DTSTART:20260803T130000
DTEND:20260803T180000
DESCRIPTION:
LOCATION:615 S Elm Ave\, Gaylord\, MI 49735\, USA
SUMMARY:Hearing and Vision Screening for Kindergarten
END:VEVENT
BEGIN:VEVENT
DTSTAMP:20260424T214803Z
UID:dab0c1ed-5c14-4d8a-b486-646b234e4615
DTSTART:20260803T130000
DTEND:20260803T180000
DESCRIPTION:
LOCATION:615 S Elm Ave\, Gaylord\, MI 49735\, USA
SUMMARY:Immunization Clinic for PK-12th Grades
END:VEVENT
BEGIN:VEVENT
DTSTAMP:20260424T214803Z
UID:b2d1dce8-4038-4db1-9d86-9344c00a5766
DTSTART:20260804T120000
DTEND:20260804T130000
DESCRIPTION:
LOCATION:Gaylord Board of Education\, 615 S Elm Ave\, Gaylord\, MI 49735\, 
 USA
SUMMARY:Board Workshop
END:VEVENT
BEGIN:VEVENT
DTSTAMP:20260424T214803Z
UID:6d3cbce3-7900-4bd8-9945-cfeb50fbb7fd
DTSTART:20260810T180000
DTEND:20260810T190000
DESCRIPTION:
LOCATION:Gaylord Board of Education\, 615 S Elm Ave\, Gaylord\, MI 49735\, 
 USA
SUMMARY:Regular Board Meeting
END:VEVENT
BEGIN:VEVENT
DTSTAMP:20260424T214803Z
UID:5d5ca95e-8289-490e-833a-a67bf75be64c
DTSTART:20260908T120000
DTEND:20260908T130000
DESCRIPTION:
LOCATION:Gaylord Board of Education\, 615 S Elm Ave\, Gaylord\, MI 49735\, 
 USA
SUMMARY:Board Workshop
END:VEVENT
BEGIN:VEVENT
DTSTAMP:20260424T214803Z
UID:6af04a88-c2e2-48e1-adf4-22fd04c91dea
DTSTART:20260914T180000
DTEND:20260914T190000
DESCRIPTION:
LOCATION:Gaylord Board of Education\, 615 S Elm Ave\, Gaylord\, MI 49735\, 
 USA
SUMMARY:Regular Board Meeting
END:VEVENT
BEGIN:VEVENT
DTSTAMP:20260424T214803Z
UID:9b87364f-fb5a-479d-bfc8-9c0c4b030b22
DTSTART:20261006T120000
DTEND:20261006T130000
DESCRIPTION:
LOCATION:Gaylord Board of Education\, 615 S Elm Ave\, Gaylord\, MI 49735\, 
 USA
SUMMARY:Board Workshop
END:VEVENT
BEGIN:VEVENT
DTSTAMP:20260424T214803Z
UID:d4cc42d5-12d5-4792-9f30-5588fd84852d
DTSTART:20261012T180000
DTEND:20261012T190000
DESCRIPTION:
LOCATION:Gaylord Board of Education\, 615 S Elm Ave\, Gaylord\, MI 49735\, 
 USA
SUMMARY:Regular Board Meeting
END:VEVENT
BEGIN:VEVENT
DTSTAMP:20260424T214803Z
UID:839c4fd3-7995-44b9-b9fd-cac014787762
DTSTART:20261103T120000
DTEND:20261103T130000
DESCRIPTION:
LOCATION:Gaylord Board of Education\, 615 S Elm Ave\, Gaylord\, MI 49735\, 
 USA
SUMMARY:Board Workshop
END:VEVENT
BEGIN:VEVENT
DTSTAMP:20260424T214803Z
UID:22455449-61ed-49c7-af8b-3af932067b8b
DTSTART:20261109T180000
DTEND:20261109T190000
DESCRIPTION:
LOCATION:Gaylord Board of Education\, 615 S Elm Ave\, Gaylord\, MI 49735\, 
 USA
SUMMARY:Regular Board Meeting
END:VEVENT
BEGIN:VEVENT
DTSTAMP:20260424T214803Z
UID:53fea165-e55c-4a3f-99a1-4e65963cec16
DTSTART:20261208T120000
DTEND:20261208T130000
DESCRIPTION:
LOCATION:Gaylord Board of Education\, 615 S Elm Ave\, Gaylord\, MI 49735\, 
 USA
SUMMARY:Board Workshop
END:VEVENT
BEGIN:VEVENT
DTSTAMP:20260424T214803Z
UID:8ef18d20-361d-4432-a56d-25f305204f46
DTSTART:20261214T180000
DTEND:20261214T190000
DESCRIPTION:
LOCATION:Gaylord Board of Education\, 615 S Elm Ave\, Gaylord\, MI 49735\, 
 USA
SUMMARY:Regular Board Meeting
END:VEVENT
BEGIN:VEVENT
DTSTAMP:20260424T214803Z
UID:6aa49cc4-737b-43d8-8fa9-97f8a47a0bb6
DTSTART:20270105T120000
DTEND:20270105T130000
DESCRIPTION:
LOCATION:Gaylord Board of Education\, 615 S Elm Ave\, Gaylord\, MI 49735\, 
 USA
SUMMARY:Board Workshop
END:VEVENT
BEGIN:VEVENT
DTSTAMP:20260424T214803Z
UID:0eca5292-976a-4939-97ae-73ca8e1c5915
DTSTART:20270111T173000
DTEND:20270111T183000
DESCRIPTION:
LOCATION:Gaylord Board of Education\, 615 S Elm Ave\, Gaylord\, MI 49735\, 
 USA
SUMMARY:Organizational Board Meeting
END:VEVENT
BEGIN:VEVENT
DTSTAMP:20260424T214803Z
UID:4f1d0b1b-d8cc-408e-a33c-63b7040ca911
DTSTART:20270111T180000
DTEND:20270111T190000
DESCRIPTION:
LOCATION:Gaylord Board of Education\, 615 S Elm Ave\, Gaylord\, MI 49735\, 
 USA
SUMMARY:Regular Board Meeting
END:VEVENT
END:VCALENDAR
