BEGIN:VCALENDAR
VERSION:2.0
PRODID:icalendar-ruby
CALSCALE:GREGORIAN
BEGIN:VTIMEZONE
TZID:America/Phoenix
BEGIN:STANDARD
DTSTART:19671029T010000
TZOFFSETFROM:-0600
TZOFFSETTO:-0700
TZNAME:MST
END:STANDARD
END:VTIMEZONE
BEGIN:VEVENT
DTSTAMP:20260421T095746Z
UID:9939b782-5a5c-49b4-b836-c64e867b1615
DTSTART;VALUE=DATE:20260423
DTEND;VALUE=DATE:20260424
DESCRIPTION:
LOCATION:
SUMMARY:Birthday Celebration
END:VEVENT
BEGIN:VEVENT
DTSTAMP:20260421T095746Z
UID:50869b28-6e59-476c-a9e0-29870cfb6190
DTSTART;VALUE=DATE:20260430
DTEND;VALUE=DATE:20260501
DESCRIPTION:
LOCATION:
SUMMARY:Early Dismissal @11:00 A.M. 
END:VEVENT
BEGIN:VEVENT
DTSTAMP:20260421T095746Z
UID:b66ff5cd-eb65-4da5-afc0-2f50dd2c8a1b
DTSTART;VALUE=DATE:20260504
DTEND;VALUE=DATE:20260509
DESCRIPTION:
LOCATION:
SUMMARY:Teacher Appreciation Week
END:VEVENT
BEGIN:VEVENT
DTSTAMP:20260421T095746Z
UID:ec9f3806-13e0-4a5d-8c18-150e8617d31e
DTSTART:20260505T180000
DTEND:20260505T190000
DESCRIPTION:
LOCATION:
SUMMARY:PTL: Citizenship Awards & 1st Grade Performance
END:VEVENT
BEGIN:VEVENT
DTSTAMP:20260421T095746Z
UID:e2a893f6-aab0-469d-9c6b-2092eb555239
DTSTART;VALUE=DATE:20260518
DTEND;VALUE=DATE:20260522
DESCRIPTION:
LOCATION:
SUMMARY:Early Dismissal @12:15 p.m
END:VEVENT
BEGIN:VEVENT
DTSTAMP:20260421T095746Z
UID:bf4984ba-8ed4-4a2b-bbbc-d933e739c0f5
DTSTART;VALUE=DATE:20260520
DTEND;VALUE=DATE:20260521
DESCRIPTION:
LOCATION:
SUMMARY:Kindergarten Last Day
END:VEVENT
BEGIN:VEVENT
DTSTAMP:20260421T095746Z
UID:47e67060-1011-4779-89c1-5f64bb2b16a9
DTSTART;VALUE=DATE:20260521
DTEND;VALUE=DATE:20260522
DESCRIPTION:
LOCATION:
SUMMARY:1st-5th Grade Last Day Of School
END:VEVENT
BEGIN:VEVENT
DTSTAMP:20260421T095746Z
UID:b9ec7965-9b5c-4d1f-b6ff-99b52bdda1d3
DTSTART;VALUE=DATE:20260522
DTEND;VALUE=DATE:20260523
DESCRIPTION:
LOCATION:
SUMMARY:Office Closed
END:VEVENT
BEGIN:VEVENT
DTSTAMP:20260421T095746Z
UID:d515af1d-dca9-479f-b570-4da578217621
DTSTART;VALUE=DATE:20260525
DTEND;VALUE=DATE:20260526
DESCRIPTION:
LOCATION:
SUMMARY:Office Closed
END:VEVENT
END:VCALENDAR
