BEGIN:VCALENDAR
VERSION:2.0
PRODID:icalendar-ruby
CALSCALE:GREGORIAN
BEGIN:VTIMEZONE
TZID:America/New_York
BEGIN:DAYLIGHT
DTSTART:20260308T030000
TZOFFSETFROM:-0500
TZOFFSETTO:-0400
RRULE:FREQ=YEARLY;BYDAY=2SU;BYMONTH=3
TZNAME:EDT
END:DAYLIGHT
BEGIN:STANDARD
DTSTART:20261101T010000
TZOFFSETFROM:-0400
TZOFFSETTO:-0500
RRULE:FREQ=YEARLY;BYDAY=1SU;BYMONTH=11
TZNAME:EST
END:STANDARD
END:VTIMEZONE
BEGIN:VEVENT
DTSTAMP:20260421T112242Z
UID:cd1d4b7c-80ac-4bb6-98e5-7a895a6f9544
DTSTART;VALUE=DATE:20260422
DTEND;VALUE=DATE:20260423
DESCRIPTION: - Link: http://kanawha.schoology.com/event/7929588473/profile
LOCATION:
SUMMARY:Secretary's Day
END:VEVENT
BEGIN:VEVENT
DTSTAMP:20260421T112242Z
UID:fc342008-1c24-434b-a1a2-fd34f9523a47
DTSTART;VALUE=DATE:20260424
DTEND;VALUE=DATE:20260425
DESCRIPTION: - Link: http://kanawha.schoology.com/event/7929589597/profile
LOCATION:
SUMMARY:midterms for the 4th nine weeks
END:VEVENT
BEGIN:VEVENT
DTSTAMP:20260421T112242Z
UID:af1d604e-ab8e-4f2e-84cd-3ba784eae3a5
DTSTART;VALUE=DATE:20260429
DTEND;VALUE=DATE:20260430
DESCRIPTION: - Link: http://kanawha.schoology.com/event/7929590357/profile
LOCATION:
SUMMARY:Workout Wear Wednesday
END:VEVENT
BEGIN:VEVENT
DTSTAMP:20260421T112242Z
UID:0168bd21-60c2-4879-8c01-7d5824e333ae
DTSTART;VALUE=DATE:20260501
DTEND;VALUE=DATE:20260502
DESCRIPTION: - Link: http://kanawha.schoology.com/event/7929592640/profile
LOCATION:
SUMMARY:School Lunch-Hero Day
END:VEVENT
BEGIN:VEVENT
DTSTAMP:20260421T112242Z
UID:8f6ed2a7-5330-4844-945a-1a5296bb7ec7
DTSTART;VALUE=DATE:20260504
DTEND;VALUE=DATE:20260505
DESCRIPTION: - Link: http://kanawha.schoology.com/event/7929594403/profile
LOCATION:
SUMMARY:Teacher Appreciation Week
END:VEVENT
BEGIN:VEVENT
DTSTAMP:20260421T112242Z
UID:33c70338-6382-41d7-b4cc-0bd2049ea654
DTSTART;VALUE=DATE:20260505
DTEND;VALUE=DATE:20260506
DESCRIPTION: - Link: http://kanawha.schoology.com/event/7929596929/profile
LOCATION:
SUMMARY:KCS Art Show begins @ Charleston Convention Center
END:VEVENT
BEGIN:VEVENT
DTSTAMP:20260421T112242Z
UID:b769499c-a068-44bc-98a9-93cc0f62b357
DTSTART;VALUE=DATE:20260506
DTEND;VALUE=DATE:20260507
DESCRIPTION: - Link: http://kanawha.schoology.com/event/7929598170/profile
LOCATION:
SUMMARY:National School Nurse Day
END:VEVENT
BEGIN:VEVENT
DTSTAMP:20260421T112242Z
UID:ec853f0e-ca8f-4488-b1a4-422de284b4f9
DTSTART;VALUE=DATE:20260507
DTEND;VALUE=DATE:20260508
DESCRIPTION: - Link: http://kanawha.schoology.com/event/7929610742/profile
LOCATION:
SUMMARY:Elementary Art Show Awards @ 6:00PM
END:VEVENT
BEGIN:VEVENT
DTSTAMP:20260421T112242Z
UID:c011db9b-d2c4-49fe-b0ab-9895f4da1a42
DTSTART;VALUE=DATE:20260508
DTEND;VALUE=DATE:20260509
DESCRIPTION: - Link: http://kanawha.schoology.com/event/7929611267/profile
LOCATION:
SUMMARY:Wildcat Pride Day!
END:VEVENT
BEGIN:VEVENT
DTSTAMP:20260421T112242Z
UID:186f0232-d536-48e5-8ebc-268e477f0fe8
DTSTART;VALUE=DATE:20260512
DTEND;VALUE=DATE:20260513
DESCRIPTION: - Link: http://kanawha.schoology.com/event/7929612053/profile
LOCATION:
SUMMARY:No School (election day)
END:VEVENT
BEGIN:VEVENT
DTSTAMP:20260421T112242Z
UID:b25e48b9-4424-4ab5-8db2-23216f91a92d
DTSTART;VALUE=DATE:20260525
DTEND;VALUE=DATE:20260526
DESCRIPTION: - Link: http://kanawha.schoology.com/event/7929613035/profile
LOCATION:
SUMMARY:No School (Memorial Day)
END:VEVENT
BEGIN:VEVENT
DTSTAMP:20260421T112242Z
UID:5a4c90b7-c019-4996-bc5a-17f48b71546e
DTSTART;VALUE=DATE:20260527
DTEND;VALUE=DATE:20260528
DESCRIPTION: - Link: http://kanawha.schoology.com/event/7929613580/profile
LOCATION:
SUMMARY:Workout Wear Wednesday
END:VEVENT
BEGIN:VEVENT
DTSTAMP:20260421T112242Z
UID:e97f3071-b52b-4b7c-ba44-8127ce66d8a5
DTSTART;VALUE=DATE:20260529
DTEND;VALUE=DATE:20260530
DESCRIPTION: - Link: http://kanawha.schoology.com/event/7929614541/profile
LOCATION:
SUMMARY:Last Day for Students
END:VEVENT
BEGIN:VEVENT
DTSTAMP:20260421T112242Z
UID:111f9663-a328-4338-a071-26690e5ce597
DTSTART;VALUE=DATE:20260529
DTEND;VALUE=DATE:20260530
DESCRIPTION: - Link: http://kanawha.schoology.com/event/7929616111/profile
LOCATION:
SUMMARY:Report Cards sent home!
END:VEVENT
END:VCALENDAR
