BEGIN:VCALENDAR
VERSION:2.0
PRODID:icalendar-ruby
CALSCALE:GREGORIAN
BEGIN:VTIMEZONE
TZID:America/New_York
BEGIN:DAYLIGHT
DTSTART:20260308T030000
TZOFFSETFROM:-0500
TZOFFSETTO:-0400
RRULE:FREQ=YEARLY;BYDAY=2SU;BYMONTH=3
TZNAME:EDT
END:DAYLIGHT
BEGIN:STANDARD
DTSTART:20261101T010000
TZOFFSETFROM:-0400
TZOFFSETTO:-0500
RRULE:FREQ=YEARLY;BYDAY=1SU;BYMONTH=11
TZNAME:EST
END:STANDARD
END:VTIMEZONE
BEGIN:VEVENT
DTSTAMP:20260421T165948Z
UID:8d88ed46-301e-40d8-84d0-3f0b38b0c69e
DTSTART;VALUE=DATE:20260424
DTEND;VALUE=DATE:20260425
DESCRIPTION:
LOCATION:
SUMMARY:Exceptional Games- Rain Date
END:VEVENT
BEGIN:VEVENT
DTSTAMP:20260421T165948Z
UID:8994b081-51f0-4397-8568-9abb736de32f
DTSTART;VALUE=DATE:20260424
DTEND;VALUE=DATE:20260425
DESCRIPTION:
LOCATION:
SUMMARY:No Pre-K
END:VEVENT
BEGIN:VEVENT
DTSTAMP:20260421T165948Z
UID:c0abf29e-4370-4bec-977e-8905207391b7
DTSTART:20260424T150000
DTEND:20260424T150000
DESCRIPTION:
LOCATION:
SUMMARY:Midterms in Schoology
END:VEVENT
BEGIN:VEVENT
DTSTAMP:20260421T165948Z
UID:c10afcc3-2f1d-4b6d-a8ab-a4e8e9ef075d
DTSTART:20260427T143000
DTEND:20260427T150000
DESCRIPTION:
LOCATION:
SUMMARY:LSIC Meeting
END:VEVENT
BEGIN:VEVENT
DTSTAMP:20260421T165948Z
UID:9d2afa5e-ef35-41da-848d-c6e241249879
DTSTART:20260430T105000
DTEND:20260430T122000
DESCRIPTION:
LOCATION:
SUMMARY:April Birthday Lunch
END:VEVENT
END:VCALENDAR
