BEGIN:VCALENDAR
VERSION:2.0
PRODID:icalendar-ruby
CALSCALE:GREGORIAN
BEGIN:VTIMEZONE
TZID:America/New_York
BEGIN:DAYLIGHT
DTSTART:20260308T030000
TZOFFSETFROM:-0500
TZOFFSETTO:-0400
RRULE:FREQ=YEARLY;BYDAY=2SU;BYMONTH=3
TZNAME:EDT
END:DAYLIGHT
BEGIN:STANDARD
DTSTART:20261101T010000
TZOFFSETFROM:-0400
TZOFFSETTO:-0500
RRULE:FREQ=YEARLY;BYDAY=1SU;BYMONTH=11
TZNAME:EST
END:STANDARD
END:VTIMEZONE
BEGIN:VEVENT
DTSTAMP:20260421T200109Z
UID:41c91454-cd0b-4b7c-b3fb-fd1979e5fe09
DTSTART;VALUE=DATE:20260420
DTEND;VALUE=DATE:20260425
DESCRIPTION:<p>Students will have a shopping schedule.</p>
LOCATION:
SUMMARY:Book Fair
END:VEVENT
BEGIN:VEVENT
DTSTAMP:20260421T200109Z
UID:efbfef72-3f85-454b-9cc7-ccfa3e76f954
DTSTART;VALUE=DATE:20260424
DTEND;VALUE=DATE:20260425
DESCRIPTION:
LOCATION:
SUMMARY:Midterm for Fourth Nine Weeks
END:VEVENT
BEGIN:VEVENT
DTSTAMP:20260421T200109Z
UID:fecf6311-4ce2-41e6-93b3-cfd4603406ae
DTSTART;VALUE=DATE:20260512
DTEND;VALUE=DATE:20260513
DESCRIPTION:
LOCATION:
SUMMARY:Primary Election (Schools and Offices Closed)
END:VEVENT
BEGIN:VEVENT
DTSTAMP:20260421T200109Z
UID:d0100b22-36f5-4d88-b981-1979e3e49e13
DTSTART;VALUE=DATE:20260525
DTEND;VALUE=DATE:20260526
DESCRIPTION:
LOCATION:
SUMMARY:Memorial Day (Schools and Offices Closed)
END:VEVENT
BEGIN:VEVENT
DTSTAMP:20260421T200109Z
UID:6c192c67-60df-45c9-b004-aaafdfe630aa
DTSTART;VALUE=DATE:20260529
DTEND;VALUE=DATE:20260530
DESCRIPTION:
LOCATION:
SUMMARY:Last Day for Students/Second Semester Ends
END:VEVENT
BEGIN:VEVENT
DTSTAMP:20260421T200109Z
UID:b0473cce-74b5-4108-920f-28faced5d0af
DTSTART;VALUE=DATE:20260529
DTEND;VALUE=DATE:20260530
DESCRIPTION:
LOCATION:
SUMMARY:Report Cards (Distributed or mailed)
END:VEVENT
BEGIN:VEVENT
DTSTAMP:20260421T200109Z
UID:6e7b7403-76ad-4567-8044-5648d07e16b1
DTSTART;VALUE=DATE:20260601
DTEND;VALUE=DATE:20260602
DESCRIPTION:
LOCATION:
SUMMARY:OS Days (Schools and Offices Closed)
END:VEVENT
BEGIN:VEVENT
DTSTAMP:20260421T200109Z
UID:919d65ca-4093-4d48-ba4e-3b20c2af6641
DTSTART;VALUE=DATE:20260602
DTEND;VALUE=DATE:20260603
DESCRIPTION:
LOCATION:
SUMMARY:OS Days (Schools and Offices Closed)
END:VEVENT
BEGIN:VEVENT
DTSTAMP:20260421T200109Z
UID:ea061efe-db56-4ab4-8178-2a5f51244929
DTSTART;VALUE=DATE:20260603
DTEND;VALUE=DATE:20260604
DESCRIPTION:
LOCATION:
SUMMARY:OS Days (Schools and Offices Closed)
END:VEVENT
BEGIN:VEVENT
DTSTAMP:20260421T200109Z
UID:6323cab3-f939-47b6-bf92-28fc1f30ccce
DTSTART;VALUE=DATE:20260604
DTEND;VALUE=DATE:20260605
DESCRIPTION:
LOCATION:
SUMMARY:OS Days (Schools and Offices Closed)
END:VEVENT
BEGIN:VEVENT
DTSTAMP:20260421T200109Z
UID:d390cf9f-4001-4136-ad4b-71da7ffa0562
DTSTART;VALUE=DATE:20260605
DTEND;VALUE=DATE:20260606
DESCRIPTION:
LOCATION:
SUMMARY:OS Days (Schools and Offices Closed)
END:VEVENT
BEGIN:VEVENT
DTSTAMP:20260421T200109Z
UID:422cd6e2-257b-4a66-bf01-1a64b32b76d9
DTSTART;VALUE=DATE:20260608
DTEND;VALUE=DATE:20260609
DESCRIPTION:
LOCATION:
SUMMARY:Prep Day for Closing/Faculty Senate/Last Day for 200 Day Employees
END:VEVENT
BEGIN:VEVENT
DTSTAMP:20260421T200109Z
UID:690d686a-820e-4550-a7f1-3cb36f11daf5
DTSTART;VALUE=DATE:20260619
DTEND;VALUE=DATE:20260620
DESCRIPTION:
LOCATION:
SUMMARY:West Virginia Day Observed (Schools and Offices Closed)
END:VEVENT
BEGIN:VEVENT
DTSTAMP:20260421T200109Z
UID:1f10244f-baa4-4c0d-bdee-bd76b3bfdc44
DTSTART;VALUE=DATE:20260703
DTEND;VALUE=DATE:20260704
DESCRIPTION:
LOCATION:
SUMMARY:Independence Day Observed (Schools and Offices Closed)
END:VEVENT
END:VCALENDAR
