BEGIN:VCALENDAR
VERSION:2.0
PRODID:icalendar-ruby
CALSCALE:GREGORIAN
BEGIN:VTIMEZONE
TZID:America/Chicago
BEGIN:DAYLIGHT
DTSTART:20260308T030000
TZOFFSETFROM:-0600
TZOFFSETTO:-0500
RRULE:FREQ=YEARLY;BYDAY=2SU;BYMONTH=3
TZNAME:CDT
END:DAYLIGHT
BEGIN:STANDARD
DTSTART:20261101T010000
TZOFFSETFROM:-0500
TZOFFSETTO:-0600
RRULE:FREQ=YEARLY;BYDAY=1SU;BYMONTH=11
TZNAME:CST
END:STANDARD
END:VTIMEZONE
BEGIN:VEVENT
DTSTAMP:20260423T164246Z
UID:141366a3-5e45-4b64-8544-d6791284c3b8
DTSTART:20260424T183000
DTEND:20260424T193000
DESCRIPTION:General Admission $15\nStudent Admission $10
LOCATION:Owens Middle School\, 5000 FM2931\, Aubrey\, TX 76227\, USA
SUMMARY:McNabb & Owens Middle Schools Theatre Present: Seussical Jr.
END:VEVENT
BEGIN:VEVENT
DTSTAMP:20260423T164246Z
UID:792a021d-757e-47f0-a0bf-f3e38cb03d1d
DTSTART:20260425T140000
DTEND:20260425T150000
DESCRIPTION:General Admission $15\nStudent Admission $10
LOCATION:Owens Middle School\, 5000 FM2931\, Aubrey\, TX 76227\, USA
SUMMARY:McNabb & Owens Middle Schools Theatre Present: Seussical Jr.
END:VEVENT
BEGIN:VEVENT
DTSTAMP:20260423T164246Z
UID:aaa88282-2469-4208-9c33-df0fbd802d8e
DTSTART:20260429T173000
DTEND:20260429T190000
DESCRIPTION:***This meeting will take place in the Fuller Elementary School
  library***<br>If you think your student qualifies as Educationally Disadv
 antaged\, Military Dependent\, Foster Care\, Homeless\, Star of Texas or C
 hild of a Classroom Teacher\, please attend this event to qualify your stu
 dent. Please visit <a href="https://www.aubreyisd.net/o/aisd/page/pre-k-r
 egistration" target="_blank"><u>https://www.aubreyisd.net/o/aisd/page/pre-
 k-registration</u></a> for a list of the required documentation.
LOCATION:Jackie Fuller Elementary School\, 10825 Quicksilver Blvd\, Aubrey\
 , TX 76227\, USA
SUMMARY:Pre-Kindergarten Qualification Event
END:VEVENT
BEGIN:VEVENT
DTSTAMP:20260423T164246Z
UID:08de2af7-1a19-44f3-8222-8c7a84d9a7ba
DTSTART:20260429T190000
DTEND:20260429T200000
DESCRIPTION:Honoring Tickets from Jan. 29\, 2026 cancellation\n\nAubrey Hig
 h School Auditorium\nTickets: $10\nour.show/ahslittlemermaid
LOCATION:Aubrey High School\, 510 Spring Hill Rd #167987\, Aubrey\, TX 7622
 7\, USA
SUMMARY:Aubrey High School Theatre Presents: The Little Mermaid
END:VEVENT
BEGIN:VEVENT
DTSTAMP:20260423T164246Z
UID:189bbb6c-6ec9-4bc8-a0af-f26890533374
DTSTART:20260430T173000
DTEND:20260430T190000
DESCRIPTION:***This meeting will take place in the Brockett Elementary Scho
 ol cafeteria***\nIf you think your student qualifies as Educationally Disa
 dvantaged\, Military Dependent\, Foster Care\, Homeless\, Star of Texas or
  Child of a Classroom Teacher\, please attend this event to qualify your s
 tudent. Please visit https://www.aubreyisd.net/o/aisd/page/pre-k-registra
 tion for a list of the required documentation.
LOCATION:HL Brockett Elementary School\, 900 Chestnut St\, Aubrey\, TX 7622
 7\, USA
SUMMARY:Pre-Kindergarten Qualification Event
END:VEVENT
BEGIN:VEVENT
DTSTAMP:20260423T164246Z
UID:812c04ab-3d9f-4631-bd87-db0809cab670
DTSTART:20260430T190000
DTEND:20260430T200000
DESCRIPTION:Honoring Tickets from Jan. 30\, 2026 cancellation\n\nAubrey Hig
 h School Auditorium\nTickets: $10\nour.show/ahslittlemermaid
LOCATION:Aubrey High School\, 510 Spring Hill Rd #167987\, Aubrey\, TX 7622
 7\, USA
SUMMARY:Aubrey High School Theatre Presents: The Little Mermaid
END:VEVENT
BEGIN:VEVENT
DTSTAMP:20260423T164246Z
UID:a4c4109c-c790-49c0-b741-129829086375
DTSTART:20260501T190000
DTEND:20260501T200000
DESCRIPTION:Honoring Tickets from Jan. 31\, 2026 cancellation\n\nAubrey Hig
 h School Auditorium\nTickets: $10\nour.show/ahslittlemermaid
LOCATION:Aubrey High School\, 510 Spring Hill Rd #167987\, Aubrey\, TX 7622
 7\, USA
SUMMARY:Aubrey High School Theatre Presents: The Little Mermaid
END:VEVENT
BEGIN:VEVENT
DTSTAMP:20260423T164246Z
UID:2a451e52-9324-4bea-a65d-97cc8ee610bd
DTSTART:20260504T173000
DTEND:20260504T190000
DESCRIPTION:***This meeting will take place in the West Elementary School c
 afeteria***<br>If you think your student qualifies as Educationally Disadv
 antaged\, Military Dependent\, Foster Care\, Homeless\, Star of Texas or C
 hild of a Classroom Teacher\, please attend this event to qualify your stu
 dent. Please visit <a href="https://www.aubreyisd.net/o/aisd/page/pre-k-r
 egistration" target="_blank"><u>https://www.aubreyisd.net/o/aisd/page/pre-
 k-registration</u></a> for a list of the required documentation.
LOCATION:West Elementary School\, 3408 Bonniebridge Ln\, Aubrey\, TX 76227\
 , USA
SUMMARY:Pre-Kindergarten Qualification Event
END:VEVENT
BEGIN:VEVENT
DTSTAMP:20260423T164246Z
UID:6b333d91-cce5-4cad-ba39-69dd6c68f155
DTSTART:20260504T183000
DTEND:20260504T193000
DESCRIPTION:Location TBD
LOCATION:
SUMMARY:Aubrey High School Top Ten Banquet
END:VEVENT
BEGIN:VEVENT
DTSTAMP:20260423T164246Z
UID:588f2e0d-d5e4-4868-b953-f2b1471ae270
DTSTART:20260506T173000
DTEND:20260506T190000
DESCRIPTION:***This meeting will take place in the Monaco Elementary School
  cafeteria***<br>If you think your student qualifies as Educationally Disa
 dvantaged\, Military Dependent\, Foster Care\, Homeless\, Star of Texas or
  Child of a Classroom Teacher\, please attend this event to qualify your s
 tudent. Please visit <a href="https://www.aubreyisd.net/o/aisd/page/pre-k
 -registration" target="_blank"><u>https://www.aubreyisd.net/o/aisd/page/pr
 e-k-registration</u></a> for a list of the required documentation.
LOCATION:Monaco Elementary School\, 9350 Cape Cod Blvd\, Providence Village
 \, TX 76227\, USA
SUMMARY:Pre-Kindergarten Qualification Event
END:VEVENT
BEGIN:VEVENT
DTSTAMP:20260423T164246Z
UID:dacec7a1-e0fb-4d92-a822-cdeda49f93d6
DTSTART:20260506T183000
DTEND:20260506T193000
DESCRIPTION:This event will take place in the Aubrey High School auditorium
 .
LOCATION:Aubrey High School\, 510 Spring Hill Rd #167987\, Aubrey\, TX 7622
 7\, USA
SUMMARY:Aubrey High School Senior Night
END:VEVENT
BEGIN:VEVENT
DTSTAMP:20260423T164246Z
UID:13f211fb-74de-4f34-934d-955b375e0ec2
DTSTART:20260507T190000
DTEND:20260507T200000
DESCRIPTION:Concert will take place in auditorium.
LOCATION:Aubrey High School\, 510 Spring Hill Rd #167987\, Aubrey\, TX 7622
 7\, USA
SUMMARY:Owens Middle School Pop Choir Concert
END:VEVENT
BEGIN:VEVENT
DTSTAMP:20260423T164246Z
UID:7e5df6c3-f693-40a9-b09f-1994729eb55b
DTSTART:20260508T190000
DTEND:20260508T210000
DESCRIPTION:Join us for a LEGENDARY show where the Chaparettes will show yo
 u their hard work from the 2025-2026 school year. This will be the last ti
 me the 25-26 Chaparettes will dance together - you don't want to miss this
 !\n\nStudents and Staff $5\nGeneral Admission $10\nTICKET LINK: https://ww
 w.onthestage.tickets/show/aubrey-high-school/69cd4b3dc05d2563dcd55e09
LOCATION:
SUMMARY:Aubrey High School Chaparette Dance Team Spring Show
END:VEVENT
BEGIN:VEVENT
DTSTAMP:20260423T164246Z
UID:13f28446-34a2-45ed-afb9-7ba6cc9ac852
DTSTART:20260512T190000
DTEND:20260512T200000
DESCRIPTION:Concert will take place in auditorium.
LOCATION:Aubrey High School\, 510 Spring Hill Rd #167987\, Aubrey\, TX 7622
 7\, USA
SUMMARY:Aubrey High School Pop Choir Concert
END:VEVENT
BEGIN:VEVENT
DTSTAMP:20260423T164246Z
UID:aeca24a1-747e-43eb-857d-3a46a92d96af
DTSTART:20260513T183000
DTEND:20260513T233000
DESCRIPTION:<h4><b><strong>Location: 415 Tisdell Lane\, Aubrey\, TX 76227 i
 n the Board Room/Professional Development Center.</strong></b></h4><p><st
 rong>Parking: Near Early Bird Learning Center by the buses</strong></p><p
 ><strong>Entrance: Enter through the EBLC entrance</strong></p>
LOCATION:Aubrey ISD Administration Office\, 415 Tisdell Ln\, Aubrey\, TX 76
 227\, USA
SUMMARY:Aubrey ISD School Board Meeting
END:VEVENT
BEGIN:VEVENT
DTSTAMP:20260423T164246Z
UID:3cc9958d-240c-4512-aa71-a684388de53e
DTSTART:20260514T190000
DTEND:20260514T200000
DESCRIPTION:Concert will take place in auditorium.
LOCATION:Aubrey High School\, 510 Spring Hill Rd #167987\, Aubrey\, TX 7622
 7\, USA
SUMMARY:McNabb Middle School Pop Choir Concert
END:VEVENT
BEGIN:VEVENT
DTSTAMP:20260423T164246Z
UID:4e15dee0-4210-4a4f-aa58-67265c2f301e
DTSTART:20260516T200000
DTEND:20260516T230000
DESCRIPTION:
LOCATION:Bentley Station\, 222 Betchan Dr\, Hickory Creek\, TX 75065\, USA
SUMMARY:Aubrey High School Prom Night
END:VEVENT
BEGIN:VEVENT
DTSTAMP:20260423T164246Z
UID:d9641c3e-dd84-416a-b315-da2bd024fd23
DTSTART:20260519T100000
DTEND:20260519T140000
DESCRIPTION:
LOCATION:Aubrey High School\, 510 Spring Hill Rd #167987\, Aubrey\, TX 7622
 7\, USA
SUMMARY:Aubrey High School Senior Field Day
END:VEVENT
BEGIN:VEVENT
DTSTAMP:20260423T164246Z
UID:c4f99d89-4529-41bc-bb43-a9e5c6e3897e
DTSTART;VALUE=DATE:20260520
DTEND;VALUE=DATE:20260521
DESCRIPTION:
LOCATION:
SUMMARY:Early Release ALL SCHOOLS
END:VEVENT
BEGIN:VEVENT
DTSTAMP:20260423T164246Z
UID:787c4052-c09e-41cb-8a7c-546ba73cfccc
DTSTART:20260520T133000
DTEND:20260520T143000
DESCRIPTION:This event will take place in the Aubrey High School gymnasium.
LOCATION:Aubrey High School\, 510 Spring Hill Rd #167987\, Aubrey\, TX 7622
 7\, USA
SUMMARY:Aubrey High School Senior Rose Cutting Ceremony
END:VEVENT
BEGIN:VEVENT
DTSTAMP:20260423T164246Z
UID:dbe766bc-119f-48ff-a390-076f1ee4f206
DTSTART;VALUE=DATE:20260521
DTEND;VALUE=DATE:20260522
DESCRIPTION:The graduation rehearsal will take place in the Indoor Facility
 .
LOCATION:Aubrey High School\, 510 Spring Hill Rd #167987\, Aubrey\, TX 7622
 7\, USA
SUMMARY:Aubrey High School Graduation Rehearsal
END:VEVENT
BEGIN:VEVENT
DTSTAMP:20260423T164246Z
UID:313941fc-d0bf-4963-890e-74f5c738ec26
DTSTART;VALUE=DATE:20260521
DTEND;VALUE=DATE:20260522
DESCRIPTION:
LOCATION:
SUMMARY:Aubrey ISD Last Day of School
END:VEVENT
BEGIN:VEVENT
DTSTAMP:20260423T164246Z
UID:640a4929-d7c0-4c41-8d67-bae25cd4025a
DTSTART;VALUE=DATE:20260521
DTEND;VALUE=DATE:20260522
DESCRIPTION:
LOCATION:
SUMMARY:Early Release ALL SCHOOLS
END:VEVENT
BEGIN:VEVENT
DTSTAMP:20260423T164246Z
UID:ab8aec44-da70-4eec-af3d-1a61bd10cd09
DTSTART;VALUE=DATE:20260522
DTEND;VALUE=DATE:20260523
DESCRIPTION:
LOCATION:
SUMMARY:Student Holiday / Teacher Staff Development
END:VEVENT
BEGIN:VEVENT
DTSTAMP:20260423T164246Z
UID:970398a2-2f9f-4cd7-8f32-5f06ea2f3bae
DTSTART:20260524T180000
DTEND:20260524T200000
DESCRIPTION:
LOCATION:UNT Coliseum (“The Super Pit”)\, Coliseum\, 601 N Texas Blvd\,
  Denton\, TX 76201\, USA
SUMMARY:Aubrey High School Graduation
END:VEVENT
BEGIN:VEVENT
DTSTAMP:20260423T164246Z
UID:9caa6b16-8854-48fd-9af7-7c9961355e7a
DTSTART:20260603T093000
DTEND:20260603T153000
DESCRIPTION:***This meeting will take place in the West Elementary School l
 ibrary***<br>If you think your student qualifies as Educationally Disadvan
 taged\, Military Dependent\, Foster Care\, Homeless\, Star of Texas or Chi
 ld of a Classroom Teacher\, please attend this event to qualify your stude
 nt. Please visit <a href="https://www.aubreyisd.net/o/aisd/page/pre-k-reg
 istration"><u>https://www.aubreyisd.net/o/aisd/page/pre-k-registration</u>
 </a> for a list of the required documentation.
LOCATION:West Elementary School\, 3408 Bonniebridge Ln\, Aubrey\, TX 76227\
 , USA
SUMMARY:Pre-Kindergarten Qualification Event
END:VEVENT
BEGIN:VEVENT
DTSTAMP:20260423T164246Z
UID:38d2af71-b03b-4dd6-8456-a3a744d268a7
DTSTART:20260610T093000
DTEND:20260610T153000
DESCRIPTION:***This meeting will take place in the Fuller Elementary School
  library***<br>If you think your student qualifies as Educationally Disadv
 antaged\, Military Dependent\, Foster Care\, Homeless\, Star of Texas or C
 hild of a Classroom Teacher\, please attend this event to qualify your stu
 dent. Please visit <a href="https://www.aubreyisd.net/o/aisd/page/pre-k-r
 egistration"><u>https://www.aubreyisd.net/o/aisd/page/pre-k-registration</
 u></a> for a list of the required documentation.
LOCATION:Jackie Fuller Elementary School\, 10825 Quicksilver Blvd\, Aubrey\
 , TX 76227\, USA
SUMMARY:Pre-Kindergarten Qualification Event
END:VEVENT
BEGIN:VEVENT
DTSTAMP:20260423T164246Z
UID:1aca5158-44a4-4f74-bb38-3e9084c10163
DTSTART:20260617T183000
DTEND:20260617T233000
DESCRIPTION:<h4><b><strong>Location: 415 Tisdell Lane\, Aubrey\, TX 76227 i
 n the Board Room/Professional Development Center.</strong></b></h4><p><st
 rong>Parking: Near Early Bird Learning Center by the buses</strong></p><p
 ><strong>Entrance: Enter through the EBLC entrance</strong></p>
LOCATION:Aubrey ISD Administration Office\, 415 Tisdell Ln\, Aubrey\, TX 76
 227\, USA
SUMMARY:Aubrey ISD School Board Meeting
END:VEVENT
BEGIN:VEVENT
DTSTAMP:20260423T164246Z
UID:80d55a90-93e6-48a8-a362-83e2ac985f5d
DTSTART;VALUE=DATE:20260619
DTEND;VALUE=DATE:20260620
DESCRIPTION:
LOCATION:
SUMMARY:Student/Teacher Holiday / All Offices Closed
END:VEVENT
BEGIN:VEVENT
DTSTAMP:20260423T164246Z
UID:a536eceb-da41-497c-9c40-e12fe4226eda
DTSTART:20260722T183000
DTEND:20260722T233000
DESCRIPTION:<h4><b><strong>Location: 415 Tisdell Lane\, Aubrey\, TX 76227 i
 n the Board Room/Professional Development Center.</strong></b></h4><p><st
 rong>Parking: Near Early Bird Learning Center by the buses</strong></p><p
 ><strong>Entrance: Enter through the EBLC entrance</strong></p>
LOCATION:Aubrey ISD Administration Office\, 415 Tisdell Ln\, Aubrey\, TX 76
 227\, USA
SUMMARY:Aubrey ISD School Board Meeting
END:VEVENT
END:VCALENDAR
