BEGIN:VCALENDAR
VERSION:2.0
PRODID:icalendar-ruby
CALSCALE:GREGORIAN
BEGIN:VTIMEZONE
TZID:America/Chicago
BEGIN:DAYLIGHT
DTSTART:20260308T030000
TZOFFSETFROM:-0600
TZOFFSETTO:-0500
RRULE:FREQ=YEARLY;BYDAY=2SU;BYMONTH=3
TZNAME:CDT
END:DAYLIGHT
BEGIN:STANDARD
DTSTART:20261101T010000
TZOFFSETFROM:-0500
TZOFFSETTO:-0600
RRULE:FREQ=YEARLY;BYDAY=1SU;BYMONTH=11
TZNAME:CST
END:STANDARD
END:VTIMEZONE
BEGIN:VEVENT
DTSTAMP:20260423T110923Z
UID:65153d39-073c-438c-be2a-0b4044d5557a
DTSTART:20260518T190000
DTEND:20260518T200000
DESCRIPTION:<a href="https://live.myvrspot.com/player?udi=cHJvc3Blcg%3D%3D&
 c=cHJvc3BlcjE%3D">https://www.google.com/url?q=https://live.myvrspot.com/p
 layer?udi%3DcHJvc3Blcg%253D%253D%26c%3DcHJvc3BlcjE%253D&amp\;sa=D&amp\;sou
 rce=calendar&amp\;ust=1757790949607209&amp\;usg=AOvVaw2YBiomI3uqMCSyYP6Lh8
 3o</a>
LOCATION:Prosper ISD Administration\, 605 E 7th St\, Prosper\, TX 75078\, U
 SA
SUMMARY:School Board Meeting
END:VEVENT
BEGIN:VEVENT
DTSTAMP:20260423T110923Z
UID:8e63a11a-16fd-463f-bdc0-3ac53af95aea
DTSTART;VALUE=DATE:20260520
DTEND;VALUE=DATE:20260521
DESCRIPTION:
LOCATION:
SUMMARY:End of 4th 9 Weeks / Last Day of School
END:VEVENT
BEGIN:VEVENT
DTSTAMP:20260423T110923Z
UID:429cc72c-0c6e-4cd8-a119-7ce5843b335d
DTSTART;VALUE=DATE:20260521
DTEND;VALUE=DATE:20260523
DESCRIPTION:<a href="https://prosperisdtx.sites.thrillshare.com/o/pisd/page
 /graduation">Graduation Information</a>
LOCATION:
SUMMARY:Prosper ISD Graduations
END:VEVENT
BEGIN:VEVENT
DTSTAMP:20260423T110923Z
UID:4cbc6cbb-8e3f-4a73-852e-187d6da0f0c6
DTSTART;VALUE=DATE:20260521
DTEND;VALUE=DATE:20260523
DESCRIPTION:
LOCATION:
SUMMARY:Staff Professional Learning
END:VEVENT
BEGIN:VEVENT
DTSTAMP:20260423T110923Z
UID:7edf4e35-a683-46dd-a412-0c7debef8712
DTSTART:20260521T090000
DTEND:20260521T110000
DESCRIPTION:<a href="https://prosperisdtx.sites.thrillshare.com/o/pisd/page
 /phs-graduation">PHS Graduation Information</a>
LOCATION:
SUMMARY:Prosper High School Graduation 
END:VEVENT
BEGIN:VEVENT
DTSTAMP:20260423T110923Z
UID:f394ee62-e863-4450-bff9-535d5d17f1b9
DTSTART:20260521T090000
DTEND:20260521T110000
DESCRIPTION:<a href="https://prosperisdtx.sites.thrillshare.com/o/pisd/page
 /phs-graduation">PHS Graduation Information</a>
LOCATION:Prosper ISD Children's Health Stadium\, 2000 Stadium Dr\, Prosper\
 , TX 75078\, USA
SUMMARY:Prosper High School Graduation 
END:VEVENT
BEGIN:VEVENT
DTSTAMP:20260423T110923Z
UID:ea21114e-6cc0-43a4-934f-7085cc20893f
DTSTART:20260521T193000
DTEND:20260521T213000
DESCRIPTION:<a href="https://prosperisdtx.sites.thrillshare.com/o/pisd/page
 /rhhs-graduation">RHHS Graduation Information</a>
LOCATION:Prosper ISD Children's Health Stadium\, 2000 Stadium Dr\, Prosper\
 , TX 75078\, USA
SUMMARY:Rock Hill High School Graduation
END:VEVENT
BEGIN:VEVENT
DTSTAMP:20260423T110923Z
UID:6b265073-af10-4617-804b-cb47f273b970
DTSTART:20260521T193000
DTEND:20260521T213000
DESCRIPTION:<a href="https://prosperisdtx.sites.thrillshare.com/o/pisd/page
 /rhhs-graduation">RHHS Graduation Information</a>
LOCATION:Prosper ISD Children's Health Stadium\, 2000 Stadium Dr\, Prosper\
 , TX 75078\, USA
SUMMARY:Rock Hill High School Graduation 
END:VEVENT
BEGIN:VEVENT
DTSTAMP:20260423T110923Z
UID:7aa96eac-690c-4367-acf8-ec9bf8e34312
DTSTART:20260522T090000
DTEND:20260522T110000
DESCRIPTION:<a href="https://prosperisdtx.sites.thrillshare.com/o/pisd/page
 /rhs-graduation">RHS Graduation Information</a>
LOCATION:Prosper ISD Children's Health Stadium\, 2000 Stadium Dr\, Prosper\
 , TX 75078\, USA
SUMMARY:Richland High School Graduation
END:VEVENT
BEGIN:VEVENT
DTSTAMP:20260423T110923Z
UID:c2bf1a19-c180-448c-ad76-1fc8588c62f2
DTSTART:20260522T090000
DTEND:20260522T110000
DESCRIPTION:<a href="https://prosperisdtx.sites.thrillshare.com/o/pisd/page
 /rhs-graduation">RHS Graduation Information</a>
LOCATION:Prosper ISD Children's Health Stadium\, 2000 Stadium Dr\, Prosper\
 , TX 75078\, USA
SUMMARY:Richland High School Graduation
END:VEVENT
BEGIN:VEVENT
DTSTAMP:20260423T110923Z
UID:bff160a8-c405-4fa9-a4bf-01896b46557b
DTSTART:20260522T193000
DTEND:20260522T213000
DESCRIPTION:<a href="https://prosperisdtx.sites.thrillshare.com/o/pisd/page
 /wghs-graduation-update">WGHS Graduation Information</a>
LOCATION:Prosper ISD Children's Health Stadium\, 2000 Stadium Dr\, Prosper\
 , TX 75078\, USA
SUMMARY:Walnut Grove High School Graduation
END:VEVENT
BEGIN:VEVENT
DTSTAMP:20260423T110923Z
UID:a006a6eb-c366-43f6-a71a-060628c36749
DTSTART:20260522T193000
DTEND:20260522T213000
DESCRIPTION:<a href="https://prosperisdtx.sites.thrillshare.com/o/pisd/page
 /wghs-graduation-update">WGHS Graduation Information</a>
LOCATION:Prosper ISD Children's Health Stadium\, 2000 Stadium Dr\, Prosper\
 , TX 75078\, USA
SUMMARY:Walnut Grove High School Graduation
END:VEVENT
BEGIN:VEVENT
DTSTAMP:20260423T110923Z
UID:a70a15b4-44ce-4498-ba72-678fda725b92
DTSTART:20260615T190000
DTEND:20260615T200000
DESCRIPTION:<a href="https://live.myvrspot.com/player?udi=cHJvc3Blcg%3D%3D&
 c=cHJvc3BlcjE%3D">https://www.google.com/url?q=https://live.myvrspot.com/p
 layer?udi%3DcHJvc3Blcg%253D%253D%26c%3DcHJvc3BlcjE%253D&amp\;sa=D&amp\;sou
 rce=calendar&amp\;ust=1757790949607209&amp\;usg=AOvVaw2YBiomI3uqMCSyYP6Lh8
 3o</a>
LOCATION:Prosper ISD Administration\, 605 E 7th St\, Prosper\, TX 75078\, U
 SA
SUMMARY:School Board Meeting
END:VEVENT
END:VCALENDAR
