BEGIN:VCALENDAR
VERSION:2.0
PRODID:icalendar-ruby
CALSCALE:GREGORIAN
BEGIN:VTIMEZONE
TZID:America/New_York
BEGIN:DAYLIGHT
DTSTART:20260308T030000
TZOFFSETFROM:-0500
TZOFFSETTO:-0400
RRULE:FREQ=YEARLY;BYDAY=2SU;BYMONTH=3
TZNAME:EDT
END:DAYLIGHT
BEGIN:STANDARD
DTSTART:20261101T010000
TZOFFSETFROM:-0400
TZOFFSETTO:-0500
RRULE:FREQ=YEARLY;BYDAY=1SU;BYMONTH=11
TZNAME:EST
END:STANDARD
END:VTIMEZONE
BEGIN:VEVENT
DTSTAMP:20260425T125446Z
UID:4481afb3-40e5-4755-83a6-5b5b6bebbc8a
DTSTART;VALUE=DATE:20260501
DTEND;VALUE=DATE:20260502
DESCRIPTION:
LOCATION:
SUMMARY:🎉April Pep Rally🎉				
END:VEVENT
BEGIN:VEVENT
DTSTAMP:20260425T125446Z
UID:e4fe1729-a3d0-4bec-9fc2-ddd4cafd8b1d
DTSTART;VALUE=DATE:20260521
DTEND;VALUE=DATE:20260522
DESCRIPTION:
LOCATION:
SUMMARY:🎶Spring Concert 🎶				
END:VEVENT
BEGIN:VEVENT
DTSTAMP:20260425T125446Z
UID:d7b05c0d-1c2a-48d5-b929-6a0b9664f30c
DTSTART;VALUE=DATE:20260602
DTEND;VALUE=DATE:20260603
DESCRIPTION:
LOCATION:
SUMMARY:🎉May Pep Rally🎉				
END:VEVENT
BEGIN:VEVENT
DTSTAMP:20260425T125446Z
UID:37174584-4b43-49ab-9688-2421f4a6a008
DTSTART;VALUE=DATE:20260604
DTEND;VALUE=DATE:20260605
DESCRIPTION:
LOCATION:
SUMMARY:🏆Field Day🏆				
END:VEVENT
BEGIN:VEVENT
DTSTAMP:20260425T125446Z
UID:700516f8-7a29-4773-bd4d-3476d5b59441
DTSTART;VALUE=DATE:20260618
DTEND;VALUE=DATE:20260619
DESCRIPTION:
LOCATION:
SUMMARY:🎉June Pep Rally🎉				
END:VEVENT
BEGIN:VEVENT
DTSTAMP:20260425T125446Z
UID:eec6fa39-dc88-4746-84d5-523623a06d39
DTSTART:20260618T130000
DTEND:20260618T140000
DESCRIPTION:
LOCATION:
SUMMARY:Last Day of School- Dismissal
END:VEVENT
END:VCALENDAR
