BEGIN:VCALENDAR
VERSION:2.0
PRODID:icalendar-ruby
CALSCALE:GREGORIAN
BEGIN:VTIMEZONE
TZID:America/Los_Angeles
BEGIN:DAYLIGHT
DTSTART:20260308T030000
TZOFFSETFROM:-0800
TZOFFSETTO:-0700
RRULE:FREQ=YEARLY;BYDAY=2SU;BYMONTH=3
TZNAME:PDT
END:DAYLIGHT
BEGIN:STANDARD
DTSTART:20261101T010000
TZOFFSETFROM:-0700
TZOFFSETTO:-0800
RRULE:FREQ=YEARLY;BYDAY=1SU;BYMONTH=11
TZNAME:PST
END:STANDARD
END:VTIMEZONE
BEGIN:VEVENT
DTSTAMP:20260420T060024Z
UID:56df2154-9722-4e57-9710-98b10f629355
DTSTART;VALUE=DATE:20260422
DTEND;VALUE=DATE:20260423
DESCRIPTION:
LOCATION:5225 Kelso Valley Rd\, Weldon\, CA 93283\, USA
SUMMARY:Minimum Day-Professional Development Day
END:VEVENT
BEGIN:VEVENT
DTSTAMP:20260420T060024Z
UID:f1b4bb9b-3800-40c8-ae1a-e892967d6a36
DTSTART;VALUE=DATE:20260429
DTEND;VALUE=DATE:20260430
DESCRIPTION:
LOCATION:5225 Kelso Valley Rd\, Weldon\, CA 93283\, USA
SUMMARY:Minimum Day-Professional Development Day
END:VEVENT
BEGIN:VEVENT
DTSTAMP:20260420T060024Z
UID:2e187d3c-28c8-4cc0-915f-5d8225e17e05
DTSTART;VALUE=DATE:20260506
DTEND;VALUE=DATE:20260507
DESCRIPTION:
LOCATION:5225 Kelso Valley Rd\, Weldon\, CA 93283\, USA
SUMMARY:Minimum Day-Professional Development Day
END:VEVENT
BEGIN:VEVENT
DTSTAMP:20260420T060024Z
UID:f76a9c94-6586-4f69-ae03-d073a1e93262
DTSTART;VALUE=DATE:20260513
DTEND;VALUE=DATE:20260514
DESCRIPTION:
LOCATION:5225 Kelso Valley Rd\, Weldon\, CA 93283\, USA
SUMMARY:Minimum Day-Professional Development Day
END:VEVENT
BEGIN:VEVENT
DTSTAMP:20260420T060024Z
UID:6cd9db9d-68bf-443d-8a58-7c022511afac
DTSTART;VALUE=DATE:20260520
DTEND;VALUE=DATE:20260521
DESCRIPTION:
LOCATION:5225 Kelso Valley Rd\, Weldon\, CA 93283\, USA
SUMMARY:Minimum Day-Professional Development Day
END:VEVENT
BEGIN:VEVENT
DTSTAMP:20260420T060024Z
UID:4bffc9cb-f62e-4ab0-971b-95c36c343399
DTSTART;VALUE=DATE:20260527
DTEND;VALUE=DATE:20260528
DESCRIPTION:
LOCATION:5225 Kelso Valley Rd\, Weldon\, CA 93283\, USA
SUMMARY:Minimum Day-Professional Development Day
END:VEVENT
END:VCALENDAR
