BEGIN:VCALENDAR
VERSION:2.0
PRODID:icalendar-ruby
CALSCALE:GREGORIAN
BEGIN:VTIMEZONE
TZID:America/New_York
BEGIN:DAYLIGHT
DTSTART:20260308T030000
TZOFFSETFROM:-0500
TZOFFSETTO:-0400
RRULE:FREQ=YEARLY;BYDAY=2SU;BYMONTH=3
TZNAME:EDT
END:DAYLIGHT
BEGIN:STANDARD
DTSTART:20261101T010000
TZOFFSETFROM:-0400
TZOFFSETTO:-0500
RRULE:FREQ=YEARLY;BYDAY=1SU;BYMONTH=11
TZNAME:EST
END:STANDARD
END:VTIMEZONE
BEGIN:VEVENT
DTSTAMP:20260419T174122Z
UID:0a80ea1b-d7d2-48fd-b5a0-9cf5bf5893d6
DTSTART:20260427T173000
DTEND:20260427T190000
DESCRIPTION:
LOCATION:
SUMMARY:Executive Council Committee of the Whole
END:VEVENT
BEGIN:VEVENT
DTSTAMP:20260419T174122Z
UID:448047a5-c09f-4645-9fef-75a9c9f73c44
DTSTART:20260429T160000
DTEND:20260429T180000
DESCRIPTION:
LOCATION:
SUMMARY:National Technical Honor Society  (NTHS) Ceremony 
END:VEVENT
BEGIN:VEVENT
DTSTAMP:20260419T174122Z
UID:4e01b097-a38e-405b-be8f-7ba88c76cfee
DTSTART:20260505T173000
DTEND:20260505T190000
DESCRIPTION:
LOCATION:
SUMMARY:Executive Council Meeting
END:VEVENT
BEGIN:VEVENT
DTSTAMP:20260419T174122Z
UID:4360cc91-774d-4dd8-965c-9aafb5a46f3b
DTSTART:20260519T070000
DTEND:20260519T140000
DESCRIPTION:
LOCATION:
SUMMARY:Holiday
END:VEVENT
BEGIN:VEVENT
DTSTAMP:20260419T174122Z
UID:b8479224-71bd-4ea2-ae9b-dd2e6e60e296
DTSTART:20260525T070000
DTEND:20260525T140000
DESCRIPTION:
LOCATION:
SUMMARY:Holiday
END:VEVENT
BEGIN:VEVENT
DTSTAMP:20260419T174122Z
UID:b5b97034-09e4-496a-8621-786438ea80e3
DTSTART:20260527T160000
DTEND:20260527T180000
DESCRIPTION:
LOCATION:
SUMMARY:Senior Awards Ceremony
END:VEVENT
BEGIN:VEVENT
DTSTAMP:20260419T174122Z
UID:3289ff6a-258d-4b41-99cb-1869ea970e60
DTSTART:20260527T173000
DTEND:20260527T190000
DESCRIPTION:
LOCATION:
SUMMARY:Executive Council Committee of the Whole
END:VEVENT
BEGIN:VEVENT
DTSTAMP:20260419T174122Z
UID:1ca77cd9-7984-402f-9e31-090661ab10f1
DTSTART:20260602T173000
DTEND:20260602T190000
DESCRIPTION:
LOCATION:
SUMMARY:Executive Council Meeting
END:VEVENT
BEGIN:VEVENT
DTSTAMP:20260419T174122Z
UID:a174fc52-1612-4062-a525-c49461e86d72
DTSTART:20260608T183000
DTEND:20260608T200000
DESCRIPTION:<p><span>333 Centennial Rd\, Warminster\, PA 18974</span></p>
LOCATION:
SUMMARY:Senior Recognition at William Tennent High School
END:VEVENT
BEGIN:VEVENT
DTSTAMP:20260419T174122Z
UID:f47999da-be3e-4c3f-9da4-7ea1cffa8342
DTSTART:20260616T070000
DTEND:20260616T140000
DESCRIPTION:
LOCATION:
SUMMARY:Last day of School
END:VEVENT
BEGIN:VEVENT
DTSTAMP:20260419T174122Z
UID:bc5d6a6b-a50d-406f-b74f-d63df8418d89
DTSTART:20260622T173000
DTEND:20260622T190000
DESCRIPTION:
LOCATION:
SUMMARY:Executive Council Committee of the Whole
END:VEVENT
BEGIN:VEVENT
DTSTAMP:20260419T174122Z
UID:129a44bb-11d6-4243-84b9-95954a866b5a
DTSTART:20260707T173000
DTEND:20260707T190000
DESCRIPTION:
LOCATION:
SUMMARY:Executive Council Meeting
END:VEVENT
BEGIN:VEVENT
DTSTAMP:20260419T174122Z
UID:2c7c3de5-0cdd-4327-9ae8-3ae13fc2d927
DTSTART:20260727T173000
DTEND:20260727T190000
DESCRIPTION:
LOCATION:
SUMMARY:Executive Council Committee of the Whole
END:VEVENT
BEGIN:VEVENT
DTSTAMP:20260419T174122Z
UID:ded3e819-d9c8-46b1-8154-53b12447646e
DTSTART:20260804T173000
DTEND:20260804T190000
DESCRIPTION:
LOCATION:
SUMMARY:Executive Council Meeting
END:VEVENT
BEGIN:VEVENT
DTSTAMP:20260419T174122Z
UID:91db1859-ad33-4c4e-8958-4c9e08be48e5
DTSTART:20260824T173000
DTEND:20260824T190000
DESCRIPTION:
LOCATION:
SUMMARY:Executive Council Committee of the Whole
END:VEVENT
BEGIN:VEVENT
DTSTAMP:20260419T174122Z
UID:6b686b64-5143-4244-9250-faa64db66102
DTSTART:20260901T173000
DTEND:20260901T190000
DESCRIPTION:
LOCATION:
SUMMARY:Executive Council Meeting
END:VEVENT
BEGIN:VEVENT
DTSTAMP:20260419T174122Z
UID:2318d8d3-edd2-44a9-9e6c-c9cf4fb66006
DTSTART:20260928T173000
DTEND:20260928T190000
DESCRIPTION:
LOCATION:
SUMMARY:Executive Council Committee of the Whole
END:VEVENT
BEGIN:VEVENT
DTSTAMP:20260419T174122Z
UID:2e448b5e-adc1-47e2-901a-500bfcb99e4c
DTSTART:20261006T173000
DTEND:20261006T190000
DESCRIPTION:
LOCATION:
SUMMARY:Executive Council Meeting
END:VEVENT
BEGIN:VEVENT
DTSTAMP:20260419T174122Z
UID:fae90e81-28e3-491c-9057-d49507cb9d1d
DTSTART:20261026T173000
DTEND:20261026T190000
DESCRIPTION:
LOCATION:
SUMMARY:Executive Council Committee of the Whole
END:VEVENT
BEGIN:VEVENT
DTSTAMP:20260419T174122Z
UID:f7accc69-862e-44b1-985a-000a78dc7dec
DTSTART:20261102T173000
DTEND:20261102T190000
DESCRIPTION:
LOCATION:
SUMMARY:Executive Council Meeting
END:VEVENT
BEGIN:VEVENT
DTSTAMP:20260419T174122Z
UID:0e731d6d-403d-4883-8df8-579c6270137f
DTSTART:20261123T173000
DTEND:20261123T190000
DESCRIPTION:
LOCATION:
SUMMARY:Executive Council Committee of the Whole
END:VEVENT
BEGIN:VEVENT
DTSTAMP:20260419T174122Z
UID:77f1eb61-b105-401f-81df-208421264e0e
DTSTART:20261201T173000
DTEND:20261201T190000
DESCRIPTION:
LOCATION:
SUMMARY:Executive Council Meeting
END:VEVENT
BEGIN:VEVENT
DTSTAMP:20260419T174122Z
UID:dfe09c8f-b43d-4266-9136-90c5382fb5e8
DTSTART:20261228T173000
DTEND:20261228T190000
DESCRIPTION:
LOCATION:
SUMMARY:Executive Council Committee of the Whole
END:VEVENT
END:VCALENDAR
