BEGIN:VCALENDAR
VERSION:2.0
PRODID:icalendar-ruby
CALSCALE:GREGORIAN
BEGIN:VTIMEZONE
TZID:America/New_York
BEGIN:DAYLIGHT
DTSTART:20260308T030000
TZOFFSETFROM:-0500
TZOFFSETTO:-0400
RRULE:FREQ=YEARLY;BYDAY=2SU;BYMONTH=3
TZNAME:EDT
END:DAYLIGHT
BEGIN:STANDARD
DTSTART:20261101T010000
TZOFFSETFROM:-0400
TZOFFSETTO:-0500
RRULE:FREQ=YEARLY;BYDAY=1SU;BYMONTH=11
TZNAME:EST
END:STANDARD
END:VTIMEZONE
BEGIN:VEVENT
DTSTAMP:20260424T164949Z
UID:808c1fe6-d620-4833-800d-9dc927037eba
DTSTART;VALUE=DATE:20260430
DTEND;VALUE=DATE:20260501
DESCRIPTION:
LOCATION:
SUMMARY:Practice ACT (Sophomores)
END:VEVENT
BEGIN:VEVENT
DTSTAMP:20260424T164949Z
UID:c63c9168-b123-40d3-9040-71abdafaf6d5
DTSTART:20260501T200000
DTEND:20260501T210000
DESCRIPTION:
LOCATION:DHS Aud
SUMMARY:DHS Mr. Depew
END:VEVENT
BEGIN:VEVENT
DTSTAMP:20260424T164949Z
UID:cb90f2f0-9028-46d3-a1ab-dfb960960e44
DTSTART:20260506T193000
DTEND:20260506T213000
DESCRIPTION:
LOCATION:DHS Aud
SUMMARY:DHS Spring Concert Bands
END:VEVENT
BEGIN:VEVENT
DTSTAMP:20260424T164949Z
UID:c983250d-aedc-47f4-a36e-b86b8d0371eb
DTSTART:20260512T190000
DTEND:20260512T203000
DESCRIPTION:
LOCATION:DHS Aud
SUMMARY:DHS Awards Consortium
END:VEVENT
BEGIN:VEVENT
DTSTAMP:20260424T164949Z
UID:98f19e3d-c5f1-4728-af89-928b9d4e98a4
DTSTART;VALUE=DATE:20260515
DTEND;VALUE=DATE:20260516
DESCRIPTION:
LOCATION:
SUMMARY:DMS/DHS Quarter 4\, 5-Week Reports
END:VEVENT
BEGIN:VEVENT
DTSTAMP:20260424T164949Z
UID:4e24f803-d58a-4fdf-b68a-0d9958c9a346
DTSTART:20260519T173000
DTEND:20260519T193000
DESCRIPTION:
LOCATION:Depew High School\, 5201 S\, 5201 Transit Rd\, Depew\, NY 14043\, 
 USA
SUMMARY:Discovery Night
END:VEVENT
BEGIN:VEVENT
DTSTAMP:20260424T164949Z
UID:f5e7462e-ab04-4a84-b816-2ef0d32d5f8b
DTSTART:20260520T193000
DTEND:20260520T210000
DESCRIPTION:
LOCATION:DHS Aud
SUMMARY:DHS Spring Concert Choruses
END:VEVENT
BEGIN:VEVENT
DTSTAMP:20260424T164949Z
UID:b50264f4-953a-4afe-b785-a46b43c71753
DTSTART;VALUE=DATE:20260522
DTEND;VALUE=DATE:20260526
DESCRIPTION:
LOCATION:
SUMMARY:Memorial Day Recess- No School
END:VEVENT
BEGIN:VEVENT
DTSTAMP:20260424T164949Z
UID:483957ae-e269-4078-b051-aa9d42d70328
DTSTART:20260602T193000
DTEND:20260602T203000
DESCRIPTION:
LOCATION: DHS Aud
SUMMARY:DHS/DMS Jazz Bands & Choirs Concert
END:VEVENT
BEGIN:VEVENT
DTSTAMP:20260424T164949Z
UID:64bc16a9-ffd4-4f74-aee3-771a9b5ee66d
DTSTART;VALUE=DATE:20260603
DTEND;VALUE=DATE:20260606
DESCRIPTION:
LOCATION:
SUMMARY:Class of 2027 Senior Portraits 
END:VEVENT
BEGIN:VEVENT
DTSTAMP:20260424T164949Z
UID:ff9c5411-cba5-4b32-a331-111ee9108a99
DTSTART;VALUE=DATE:20260603
DTEND;VALUE=DATE:20260604
DESCRIPTION:
LOCATION:
SUMMARY:DHS Senior Breakfast\, Walk & Picnic
END:VEVENT
BEGIN:VEVENT
DTSTAMP:20260424T164949Z
UID:2676158e-0a0e-4737-837a-ff350dee8e53
DTSTART:20260603T180000
DTEND:20260603T210000
DESCRIPTION:
LOCATION:
SUMMARY:Music Department Banquet\, Ripa’s\, 6-9pm
END:VEVENT
BEGIN:VEVENT
DTSTAMP:20260424T164949Z
UID:20f6a7f9-310e-4b89-8d28-c4d6c39a615d
DTSTART:20260604T180000
DTEND:20260604T210000
DESCRIPTION:
LOCATION:Grapevine
SUMMARY:Senior Banquet
END:VEVENT
BEGIN:VEVENT
DTSTAMP:20260424T164949Z
UID:aa8ce984-74ef-4730-812c-354cf870ced0
DTSTART:20260605T170000
DTEND:20260605T203000
DESCRIPTION:
LOCATION: DHS
SUMMARY:DECA/AOF Car & Bike Show
END:VEVENT
BEGIN:VEVENT
DTSTAMP:20260424T164949Z
UID:33738643-4148-4cea-aae6-2141a233b822
DTSTART;VALUE=DATE:20260609
DTEND;VALUE=DATE:20260611
DESCRIPTION:
LOCATION:
SUMMARY:Regents Exams
END:VEVENT
BEGIN:VEVENT
DTSTAMP:20260424T164949Z
UID:cc02204c-7d06-4175-b054-576635270cdd
DTSTART:20260609T180000
DTEND:20260609T200000
DESCRIPTION:
LOCATION:DHS Café
SUMMARY:DHS Senior Athletes Award Night
END:VEVENT
BEGIN:VEVENT
DTSTAMP:20260424T164949Z
UID:0f006e71-0436-45ca-b65b-20ee90901d02
DTSTART;VALUE=DATE:20260611
DTEND;VALUE=DATE:20260612
DESCRIPTION:
LOCATION:
SUMMARY:DHS Prom\, Sterling at Arrowhead
END:VEVENT
BEGIN:VEVENT
DTSTAMP:20260424T164949Z
UID:6914b829-1f19-40d8-845d-2070307983dc
DTSTART;VALUE=DATE:20260617
DTEND;VALUE=DATE:20260619
DESCRIPTION:
LOCATION:
SUMMARY:Regents Exams
END:VEVENT
BEGIN:VEVENT
DTSTAMP:20260424T164949Z
UID:f5375ec3-84fe-4986-9db5-8c0111f7ac96
DTSTART;VALUE=DATE:20260619
DTEND;VALUE=DATE:20260620
DESCRIPTION:
LOCATION:
SUMMARY:Juneteenth Holiday- No School
END:VEVENT
BEGIN:VEVENT
DTSTAMP:20260424T164949Z
UID:f4d76c65-6545-41f1-9088-17fa7636f98a
DTSTART;VALUE=DATE:20260622
DTEND;VALUE=DATE:20260626
DESCRIPTION:
LOCATION:
SUMMARY:Regents Exams
END:VEVENT
BEGIN:VEVENT
DTSTAMP:20260424T164949Z
UID:38c2646f-4534-46cd-a389-89701f5a4678
DTSTART;VALUE=DATE:20260623
DTEND;VALUE=DATE:20260624
DESCRIPTION:
LOCATION:
SUMMARY:End of Quarter 4 Marking Period
END:VEVENT
BEGIN:VEVENT
DTSTAMP:20260424T164949Z
UID:41aaa27c-9995-4069-85c3-346b1e3a7028
DTSTART;VALUE=DATE:20260626
DTEND;VALUE=DATE:20260627
DESCRIPTION:
LOCATION:
SUMMARY:Rating Day- Last Teacher Day
END:VEVENT
BEGIN:VEVENT
DTSTAMP:20260424T164949Z
UID:fad0fba4-1cf1-425c-bc4a-10929396ce7f
DTSTART:20260626T190000
DTEND:20260626T210000
DESCRIPTION:
LOCATION: DHS Aud
SUMMARY:Class of 2025 Commencement 
END:VEVENT
END:VCALENDAR
