BEGIN:VCALENDAR
VERSION:2.0
PRODID:icalendar-ruby
CALSCALE:GREGORIAN
BEGIN:VTIMEZONE
TZID:America/New_York
BEGIN:DAYLIGHT
DTSTART:20260308T030000
TZOFFSETFROM:-0500
TZOFFSETTO:-0400
RRULE:FREQ=YEARLY;BYDAY=2SU;BYMONTH=3
TZNAME:EDT
END:DAYLIGHT
BEGIN:STANDARD
DTSTART:20261101T010000
TZOFFSETFROM:-0400
TZOFFSETTO:-0500
RRULE:FREQ=YEARLY;BYDAY=1SU;BYMONTH=11
TZNAME:EST
END:STANDARD
END:VTIMEZONE
BEGIN:VEVENT
DTSTAMP:20260425T161440Z
UID:8a14bd7b-f053-4591-8ea3-150d11c3a770
DTSTART:20260425T150000
DTEND:20260425T170000
DESCRIPTION:
LOCATION:
SUMMARY:MS Drama Play
END:VEVENT
BEGIN:VEVENT
DTSTAMP:20260425T161440Z
UID:49c4b841-6f0e-4b5a-ac63-f668824c44bb
DTSTART:20260507T190000
DTEND:20260507T210000
DESCRIPTION:
LOCATION:
SUMMARY:Choir Spring Concert
END:VEVENT
BEGIN:VEVENT
DTSTAMP:20260425T161440Z
UID:7da37c22-9998-460f-9093-ae2d555ee8af
DTSTART:20260509T100000
DTEND:20260509T130000
DESCRIPTION:
LOCATION:
SUMMARY:Free Food Distribution at CES
END:VEVENT
BEGIN:VEVENT
DTSTAMP:20260425T161440Z
UID:76ba6ff0-584a-4610-a810-e702d4e8c665
DTSTART:20260514T180000
DTEND:20260514T210000
DESCRIPTION:
LOCATION:
SUMMARY:Band Spring Concert
END:VEVENT
BEGIN:VEVENT
DTSTAMP:20260425T161440Z
UID:12817ba0-84a5-43f8-aa90-195ca8883767
DTSTART:20260515T100000
DTEND:20260515T103000
DESCRIPTION:
LOCATION:
SUMMARY:Senior Walk
END:VEVENT
BEGIN:VEVENT
DTSTAMP:20260425T161440Z
UID:f1abbeb7-76b8-4394-af2a-a85fd65674aa
DTSTART:20260515T160000
DTEND:20260515T200000
DESCRIPTION:
LOCATION:
SUMMARY:MS Band OMEA Competition
END:VEVENT
BEGIN:VEVENT
DTSTAMP:20260425T161440Z
UID:e7cd9b56-397e-479b-a7d0-ca17be5b93ce
DTSTART;VALUE=DATE:20260516
DTEND;VALUE=DATE:20260517
DESCRIPTION:
LOCATION:
SUMMARY:8th Grade Band Cedar Point Trip
END:VEVENT
BEGIN:VEVENT
DTSTAMP:20260425T161440Z
UID:c9b01f25-fb49-4478-ab14-68fd5121159f
DTSTART;VALUE=DATE:20260517
DTEND;VALUE=DATE:20260518
DESCRIPTION:
LOCATION:
SUMMARY:Graduation
END:VEVENT
BEGIN:VEVENT
DTSTAMP:20260425T161440Z
UID:9f8df4ee-51a6-48e3-9b5d-31c86c33f4b1
DTSTART:20260517T140000
DTEND:20260517T150000
DESCRIPTION:
LOCATION:
SUMMARY:HS Graduation
END:VEVENT
BEGIN:VEVENT
DTSTAMP:20260425T161440Z
UID:8156ee07-936d-488b-b08e-5e546ccfacd3
DTSTART;VALUE=DATE:20260518
DTEND;VALUE=DATE:20260521
DESCRIPTION:
LOCATION:
SUMMARY:8th Grade Washington\, D.C. Trip
END:VEVENT
BEGIN:VEVENT
DTSTAMP:20260425T161440Z
UID:e3d386be-1eb7-4534-95fe-bb53cd079e8f
DTSTART;VALUE=DATE:20260525
DTEND;VALUE=DATE:20260526
DESCRIPTION:
LOCATION:
SUMMARY:Memorial Day- No School
END:VEVENT
BEGIN:VEVENT
DTSTAMP:20260425T161440Z
UID:f21ec3d2-cf2c-4f3e-af4a-3a9b6c2ac7bb
DTSTART;VALUE=DATE:20260525
DTEND;VALUE=DATE:20260526
DESCRIPTION:
LOCATION:
SUMMARY:No School
END:VEVENT
BEGIN:VEVENT
DTSTAMP:20260425T161440Z
UID:24391d08-f3b4-473f-a67b-8ab5d5c5987b
DTSTART;VALUE=DATE:20260527
DTEND;VALUE=DATE:20260528
DESCRIPTION:
LOCATION:
SUMMARY:Last Student Day
END:VEVENT
BEGIN:VEVENT
DTSTAMP:20260425T161440Z
UID:75d1a39c-efc4-494b-8134-7a37515eda0f
DTSTART:20260527T071000
DTEND:20260527T123800
DESCRIPTION:
LOCATION:
SUMMARY:Last Day for Students (early release
END:VEVENT
BEGIN:VEVENT
DTSTAMP:20260425T161440Z
UID:c2d6ee9e-940f-4373-a771-313b785b8746
DTSTART;VALUE=DATE:20260528
DTEND;VALUE=DATE:20260529
DESCRIPTION:
LOCATION:
SUMMARY:Last Day for teachers
END:VEVENT
BEGIN:VEVENT
DTSTAMP:20260425T161440Z
UID:7cdef246-5891-4e12-bd8f-aecc279300c8
DTSTART;VALUE=DATE:20260528
DTEND;VALUE=DATE:20260529
DESCRIPTION:
LOCATION:
SUMMARY:Last Teacher Day
END:VEVENT
END:VCALENDAR
