BEGIN:VCALENDAR
VERSION:2.0
PRODID:icalendar-ruby
CALSCALE:GREGORIAN
BEGIN:VTIMEZONE
TZID:America/New_York
BEGIN:DAYLIGHT
DTSTART:20260308T030000
TZOFFSETFROM:-0500
TZOFFSETTO:-0400
RRULE:FREQ=YEARLY;BYDAY=2SU;BYMONTH=3
TZNAME:EDT
END:DAYLIGHT
BEGIN:STANDARD
DTSTART:20261101T010000
TZOFFSETFROM:-0400
TZOFFSETTO:-0500
RRULE:FREQ=YEARLY;BYDAY=1SU;BYMONTH=11
TZNAME:EST
END:STANDARD
END:VTIMEZONE
BEGIN:VEVENT
DTSTAMP:20260425T215116Z
UID:4e0cd4e3-3644-425d-b9ce-0cbc378eeb0a
DTSTART;VALUE=DATE:20260522
DTEND;VALUE=DATE:20260523
DESCRIPTION:
LOCATION:
SUMMARY:Last Day of School & Early Release
END:VEVENT
BEGIN:VEVENT
DTSTAMP:20260425T215116Z
UID:bb3c6b64-1f20-42e2-8534-ace05b64087d
DTSTART;VALUE=DATE:20260523
DTEND;VALUE=DATE:20260524
DESCRIPTION:
LOCATION:
SUMMARY:Graduation
END:VEVENT
BEGIN:VEVENT
DTSTAMP:20260425T215116Z
UID:a2e84359-8b5e-4a53-88c8-ff3c978283f2
DTSTART:20260526T080000
DTEND:20260528T090000
DESCRIPTION:
LOCATION:
SUMMARY:Post-Planning/Professional Learning
END:VEVENT
BEGIN:VEVENT
DTSTAMP:20260425T215116Z
UID:a66cb777-1d5c-4b44-aee8-7c6a662c25b6
DTSTART;VALUE=DATE:20260603
DTEND;VALUE=DATE:20260604
DESCRIPTION:
LOCATION:
SUMMARY:Report Cards
END:VEVENT
END:VCALENDAR
