BEGIN:VCALENDAR
VERSION:2.0
PRODID:icalendar-ruby
CALSCALE:GREGORIAN
BEGIN:VTIMEZONE
TZID:America/Chicago
BEGIN:DAYLIGHT
DTSTART:20260308T030000
TZOFFSETFROM:-0600
TZOFFSETTO:-0500
RRULE:FREQ=YEARLY;BYDAY=2SU;BYMONTH=3
TZNAME:CDT
END:DAYLIGHT
BEGIN:STANDARD
DTSTART:20261101T010000
TZOFFSETFROM:-0500
TZOFFSETTO:-0600
RRULE:FREQ=YEARLY;BYDAY=1SU;BYMONTH=11
TZNAME:CST
END:STANDARD
END:VTIMEZONE
BEGIN:VEVENT
DTSTAMP:20260419T204608Z
UID:c44cd977-bbce-4665-a009-215f36462771
DTSTART;VALUE=DATE:20260521
DTEND;VALUE=DATE:20260522
DESCRIPTION:
LOCATION:
SUMMARY:Last Day of School (Dismissal at 1 p.m.)
END:VEVENT
BEGIN:VEVENT
DTSTAMP:20260419T204608Z
UID:1a63dd54-a8bd-40b3-9633-d88afcbb5f89
DTSTART;VALUE=DATE:20260522
DTEND;VALUE=DATE:20260523
DESCRIPTION:
LOCATION:
SUMMARY:Possible Make-Up Day
END:VEVENT
BEGIN:VEVENT
DTSTAMP:20260419T204608Z
UID:770dbba6-f509-4837-95bb-70621b8f7294
DTSTART;VALUE=DATE:20260522
DTEND;VALUE=DATE:20260523
DESCRIPTION:
LOCATION:
SUMMARY:Teacher PD Day
END:VEVENT
BEGIN:VEVENT
DTSTAMP:20260419T204608Z
UID:9e977c25-43a5-428a-b521-6bcbd6196a38
DTSTART;VALUE=DATE:20260526
DTEND;VALUE=DATE:20260530
DESCRIPTION:
LOCATION:
SUMMARY:Possible Make-Up Days
END:VEVENT
BEGIN:VEVENT
DTSTAMP:20260419T204608Z
UID:c8f78e01-4547-4393-9f96-2bc08d960beb
DTSTART;VALUE=DATE:20260601
DTEND;VALUE=DATE:20260602
DESCRIPTION:
LOCATION:
SUMMARY:Possible Make-Up Day
END:VEVENT
END:VCALENDAR
