BEGIN:VCALENDAR
VERSION:2.0
PRODID:icalendar-ruby
CALSCALE:GREGORIAN
BEGIN:VTIMEZONE
TZID:America/Chicago
BEGIN:DAYLIGHT
DTSTART:20260308T030000
TZOFFSETFROM:-0600
TZOFFSETTO:-0500
RRULE:FREQ=YEARLY;BYDAY=2SU;BYMONTH=3
TZNAME:CDT
END:DAYLIGHT
BEGIN:STANDARD
DTSTART:20261101T010000
TZOFFSETFROM:-0500
TZOFFSETTO:-0600
RRULE:FREQ=YEARLY;BYDAY=1SU;BYMONTH=11
TZNAME:CST
END:STANDARD
END:VTIMEZONE
BEGIN:VEVENT
DTSTAMP:20260420T103719Z
UID:5b3a6bb3-3a8e-4fb3-8187-92af5eb03e89
DTSTART:20260420T180000
DTEND:20260420T200000
DESCRIPTION:
LOCATION:
SUMMARY:Skate City Fundraiser
END:VEVENT
BEGIN:VEVENT
DTSTAMP:20260420T103719Z
UID:26a71655-bc59-42aa-abb5-3d753a0b9dac
DTSTART;VALUE=DATE:20260422
DTEND;VALUE=DATE:20260423
DESCRIPTION:
LOCATION:
SUMMARY:Administrative Professionals Day
END:VEVENT
BEGIN:VEVENT
DTSTAMP:20260420T103719Z
UID:cdcea93c-03e4-4dd6-9d97-213cb64e61ce
DTSTART;VALUE=DATE:20260422
DTEND;VALUE=DATE:20260423
DESCRIPTION:For the PLC schedule and registration\, please visit <a href=
 "https://www.google.com/url?q=https://www.usd230.org/Page/1058&amp\;sa=D&a
 mp\;source=calendar&amp\;ust=1716334105158987&amp\;usg=AOvVaw0oKgtQJ7IiFa5
 WqgBlMfPa" target="_blank"><u><u>PLC Days</u></u></a>.
LOCATION:
SUMMARY:PLC Day
END:VEVENT
BEGIN:VEVENT
DTSTAMP:20260420T103719Z
UID:d493f91e-8925-47a5-afb8-c6ad3e2c9395
DTSTART:20260424T083000
DTEND:20260424T090000
DESCRIPTION:
LOCATION:
SUMMARY:LIM Assembly
END:VEVENT
BEGIN:VEVENT
DTSTAMP:20260420T103719Z
UID:590ab9fd-430c-4d1b-93a3-b7eedd52d3d6
DTSTART;VALUE=DATE:20260427
DTEND;VALUE=DATE:20260502
DESCRIPTION:
LOCATION:
SUMMARY:FastBridge Testing
END:VEVENT
BEGIN:VEVENT
DTSTAMP:20260420T103719Z
UID:ed9220d7-9622-4140-ae8c-39b61e4bb0fa
DTSTART;VALUE=DATE:20260427
DTEND;VALUE=DATE:20260502
DESCRIPTION:
LOCATION:
SUMMARY:Spring Book Fair
END:VEVENT
BEGIN:VEVENT
DTSTAMP:20260420T103719Z
UID:a878bcba-f506-4c53-b8ed-452a97eb2edb
DTSTART;VALUE=DATE:20260428
DTEND;VALUE=DATE:20260429
DESCRIPTION:
LOCATION:
SUMMARY:National School Bus Driver Appreciation Day
END:VEVENT
BEGIN:VEVENT
DTSTAMP:20260420T103719Z
UID:bbc3198c-8074-4e46-a5ee-dd41312cb93e
DTSTART;VALUE=DATE:20260429
DTEND;VALUE=DATE:20260430
DESCRIPTION:For the PLC schedule and registration\, please visit <a href=
 "https://www.google.com/url?q=https://www.usd230.org/Page/1058&amp\;sa=D&a
 mp\;source=calendar&amp\;ust=1716334113157308&amp\;usg=AOvVaw12xvgNDKj0hbX
 f5f5elrqI" target="_blank"><u><u>PLC Days</u></u></a>.
LOCATION:
SUMMARY:PLC Day
END:VEVENT
BEGIN:VEVENT
DTSTAMP:20260420T103719Z
UID:f01b64da-58b9-4704-a681-f5c692afc97b
DTSTART:20260430T083000
DTEND:20260430T143000
DESCRIPTION:
LOCATION:
SUMMARY:KG Field Trip
END:VEVENT
BEGIN:VEVENT
DTSTAMP:20260420T103719Z
UID:97daada4-67ab-4c8f-991d-f40653549f35
DTSTART;VALUE=DATE:20260501
DTEND;VALUE=DATE:20260502
DESCRIPTION:
LOCATION:
SUMMARY:School Lunch Hero Day
END:VEVENT
BEGIN:VEVENT
DTSTAMP:20260420T103719Z
UID:8e35c06e-f8e9-4b5c-9d28-49926e6a2926
DTSTART;VALUE=DATE:20260501
DTEND;VALUE=DATE:20260502
DESCRIPTION:
LOCATION:
SUMMARY:School Principal Day
END:VEVENT
BEGIN:VEVENT
DTSTAMP:20260420T103719Z
UID:99966b39-4284-45c1-a6ce-a51e48a94c10
DTSTART:20260501T083000
DTEND:20260501T090000
DESCRIPTION:
LOCATION:
SUMMARY:Mustang Families
END:VEVENT
BEGIN:VEVENT
DTSTAMP:20260420T103719Z
UID:3ef573ca-704a-40cc-b627-d16189b5bf85
DTSTART:20260501T091500
DTEND:20260501T144500
DESCRIPTION:
LOCATION:
SUMMARY:1st Grade Field Trip
END:VEVENT
BEGIN:VEVENT
DTSTAMP:20260420T103719Z
UID:05af9810-b1f2-4cf7-b5a8-a0b284afeff6
DTSTART;VALUE=DATE:20260504
DTEND;VALUE=DATE:20260509
DESCRIPTION:
LOCATION:
SUMMARY:FastBridge Testing
END:VEVENT
BEGIN:VEVENT
DTSTAMP:20260420T103719Z
UID:fbf83d14-4cab-4b01-934d-65460f7335e5
DTSTART;VALUE=DATE:20260504
DTEND;VALUE=DATE:20260509
DESCRIPTION:
LOCATION:
SUMMARY:Teacher Appreciation Week
END:VEVENT
BEGIN:VEVENT
DTSTAMP:20260420T103719Z
UID:5e4c0396-e87d-49a2-8a55-40f29858aea0
DTSTART;VALUE=DATE:20260506
DTEND;VALUE=DATE:20260507
DESCRIPTION:For the PLC schedule and registration\, please visit <a href=
 "https://www.google.com/url?q=https://www.usd230.org/Page/1058&amp\;sa=D&a
 mp\;source=calendar&amp\;ust=1716334120093073&amp\;usg=AOvVaw22iWULHkh04-c
 EglkHCsZc" target="_blank"><u><u>PLC Days</u></u></a>.
LOCATION:
SUMMARY:PLC Day
END:VEVENT
BEGIN:VEVENT
DTSTAMP:20260420T103719Z
UID:9b89dde7-e931-4df4-84cd-61884073d89a
DTSTART;VALUE=DATE:20260507
DTEND;VALUE=DATE:20260508
DESCRIPTION:
LOCATION:
SUMMARY:School Nurse Day 
END:VEVENT
BEGIN:VEVENT
DTSTAMP:20260420T103719Z
UID:0b9c0d0b-83d0-48ae-aff3-9a4ce32709c6
DTSTART:20260507T081000
DTEND:20260507T085500
DESCRIPTION:
LOCATION:
SUMMARY:5th - Grade Level Talent Show 
END:VEVENT
BEGIN:VEVENT
DTSTAMP:20260420T103719Z
UID:bbfbd29b-9ac2-4ede-ae0f-128b560b37d3
DTSTART:20260507T090500
DTEND:20260507T095000
DESCRIPTION:
LOCATION:
SUMMARY:4th - Grade Level Talent Show
END:VEVENT
BEGIN:VEVENT
DTSTAMP:20260420T103719Z
UID:36261b4a-5bff-42de-a80e-e33829704bcf
DTSTART:20260507T100000
DTEND:20260507T104500
DESCRIPTION:
LOCATION:
SUMMARY:2nd - Grade Level Talent Show
END:VEVENT
BEGIN:VEVENT
DTSTAMP:20260420T103719Z
UID:36fa49ee-75aa-43b1-ba02-aa389a43143e
DTSTART:20260507T131500
DTEND:20260507T140000
DESCRIPTION:
LOCATION:
SUMMARY:1st - Grade Level Talent Show
END:VEVENT
BEGIN:VEVENT
DTSTAMP:20260420T103719Z
UID:6470431d-0a62-4bf5-8d46-04883b732102
DTSTART:20260507T141000
DTEND:20260507T145500
DESCRIPTION:
LOCATION:
SUMMARY:3rd - Grade Level Talent Show
END:VEVENT
BEGIN:VEVENT
DTSTAMP:20260420T103719Z
UID:0d3cf6f8-0ffe-4db3-b99e-55877dfc140f
DTSTART:20260512T090000
DTEND:20260512T093000
DESCRIPTION:
LOCATION:
SUMMARY:5th Grade Wax Museum (Tapia/Heitschmidt)
END:VEVENT
BEGIN:VEVENT
DTSTAMP:20260420T103719Z
UID:e991d021-178f-4a9e-8e3c-b861e446f2aa
DTSTART:20260512T140000
DTEND:20260512T143000
DESCRIPTION:
LOCATION:
SUMMARY:5th Grade Wax Museum (Ankrom/McIntire)
END:VEVENT
BEGIN:VEVENT
DTSTAMP:20260420T103719Z
UID:7637485f-c3b6-4632-aa48-5b2cbdbb322d
DTSTART;VALUE=DATE:20260515
DTEND;VALUE=DATE:20260516
DESCRIPTION:
LOCATION:
SUMMARY:Field Day
END:VEVENT
BEGIN:VEVENT
DTSTAMP:20260420T103719Z
UID:aab5296c-427e-4a2e-8d70-92244b084d9e
DTSTART;VALUE=DATE:20260518
DTEND;VALUE=DATE:20260519
DESCRIPTION:
LOCATION:
SUMMARY:Field Day (Rainout Date)
END:VEVENT
BEGIN:VEVENT
DTSTAMP:20260420T103719Z
UID:02b3ac57-a82e-4e7e-98ce-3e7f87e05514
DTSTART;VALUE=DATE:20260518
DTEND;VALUE=DATE:20260519
DESCRIPTION:
LOCATION:
SUMMARY:National Speech Language Pathologist Day
END:VEVENT
BEGIN:VEVENT
DTSTAMP:20260420T103719Z
UID:3e3167f2-0aa2-4156-8b6e-6f993c20c68b
DTSTART:20260519T133000
DTEND:20260519T143000
DESCRIPTION:
LOCATION:
SUMMARY:Talent Show (Whole School)
END:VEVENT
BEGIN:VEVENT
DTSTAMP:20260420T103719Z
UID:464f78c1-1662-43e6-9a3a-8084c1e42d29
DTSTART:20260520T083000
DTEND:20260520T090000
DESCRIPTION:
LOCATION:
SUMMARY:LIM Assembly
END:VEVENT
BEGIN:VEVENT
DTSTAMP:20260420T103719Z
UID:017d6f2e-e85b-42d4-a342-da7082fe3763
DTSTART;VALUE=DATE:20260521
DTEND;VALUE=DATE:20260522
DESCRIPTION:
LOCATION:
SUMMARY:Last Day for Students
END:VEVENT
BEGIN:VEVENT
DTSTAMP:20260420T103719Z
UID:93c3fe21-7717-45dc-8878-60ac1ccbe5f1
DTSTART;VALUE=DATE:20260521
DTEND;VALUE=DATE:20260522
DESCRIPTION:
LOCATION:
SUMMARY:Quarter 4 Report Cards Sent Home  
END:VEVENT
BEGIN:VEVENT
DTSTAMP:20260420T103719Z
UID:b34fb617-9c31-48a2-927f-7f723ea74e5b
DTSTART;VALUE=DATE:20260522
DTEND;VALUE=DATE:20260523
DESCRIPTION:
LOCATION:
SUMMARY:Teacher Professional Development
END:VEVENT
BEGIN:VEVENT
DTSTAMP:20260420T103719Z
UID:868965af-0af3-4cd8-88e5-e5c7c96d24b5
DTSTART;VALUE=DATE:20260525
DTEND;VALUE=DATE:20260526
DESCRIPTION:<p>In observance of Memorial Day\, our offices will be closed M
 onday\, May 25.</p>
LOCATION:
SUMMARY:Memorial Day
END:VEVENT
BEGIN:VEVENT
DTSTAMP:20260420T103719Z
UID:2c6ad71c-d012-4cfb-adb0-8f7d2b66ed8e
DTSTART;VALUE=DATE:20260805
DTEND;VALUE=DATE:20260806
DESCRIPTION:
LOCATION:
SUMMARY:New Teachers on Duty
END:VEVENT
BEGIN:VEVENT
DTSTAMP:20260420T103719Z
UID:1619db17-b50b-4280-b398-48dcad951e8d
DTSTART;VALUE=DATE:20260806
DTEND;VALUE=DATE:20260807
DESCRIPTION:
LOCATION:
SUMMARY:New Teachers on Duty
END:VEVENT
BEGIN:VEVENT
DTSTAMP:20260420T103719Z
UID:41dbacf4-8428-427a-9351-d0a31c68b993
DTSTART;VALUE=DATE:20260807
DTEND;VALUE=DATE:20260808
DESCRIPTION:
LOCATION:
SUMMARY:New Teachers on Duty
END:VEVENT
BEGIN:VEVENT
DTSTAMP:20260420T103719Z
UID:e280ba9c-c781-4edb-b805-60a0b30e449e
DTSTART;VALUE=DATE:20260811
DTEND;VALUE=DATE:20260815
DESCRIPTION:
LOCATION:
SUMMARY:No Classes - Professional Development
END:VEVENT
BEGIN:VEVENT
DTSTAMP:20260420T103719Z
UID:f2345d32-baf9-406e-bc79-ca60cc0e9a48
DTSTART;VALUE=DATE:20260817
DTEND;VALUE=DATE:20260818
DESCRIPTION:
LOCATION:
SUMMARY:First Day of School (PK-9)
END:VEVENT
BEGIN:VEVENT
DTSTAMP:20260420T103719Z
UID:0426f850-dbcf-45ab-92ef-62c7391885cb
DTSTART;VALUE=DATE:20260902
DTEND;VALUE=DATE:20260903
DESCRIPTION:For the PLC schedule and registration\, please visit <a href=
 "https://www.google.com/url?q=https://www.usd230.org/Page/1058&amp\;sa=D&a
 mp\;source=calendar&amp\;ust=1775417154270526&amp\;usg=AOvVaw0L8wG0EwkCFhW
 EQfL_b14C" target="_blank"><u><u>PLC Days</u></u></a>.
LOCATION:
SUMMARY:PLC Day
END:VEVENT
BEGIN:VEVENT
DTSTAMP:20260420T103719Z
UID:8aa57d87-cac4-4801-b331-b808035d6eca
DTSTART:20260902T180000
DTEND:20260902T190000
DESCRIPTION:
LOCATION:
SUMMARY:PTO Meeting
END:VEVENT
BEGIN:VEVENT
DTSTAMP:20260420T103719Z
UID:7dd1f26e-deba-4315-bf9c-898a8fa33d17
DTSTART;VALUE=DATE:20260907
DTEND;VALUE=DATE:20260908
DESCRIPTION:In observance of Labor Day\, USD 230 schools and offices will b
 e closed Monday\, September 1.
LOCATION:
SUMMARY:No Classes - Labor Day
END:VEVENT
BEGIN:VEVENT
DTSTAMP:20260420T103719Z
UID:600c4905-026a-4c55-8d39-43644ba0766d
DTSTART;VALUE=DATE:20260908
DTEND;VALUE=DATE:20260909
DESCRIPTION:
LOCATION:
SUMMARY:No Classes - Professional Development
END:VEVENT
BEGIN:VEVENT
DTSTAMP:20260420T103719Z
UID:cb609054-5674-4969-b0a3-54ec7ac21418
DTSTART;VALUE=DATE:20260916
DTEND;VALUE=DATE:20260917
DESCRIPTION:For the PLC schedule and registration\, please visit <a href=
 "https://www.google.com/url?q=https://www.usd230.org/Page/1058&amp\;sa=D&a
 mp\;source=calendar&amp\;ust=1775493273134598&amp\;usg=AOvVaw3LzUv0PnIdnjU
 nbVE5IU0G" target="_blank"><u><u>PLC Days</u></u></a>.
LOCATION:
SUMMARY:PLC Day
END:VEVENT
BEGIN:VEVENT
DTSTAMP:20260420T103719Z
UID:4970f125-90ea-4016-8db3-8b5cfc4e9735
DTSTART;VALUE=DATE:20260923
DTEND;VALUE=DATE:20260924
DESCRIPTION:For the PLC schedule and registration\, please visit <a href=
 "https://www.google.com/url?q=https://www.usd230.org/Page/1058&amp\;sa=D&a
 mp\;source=calendar&amp\;ust=1775493348949903&amp\;usg=AOvVaw2WYbvnkanFFjx
 wQj3sLeoK" target="_blank"><u><u>PLC Days</u></u></a>.
LOCATION:
SUMMARY:PLC Day
END:VEVENT
BEGIN:VEVENT
DTSTAMP:20260420T103719Z
UID:2a4d9518-bd09-4823-bda2-6b39c4907431
DTSTART;VALUE=DATE:20260930
DTEND;VALUE=DATE:20261001
DESCRIPTION:For the PLC schedule and registration\, please visit <a href=
 "https://www.google.com/url?q=https://www.usd230.org/Page/1058&amp\;sa=D&a
 mp\;source=calendar&amp\;ust=1775493356441758&amp\;usg=AOvVaw2M3xA_IijnCxp
 hP14ZiI9u" target="_blank"><u><u>PLC Days</u></u></a>.
LOCATION:
SUMMARY:PLC Day
END:VEVENT
BEGIN:VEVENT
DTSTAMP:20260420T103719Z
UID:48af759d-dec2-4459-b1ba-e456db567d25
DTSTART;VALUE=DATE:20261007
DTEND;VALUE=DATE:20261008
DESCRIPTION:For the PLC schedule and registration\, please visit <a href=
 "https://www.google.com/url?q=https://www.usd230.org/Page/1058&amp\;sa=D&a
 mp\;source=calendar&amp\;ust=1775493364923967&amp\;usg=AOvVaw3j0354zV1L_yG
 WdK6R4sPE" target="_blank"><u><u>PLC Days</u></u></a>.
LOCATION:
SUMMARY:PLC Day
END:VEVENT
BEGIN:VEVENT
DTSTAMP:20260420T103719Z
UID:dd416d04-35bd-4d9d-974d-a1f7fe2d5ed8
DTSTART;VALUE=DATE:20261014
DTEND;VALUE=DATE:20261016
DESCRIPTION:
LOCATION:
SUMMARY:Fall Parent-Teacher Conferences
END:VEVENT
BEGIN:VEVENT
DTSTAMP:20260420T103719Z
UID:8d7095c2-0fd3-469c-8f67-50a121d832be
DTSTART;VALUE=DATE:20261014
DTEND;VALUE=DATE:20261015
DESCRIPTION:
LOCATION:
SUMMARY:Two-Hour Early Dismissal
END:VEVENT
BEGIN:VEVENT
DTSTAMP:20260420T103719Z
UID:65e858a0-73e3-4c8d-bad3-eaefb4b7d6a1
DTSTART;VALUE=DATE:20261015
DTEND;VALUE=DATE:20261016
DESCRIPTION:
LOCATION:
SUMMARY:No Classes - Professional Development
END:VEVENT
BEGIN:VEVENT
DTSTAMP:20260420T103719Z
UID:917e2c09-0bf4-45ce-8c2b-5ea534a4f3d2
DTSTART;VALUE=DATE:20261016
DTEND;VALUE=DATE:20261017
DESCRIPTION:
LOCATION:
SUMMARY:No Classes - Certified Off Duty
END:VEVENT
BEGIN:VEVENT
DTSTAMP:20260420T103719Z
UID:f54af073-7eda-4b06-b80e-9620e4ea5673
DTSTART;VALUE=DATE:20261021
DTEND;VALUE=DATE:20261022
DESCRIPTION:For the PLC schedule and registration\, please visit <a href=
 "https://www.google.com/url?q=https://www.usd230.org/Page/1058&amp\;sa=D&a
 mp\;source=calendar&amp\;ust=1775493377035543&amp\;usg=AOvVaw1Fygaj5dDPFwV
 75bqKWECr" target="_blank"><u><u>PLC Days</u></u></a>.
LOCATION:
SUMMARY:PLC Day
END:VEVENT
BEGIN:VEVENT
DTSTAMP:20260420T103719Z
UID:86f1bc1b-a94a-4c77-af3f-9252f5227e0f
DTSTART;VALUE=DATE:20261028
DTEND;VALUE=DATE:20261029
DESCRIPTION:For the PLC schedule and registration\, please visit <a href=
 "https://www.google.com/url?q=https://www.usd230.org/Page/1058&amp\;sa=D&a
 mp\;source=calendar&amp\;ust=1775493503343129&amp\;usg=AOvVaw0VLDKWdqTJh7k
 wegu7eoVi" target="_blank"><u><u>PLC Days</u></u></a>.
LOCATION:
SUMMARY:PLC Day
END:VEVENT
BEGIN:VEVENT
DTSTAMP:20260420T103719Z
UID:4c3aa3ec-79a2-4038-be32-bbb985cbad29
DTSTART;VALUE=DATE:20261104
DTEND;VALUE=DATE:20261105
DESCRIPTION:For the PLC schedule and registration\, please visit <a href=
 "https://www.google.com/url?q=https://www.usd230.org/Page/1058&amp\;sa=D&a
 mp\;source=calendar&amp\;ust=1775493512029013&amp\;usg=AOvVaw0DGGx7g6g-l9h
 ud7fuOMs4" target="_blank"><u><u>PLC Days</u></u></a>.
LOCATION:
SUMMARY:PLC Day
END:VEVENT
BEGIN:VEVENT
DTSTAMP:20260420T103719Z
UID:c9008be3-bc6b-4bab-9884-d50d33c643aa
DTSTART;VALUE=DATE:20261111
DTEND;VALUE=DATE:20261112
DESCRIPTION:For the PLC schedule and registration\, please visit <a href=
 "https://www.google.com/url?q=https://www.usd230.org/Page/1058&amp\;sa=D&a
 mp\;source=calendar&amp\;ust=1775493535909102&amp\;usg=AOvVaw1xmvWHexks0VB
 lxAJ0Qej4" target="_blank"><u><u>PLC Days</u></u></a>.
LOCATION:
SUMMARY:PLC Day
END:VEVENT
BEGIN:VEVENT
DTSTAMP:20260420T103719Z
UID:d52e8c7d-5fdf-4aae-a19a-8ae7aadf45a3
DTSTART;VALUE=DATE:20261118
DTEND;VALUE=DATE:20261119
DESCRIPTION:For the PLC schedule and registration\, please visit <a href=
 "https://www.google.com/url?q=https://www.usd230.org/Page/1058&amp\;sa=D&a
 mp\;source=calendar&amp\;ust=1775493547394777&amp\;usg=AOvVaw2ysP0YAAo4CfQ
 N9DBfbv-C" target="_blank"><u><u>PLC Days</u></u></a>.
LOCATION:
SUMMARY:PLC Day
END:VEVENT
BEGIN:VEVENT
DTSTAMP:20260420T103719Z
UID:358d0ead-b5e2-49da-9267-0bfa55012520
DTSTART;VALUE=DATE:20261123
DTEND;VALUE=DATE:20261124
DESCRIPTION:
LOCATION:
SUMMARY:No Classes - Professional Development
END:VEVENT
BEGIN:VEVENT
DTSTAMP:20260420T103719Z
UID:a7e183f2-74fb-4188-b804-4a17fa27b77a
DTSTART;VALUE=DATE:20261124
DTEND;VALUE=DATE:20261128
DESCRIPTION:
LOCATION:
SUMMARY:No Classes - Thanksgiving Break
END:VEVENT
BEGIN:VEVENT
DTSTAMP:20260420T103719Z
UID:714ccfbb-b1dd-4816-ad7b-81a81558171f
DTSTART;VALUE=DATE:20261202
DTEND;VALUE=DATE:20261203
DESCRIPTION:For the PLC schedule and registration\, please visit <a href=
 "https://www.google.com/url?q=https://www.usd230.org/Page/1058&amp\;sa=D&a
 mp\;source=calendar&amp\;ust=1775493555545400&amp\;usg=AOvVaw1FR8XvVGarZTR
 CzysieIgm" target="_blank"><u><u>PLC Days</u></u></a>.
LOCATION:
SUMMARY:PLC Day
END:VEVENT
BEGIN:VEVENT
DTSTAMP:20260420T103719Z
UID:12e53efe-d844-4f12-b254-4e5369c04b5a
DTSTART;VALUE=DATE:20261209
DTEND;VALUE=DATE:20261210
DESCRIPTION:For the PLC schedule and registration\, please visit <a href=
 "https://www.google.com/url?q=https://www.usd230.org/Page/1058&amp\;sa=D&a
 mp\;source=calendar&amp\;ust=1775493631136974&amp\;usg=AOvVaw0fQWLiYa5q2I9
 KKuKFnd7D" target="_blank"><u><u>PLC Days</u></u></a>.
LOCATION:
SUMMARY:PLC Day
END:VEVENT
BEGIN:VEVENT
DTSTAMP:20260420T103719Z
UID:0a83c442-bc48-4447-93ee-927b1cddeded
DTSTART;VALUE=DATE:20261221
DTEND;VALUE=DATE:20270102
DESCRIPTION:Reminder: Schools and offices will be closed from December 22 -
  January 1. Classes resume from Winter Break on Monday\, January 5.
LOCATION:
SUMMARY:No Classes - Winter Break
END:VEVENT
BEGIN:VEVENT
DTSTAMP:20260420T103719Z
UID:186a136d-248f-487d-ad43-726594e2c6dc
DTSTART;VALUE=DATE:20270104
DTEND;VALUE=DATE:20270105
DESCRIPTION:
LOCATION:
SUMMARY:No Classes - Professional Development
END:VEVENT
BEGIN:VEVENT
DTSTAMP:20260420T103719Z
UID:c516c953-db71-4e4d-89cd-b84691c3abc4
DTSTART;VALUE=DATE:20270105
DTEND;VALUE=DATE:20270106
DESCRIPTION:
LOCATION:
SUMMARY:Classes Resume
END:VEVENT
BEGIN:VEVENT
DTSTAMP:20260420T103719Z
UID:38e61af8-714b-453f-a6ba-69a14477a0a6
DTSTART;VALUE=DATE:20270113
DTEND;VALUE=DATE:20270114
DESCRIPTION:For the PLC schedule and registration\, please visit <a href=
 "https://www.google.com/url?q=https://www.usd230.org/Page/1058&amp\;sa=D&a
 mp\;source=calendar&amp\;ust=1775493684986057&amp\;usg=AOvVaw32LgIiWkFA_JU
 g8uG4Oy5U" target="_blank"><u><u>PLC Days</u></u></a>.
LOCATION:
SUMMARY:PLC Day
END:VEVENT
BEGIN:VEVENT
DTSTAMP:20260420T103719Z
UID:10a3ed28-1f2d-42a5-8254-6fa4e832026d
DTSTART;VALUE=DATE:20270118
DTEND;VALUE=DATE:20270119
DESCRIPTION:In observance of Martin Luther King Jr. Day\, USD 230 schools a
 nd offices will be closed Monday\, January 19.
LOCATION:
SUMMARY:No Classes - MLK Day
END:VEVENT
BEGIN:VEVENT
DTSTAMP:20260420T103719Z
UID:cfbdf3d9-2850-499c-a770-b6dba158ca16
DTSTART;VALUE=DATE:20270127
DTEND;VALUE=DATE:20270128
DESCRIPTION:For the PLC schedule and registration\, please visit <a href=
 "https://www.google.com/url?q=https://www.usd230.org/Page/1058&amp\;sa=D&a
 mp\;source=calendar&amp\;ust=1775493823326707&amp\;usg=AOvVaw098RLS-Kax20G
 73JeFAkc7" target="_blank"><u><u>PLC Days</u></u></a>.
LOCATION:
SUMMARY:PLC Day
END:VEVENT
BEGIN:VEVENT
DTSTAMP:20260420T103719Z
UID:ca3f5d14-f3d8-4256-bfac-a16e8887c772
DTSTART;VALUE=DATE:20270203
DTEND;VALUE=DATE:20270204
DESCRIPTION:For the PLC schedule and registration\, please visit <a href=
 "https://www.google.com/url?q=https://www.usd230.org/Page/1058&amp\;sa=D&a
 mp\;source=calendar&amp\;ust=1775493859538609&amp\;usg=AOvVaw0Um4QnEd9zo0i
 IJ8-jf5Sm" target="_blank"><u><u>PLC Days</u></u></a>.
LOCATION:
SUMMARY:PLC Day
END:VEVENT
BEGIN:VEVENT
DTSTAMP:20260420T103719Z
UID:e72053b6-7135-478b-8cb1-e4553290f24c
DTSTART;VALUE=DATE:20270210
DTEND;VALUE=DATE:20270211
DESCRIPTION:For the PLC schedule and registration\, please visit <a href=
 "https://www.google.com/url?q=https://www.usd230.org/Page/1058&amp\;sa=D&a
 mp\;source=calendar&amp\;ust=1775493871928186&amp\;usg=AOvVaw04pzp1F731Fis
 I0LSlQyH_" target="_blank"><u><u>PLC Days</u></u></a>.
LOCATION:
SUMMARY:PLC Day
END:VEVENT
BEGIN:VEVENT
DTSTAMP:20260420T103719Z
UID:0ee0541d-6ad5-4947-a3d1-d4963fa86fdd
DTSTART;VALUE=DATE:20270215
DTEND;VALUE=DATE:20270216
DESCRIPTION:In observance of Presidents Day\, USD 230 schools and offices w
 ill be closed Monday\, February 16.
LOCATION:
SUMMARY:No Classes - Presidents Day
END:VEVENT
BEGIN:VEVENT
DTSTAMP:20260420T103719Z
UID:7a7dbbda-1b73-4dbd-9b52-a6c5958da580
DTSTART;VALUE=DATE:20270224
DTEND;VALUE=DATE:20270225
DESCRIPTION:For the PLC schedule and registration\, please visit <a href=
 "https://www.google.com/url?q=https://www.usd230.org/Page/1058&amp\;sa=D&a
 mp\;source=calendar&amp\;ust=1775493882619146&amp\;usg=AOvVaw0SMVa8b3tC6HX
 sqbYjeIGh" target="_blank"><u><u>PLC Days</u></u></a>.
LOCATION:
SUMMARY:PLC Day
END:VEVENT
BEGIN:VEVENT
DTSTAMP:20260420T103719Z
UID:4d127409-ba07-404b-b7a1-5c1b1cef469a
DTSTART;VALUE=DATE:20270303
DTEND;VALUE=DATE:20270304
DESCRIPTION:For the PLC schedule and registration\, please visit <a href=
 "https://www.google.com/url?q=https://www.usd230.org/Page/1058&amp\;sa=D&a
 mp\;source=calendar&amp\;ust=1775493928422883&amp\;usg=AOvVaw3LsX-GJHtwF_8
 1C2Lsd90Z" target="_blank"><u><u>PLC Days</u></u></a>.
LOCATION:
SUMMARY:PLC Day
END:VEVENT
BEGIN:VEVENT
DTSTAMP:20260420T103719Z
UID:716696bb-06fb-412b-bc97-b983a1ce0aa3
DTSTART;VALUE=DATE:20270310
DTEND;VALUE=DATE:20270312
DESCRIPTION:
LOCATION:
SUMMARY:Spring Parent-Teacher Conferences
END:VEVENT
BEGIN:VEVENT
DTSTAMP:20260420T103719Z
UID:77e68a3c-edea-4984-9288-87046ce8d22a
DTSTART;VALUE=DATE:20270310
DTEND;VALUE=DATE:20270311
DESCRIPTION:
LOCATION:
SUMMARY:Two-Hour Early Dismissal
END:VEVENT
BEGIN:VEVENT
DTSTAMP:20260420T103719Z
UID:100b353b-8d6f-414d-b71e-e68f62918edc
DTSTART;VALUE=DATE:20270311
DTEND;VALUE=DATE:20270312
DESCRIPTION:
LOCATION:
SUMMARY:No Classes - Professional Development
END:VEVENT
BEGIN:VEVENT
DTSTAMP:20260420T103719Z
UID:5f2b1f5a-0edb-49bb-8d92-d66f2d948da0
DTSTART;VALUE=DATE:20270312
DTEND;VALUE=DATE:20270313
DESCRIPTION:
LOCATION:
SUMMARY:No Classes - Certified Off Duty
END:VEVENT
BEGIN:VEVENT
DTSTAMP:20260420T103719Z
UID:82295d65-12c2-4688-a73d-3991528cf221
DTSTART;VALUE=DATE:20270315
DTEND;VALUE=DATE:20270320
DESCRIPTION:
LOCATION:
SUMMARY:No Classes - Spring Break
END:VEVENT
BEGIN:VEVENT
DTSTAMP:20260420T103719Z
UID:36fb1c03-1adc-457c-a29d-58ac0c3ea4c9
DTSTART;VALUE=DATE:20270322
DTEND;VALUE=DATE:20270323
DESCRIPTION:
LOCATION:
SUMMARY:Classes Resume
END:VEVENT
BEGIN:VEVENT
DTSTAMP:20260420T103719Z
UID:bc9c540b-fcb2-4ad6-a86e-b84f761dfdeb
DTSTART;VALUE=DATE:20270324
DTEND;VALUE=DATE:20270325
DESCRIPTION:For the PLC schedule and registration\, please visit <a href=
 "https://www.google.com/url?q=https://www.usd230.org/Page/1058&amp\;sa=D&a
 mp\;source=calendar&amp\;ust=1775493938114332&amp\;usg=AOvVaw3WU4rXFUyln09
 QLLyggH5N" target="_blank"><u><u>PLC Days</u></u></a>.
LOCATION:
SUMMARY:PLC Day
END:VEVENT
BEGIN:VEVENT
DTSTAMP:20260420T103719Z
UID:52cdb853-f625-4484-8825-c2c6d0a01a6a
DTSTART;VALUE=DATE:20270331
DTEND;VALUE=DATE:20270401
DESCRIPTION:For the PLC schedule and registration\, please visit <a href=
 "https://www.google.com/url?q=https://www.usd230.org/Page/1058&amp\;sa=D&a
 mp\;source=calendar&amp\;ust=1775494056863348&amp\;usg=AOvVaw1bupiX-vGCyny
 A-CJlhE3Y" target="_blank"><u><u>PLC Days</u></u></a>.
LOCATION:
SUMMARY:PLC Day
END:VEVENT
BEGIN:VEVENT
DTSTAMP:20260420T103719Z
UID:2f0a7073-6ee8-453d-8dc5-7aafde107479
DTSTART;VALUE=DATE:20270402
DTEND;VALUE=DATE:20270403
DESCRIPTION:
LOCATION:
SUMMARY:No Kindergarten Classes - Kindergarten Round-Up
END:VEVENT
BEGIN:VEVENT
DTSTAMP:20260420T103719Z
UID:d41b0a45-1f6e-4251-b9e3-581a77396326
DTSTART;VALUE=DATE:20270407
DTEND;VALUE=DATE:20270408
DESCRIPTION:For the PLC schedule and registration\, please visit <a href=
 "https://www.google.com/url?q=https://www.usd230.org/Page/1058&amp\;sa=D&a
 mp\;source=calendar&amp\;ust=1775494067470654&amp\;usg=AOvVaw2pGY8XifYKYkc
 yPtJnRFme" target="_blank"><u><u>PLC Days</u></u></a>.
LOCATION:
SUMMARY:PLC Day
END:VEVENT
BEGIN:VEVENT
DTSTAMP:20260420T103719Z
UID:e95e148b-a1e7-4963-bae2-0f88efd673b0
DTSTART;VALUE=DATE:20270414
DTEND;VALUE=DATE:20270415
DESCRIPTION:For the PLC schedule and registration\, please visit <a href=
 "https://www.google.com/url?q=https://www.usd230.org/Page/1058&amp\;sa=D&a
 mp\;source=calendar&amp\;ust=1775494265517213&amp\;usg=AOvVaw3KJcprfFPInMe
 ejf6zgyPm" target="_blank"><u><u>PLC Days</u></u></a>.
LOCATION:
SUMMARY:PLC Day
END:VEVENT
BEGIN:VEVENT
DTSTAMP:20260420T103719Z
UID:67bcfded-17a8-42f5-bbf1-73dabb963591
DTSTART;VALUE=DATE:20270421
DTEND;VALUE=DATE:20270422
DESCRIPTION:For the PLC schedule and registration\, please visit <a href=
 "https://www.google.com/url?q=https://www.usd230.org/Page/1058&amp\;sa=D&a
 mp\;source=calendar&amp\;ust=1775494285255950&amp\;usg=AOvVaw3NIAzO9gaKZco
 clvzJCKl0" target="_blank"><u><u>PLC Days</u></u></a>.
LOCATION:
SUMMARY:PLC Day
END:VEVENT
BEGIN:VEVENT
DTSTAMP:20260420T103719Z
UID:c17a5025-6c93-4e9e-9eb3-ed61f15e3137
DTSTART;VALUE=DATE:20270426
DTEND;VALUE=DATE:20270427
DESCRIPTION:<i>*Inclement weather makeup date\, if needed: April 3</i>
LOCATION:
SUMMARY:No Classes - Professional Development
END:VEVENT
BEGIN:VEVENT
DTSTAMP:20260420T103719Z
UID:7a101c99-18b9-4526-b5cf-1215c6049862
DTSTART;VALUE=DATE:20270505
DTEND;VALUE=DATE:20270506
DESCRIPTION:For the PLC schedule and registration\, please visit <a href=
 "https://www.google.com/url?q=https://www.usd230.org/Page/1058&amp\;sa=D&a
 mp\;source=calendar&amp\;ust=1775494292733578&amp\;usg=AOvVaw2cfwKhSBeudje
 MKf0s7Bvp" target="_blank"><u><u>PLC Days</u></u></a>.
LOCATION:
SUMMARY:PLC Day
END:VEVENT
BEGIN:VEVENT
DTSTAMP:20260420T103719Z
UID:50e59856-03c0-4527-aacc-09e54dab3a94
DTSTART;VALUE=DATE:20270512
DTEND;VALUE=DATE:20270513
DESCRIPTION:For the PLC schedule and registration\, please visit <a href=
 "https://www.google.com/url?q=https://www.usd230.org/Page/1058&amp\;sa=D&a
 mp\;source=calendar&amp\;ust=1775494303198353&amp\;usg=AOvVaw1ASIDxz6dBrfh
 SHWd0wP96" target="_blank"><u><u>PLC Days</u></u></a>.
LOCATION:
SUMMARY:PLC Day
END:VEVENT
BEGIN:VEVENT
DTSTAMP:20260420T103719Z
UID:8defcf33-0cee-46b4-92fb-e0c9e0c7d469
DTSTART;VALUE=DATE:20270527
DTEND;VALUE=DATE:20270528
DESCRIPTION:
LOCATION:
SUMMARY:Last Day for Students
END:VEVENT
BEGIN:VEVENT
DTSTAMP:20260420T103719Z
UID:a8476958-4841-4711-91b9-a38de183efa7
DTSTART;VALUE=DATE:20270528
DTEND;VALUE=DATE:20270529
DESCRIPTION:
LOCATION:
SUMMARY:Teacher Professional Development
END:VEVENT
BEGIN:VEVENT
DTSTAMP:20260420T103719Z
UID:9e0cc0a4-474b-4f3e-afe6-a14546cb97d5
DTSTART;VALUE=DATE:20270531
DTEND;VALUE=DATE:20270601
DESCRIPTION:<p>In observance of Memorial Day\, our offices will be closed M
 onday\, May 31.</p>
LOCATION:
SUMMARY:Memorial Day
END:VEVENT
END:VCALENDAR
