BEGIN:VCALENDAR
VERSION:2.0
PRODID:icalendar-ruby
CALSCALE:GREGORIAN
BEGIN:VTIMEZONE
TZID:America/New_York
BEGIN:DAYLIGHT
DTSTART:20260308T030000
TZOFFSETFROM:-0500
TZOFFSETTO:-0400
RRULE:FREQ=YEARLY;BYDAY=2SU;BYMONTH=3
TZNAME:EDT
END:DAYLIGHT
BEGIN:STANDARD
DTSTART:20261101T010000
TZOFFSETFROM:-0400
TZOFFSETTO:-0500
RRULE:FREQ=YEARLY;BYDAY=1SU;BYMONTH=11
TZNAME:EST
END:STANDARD
END:VTIMEZONE
BEGIN:VEVENT
DTSTAMP:20260425T225935Z
UID:925c9b46-1d3d-4688-a449-2c43f79546cb
DTSTART;VALUE=DATE:20260428
DTEND;VALUE=DATE:20260429
DESCRIPTION:
LOCATION:
SUMMARY:Finance & Facilities Meeting
END:VEVENT
BEGIN:VEVENT
DTSTAMP:20260425T225935Z
UID:a352429a-ff8e-4eb3-8eb5-cfabca46d41a
DTSTART;VALUE=DATE:20260428
DTEND;VALUE=DATE:20260429
DESCRIPTION:
LOCATION:
SUMMARY:School Board Work Session
END:VEVENT
BEGIN:VEVENT
DTSTAMP:20260425T225935Z
UID:6eef55cd-8b72-4c5e-b2f2-c01fc231c606
DTSTART;VALUE=DATE:20260501
DTEND;VALUE=DATE:20260502
DESCRIPTION:
LOCATION:
SUMMARY:School In Session (Makeup Day)
END:VEVENT
BEGIN:VEVENT
DTSTAMP:20260425T225935Z
UID:262fff55-bf5c-4d94-898a-7ae101a85ba9
DTSTART;VALUE=DATE:20260504
DTEND;VALUE=DATE:20260505
DESCRIPTION:
LOCATION:
SUMMARY:Staff Only (K-12)
END:VEVENT
BEGIN:VEVENT
DTSTAMP:20260425T225935Z
UID:a0086449-375b-40ee-94b9-d0b38b253dc2
DTSTART;VALUE=DATE:20260512
DTEND;VALUE=DATE:20260513
DESCRIPTION:
LOCATION:
SUMMARY:School Board Meeting
END:VEVENT
BEGIN:VEVENT
DTSTAMP:20260425T225935Z
UID:b0ac770f-0820-48cc-b6d9-440790641e9f
DTSTART;VALUE=DATE:20260525
DTEND;VALUE=DATE:20260526
DESCRIPTION:
LOCATION:
SUMMARY:NO SCHOOL
END:VEVENT
BEGIN:VEVENT
DTSTAMP:20260425T225935Z
UID:6f8bc2ec-fcae-4816-bf4f-39bacd2ba52c
DTSTART;VALUE=DATE:20260526
DTEND;VALUE=DATE:20260527
DESCRIPTION:
LOCATION:
SUMMARY:Finance & Facilities Meeting
END:VEVENT
BEGIN:VEVENT
DTSTAMP:20260425T225935Z
UID:27f80e9e-9b94-4ae0-920b-9ff41bb5c2c1
DTSTART;VALUE=DATE:20260526
DTEND;VALUE=DATE:20260527
DESCRIPTION:
LOCATION:
SUMMARY:School Board Work Session
END:VEVENT
BEGIN:VEVENT
DTSTAMP:20260425T225935Z
UID:92e3e89c-bbe6-442f-a052-158b1c03a42e
DTSTART;VALUE=DATE:20260529
DTEND;VALUE=DATE:20260530
DESCRIPTION:
LOCATION:
SUMMARY:Commencement
END:VEVENT
BEGIN:VEVENT
DTSTAMP:20260425T225935Z
UID:45e6dfef-5eef-4940-a48a-6a772d4c141e
DTSTART;VALUE=DATE:20260529
DTEND;VALUE=DATE:20260530
DESCRIPTION:
LOCATION:
SUMMARY:LAST DAY OF SCHOOL - Early Dismissal (K-12)
END:VEVENT
BEGIN:VEVENT
DTSTAMP:20260425T225935Z
UID:ffcee9a0-e912-448b-94d5-f2f2abfb9e97
DTSTART;VALUE=DATE:20260601
DTEND;VALUE=DATE:20260602
DESCRIPTION:
LOCATION:
SUMMARY:Staff Only (K-12)
END:VEVENT
BEGIN:VEVENT
DTSTAMP:20260425T225935Z
UID:a2538616-5104-47bb-9754-b40f608d2c76
DTSTART;VALUE=DATE:20260602
DTEND;VALUE=DATE:20260603
DESCRIPTION:
LOCATION:
SUMMARY:Staff Only (K-12)
END:VEVENT
BEGIN:VEVENT
DTSTAMP:20260425T225935Z
UID:7be6939b-43c5-42e9-bf90-5fd53f15a733
DTSTART;VALUE=DATE:20260609
DTEND;VALUE=DATE:20260610
DESCRIPTION:
LOCATION:
SUMMARY:School Board Meeting
END:VEVENT
BEGIN:VEVENT
DTSTAMP:20260425T225935Z
UID:c89e9cf8-e823-42ee-bd08-2507d54681fa
DTSTART;VALUE=DATE:20260623
DTEND;VALUE=DATE:20260624
DESCRIPTION:
LOCATION:
SUMMARY:Finance & Facilities Meeting
END:VEVENT
BEGIN:VEVENT
DTSTAMP:20260425T225935Z
UID:f12c5533-9c4d-42d5-a21a-c2b783fbaf6c
DTSTART;VALUE=DATE:20260623
DTEND;VALUE=DATE:20260624
DESCRIPTION:
LOCATION:
SUMMARY:School Board Work Session
END:VEVENT
END:VCALENDAR
