BEGIN:VCALENDAR
VERSION:2.0
PRODID:icalendar-ruby
CALSCALE:GREGORIAN
BEGIN:VTIMEZONE
TZID:America/New_York
BEGIN:DAYLIGHT
DTSTART:20260308T030000
TZOFFSETFROM:-0500
TZOFFSETTO:-0400
RRULE:FREQ=YEARLY;BYDAY=2SU;BYMONTH=3
TZNAME:EDT
END:DAYLIGHT
BEGIN:STANDARD
DTSTART:20261101T010000
TZOFFSETFROM:-0400
TZOFFSETTO:-0500
RRULE:FREQ=YEARLY;BYDAY=1SU;BYMONTH=11
TZNAME:EST
END:STANDARD
END:VTIMEZONE
BEGIN:VEVENT
DTSTAMP:20260421T172814Z
UID:d6f5a554-eb04-456e-8351-b4b00a24c906
DTSTART:20260420T160000
DTEND:20260421T170000
DESCRIPTION:
LOCATION:
SUMMARY:SBDM - CANCELLED
END:VEVENT
BEGIN:VEVENT
DTSTAMP:20260421T172814Z
UID:0c25f366-9763-416d-a3d3-28733f3bfa7b
DTSTART;VALUE=DATE:20260421
DTEND;VALUE=DATE:20260422
DESCRIPTION:
LOCATION:
SUMMARY:BOOK FAIR
END:VEVENT
BEGIN:VEVENT
DTSTAMP:20260421T172814Z
UID:812185eb-f286-492a-8c24-0765c6a51ee9
DTSTART:20260421T160000
DTEND:20260421T190000
DESCRIPTION:
LOCATION:
SUMMARY:CONFERENCES
END:VEVENT
BEGIN:VEVENT
DTSTAMP:20260421T172814Z
UID:4977cc89-c844-4c69-8cc3-7f47ddf4b508
DTSTART:20260421T160000
DTEND:20260421T190000
DESCRIPTION:
LOCATION:
SUMMARY:FAMILY BOOK FAIR NIGHT
END:VEVENT
BEGIN:VEVENT
DTSTAMP:20260421T172814Z
UID:8628b875-4d3f-46d7-829a-510b7426acb1
DTSTART:20260421T160000
DTEND:20260421T190000
DESCRIPTION:
LOCATION:
SUMMARY:FAMILY STEAM NIGHT
END:VEVENT
BEGIN:VEVENT
DTSTAMP:20260421T172814Z
UID:231ac34c-4ee8-4d7a-ad4f-42fe936e5508
DTSTART;VALUE=DATE:20260422
DTEND;VALUE=DATE:20260423
DESCRIPTION:
LOCATION:
SUMMARY:4th Grade Field Trip
END:VEVENT
BEGIN:VEVENT
DTSTAMP:20260421T172814Z
UID:1b9aec82-7ebf-4f0b-a9ce-895389f14689
DTSTART;VALUE=DATE:20260422
DTEND;VALUE=DATE:20260423
DESCRIPTION:
LOCATION:
SUMMARY:BOOK FAIR
END:VEVENT
BEGIN:VEVENT
DTSTAMP:20260421T172814Z
UID:c89bd65a-9a8e-4f47-96d8-c7b9e7b0113b
DTSTART;VALUE=DATE:20260423
DTEND;VALUE=DATE:20260424
DESCRIPTION:
LOCATION:
SUMMARY:BOOK FAIR
END:VEVENT
BEGIN:VEVENT
DTSTAMP:20260421T172814Z
UID:dc8346f0-8577-4c99-aecc-2f97a2bf306a
DTSTART;VALUE=DATE:20260424
DTEND;VALUE=DATE:20260425
DESCRIPTION:
LOCATION:
SUMMARY:BOOK FAIR
END:VEVENT
BEGIN:VEVENT
DTSTAMP:20260421T172814Z
UID:662cc6b0-24a6-49d9-879a-2a6bc71a1016
DTSTART;VALUE=DATE:20260429
DTEND;VALUE=DATE:20260430
DESCRIPTION:
LOCATION:
SUMMARY:1st Grade Field Trip
END:VEVENT
BEGIN:VEVENT
DTSTAMP:20260421T172814Z
UID:a0584a37-f4ef-4199-b755-d43da668e8e0
DTSTART;VALUE=DATE:20260430
DTEND;VALUE=DATE:20260501
DESCRIPTION:
LOCATION:
SUMMARY:Kindergarten Field Trip
END:VEVENT
BEGIN:VEVENT
DTSTAMP:20260421T172814Z
UID:c28cb037-2298-4c6b-87d4-e0d652674150
DTSTART:20260430T180000
DTEND:20260430T193000
DESCRIPTION:
LOCATION:
SUMMARY:2nd Grade Musical
END:VEVENT
BEGIN:VEVENT
DTSTAMP:20260421T172814Z
UID:623d884d-a90b-4488-b90e-bbb6be05393c
DTSTART:20260501T173000
DTEND:20260501T193000
DESCRIPTION:
LOCATION:
SUMMARY:BACKYARD BBQ
END:VEVENT
BEGIN:VEVENT
DTSTAMP:20260421T172814Z
UID:d88083be-953b-4e52-b9ee-be94d77cc7dc
DTSTART;VALUE=DATE:20260508
DTEND;VALUE=DATE:20260530
DESCRIPTION:
LOCATION:
SUMMARY:STATE TESTING
END:VEVENT
BEGIN:VEVENT
DTSTAMP:20260421T172814Z
UID:74065c19-ad8b-449b-a787-4623234dbc9c
DTSTART:20260511T160000
DTEND:20260511T170000
DESCRIPTION:
LOCATION:
SUMMARY:SBDM
END:VEVENT
BEGIN:VEVENT
DTSTAMP:20260421T172814Z
UID:84a1d0ad-009d-4a6d-982c-9530dc5ea16d
DTSTART:20260511T171500
DTEND:20260511T181500
DESCRIPTION:
LOCATION:
SUMMARY:PTO MEETING
END:VEVENT
BEGIN:VEVENT
DTSTAMP:20260421T172814Z
UID:962373b5-8924-4605-9309-4c587d7351e0
DTSTART;VALUE=DATE:20260519
DTEND;VALUE=DATE:20260520
DESCRIPTION:
LOCATION:
SUMMARY:NO SCHOOL - ELECTION DAY
END:VEVENT
BEGIN:VEVENT
DTSTAMP:20260421T172814Z
UID:69187634-d709-4db4-907c-3f705a6fdb39
DTSTART;VALUE=DATE:20260525
DTEND;VALUE=DATE:20260526
DESCRIPTION:
LOCATION:
SUMMARY:NO SCHOOL - MEMORIAL DAY
END:VEVENT
BEGIN:VEVENT
DTSTAMP:20260421T172814Z
UID:48486caa-86d0-48bb-aa1b-898414fe7d72
DTSTART;VALUE=DATE:20260527
DTEND;VALUE=DATE:20260528
DESCRIPTION:
LOCATION:
SUMMARY:TRACK AND FIELD DAY
END:VEVENT
BEGIN:VEVENT
DTSTAMP:20260421T172814Z
UID:f9d888ae-6e22-4fc3-a037-8e4ebd4c76e0
DTSTART;VALUE=DATE:20260529
DTEND;VALUE=DATE:20260530
DESCRIPTION:
LOCATION:
SUMMARY:STUDENT'S LAST DAY
END:VEVENT
BEGIN:VEVENT
DTSTAMP:20260421T172814Z
UID:0eae23df-5d28-4e9a-bcf9-40f400bd2d35
DTSTART:20260608T090000
DTEND:20260608T123000
DESCRIPTION:
LOCATION:
SUMMARY:Summer Program
END:VEVENT
BEGIN:VEVENT
DTSTAMP:20260421T172814Z
UID:aaee55ce-ca26-404e-be58-3ec4c9ea2cf0
DTSTART:20260609T090000
DTEND:20260609T123000
DESCRIPTION:
LOCATION:
SUMMARY:Summer Program
END:VEVENT
BEGIN:VEVENT
DTSTAMP:20260421T172814Z
UID:135e97f6-2eff-4c8b-9ae4-41476f02664a
DTSTART:20260610T090000
DTEND:20260610T123000
DESCRIPTION:
LOCATION:
SUMMARY:Summer Program
END:VEVENT
BEGIN:VEVENT
DTSTAMP:20260421T172814Z
UID:c48ae90b-f83b-4610-97d5-0d96dfd42f91
DTSTART:20260611T090000
DTEND:20260611T123000
DESCRIPTION:
LOCATION:
SUMMARY:Summer Program
END:VEVENT
BEGIN:VEVENT
DTSTAMP:20260421T172814Z
UID:addb7d08-e8b9-4a45-9cc6-d262d5c1d264
DTSTART:20260612T090000
DTEND:20260612T123000
DESCRIPTION:
LOCATION:
SUMMARY:Summer Program
END:VEVENT
BEGIN:VEVENT
DTSTAMP:20260421T172814Z
UID:a3cf9081-633d-4f4c-9816-b80f75a91ccb
DTSTART:20260615T090000
DTEND:20260615T123000
DESCRIPTION:
LOCATION:
SUMMARY:Summer Program
END:VEVENT
BEGIN:VEVENT
DTSTAMP:20260421T172814Z
UID:54ffdf50-5180-481b-a43e-097816757abd
DTSTART:20260616T090000
DTEND:20260616T123000
DESCRIPTION:
LOCATION:
SUMMARY:Summer Program
END:VEVENT
BEGIN:VEVENT
DTSTAMP:20260421T172814Z
UID:78026ba3-d018-45f3-a784-fb3b326096f5
DTSTART:20260617T090000
DTEND:20260617T123000
DESCRIPTION:
LOCATION:
SUMMARY:Summer Program
END:VEVENT
BEGIN:VEVENT
DTSTAMP:20260421T172814Z
UID:0630078a-efb6-4b91-9e38-1305781c8c08
DTSTART:20260618T090000
DTEND:20260618T123000
DESCRIPTION:
LOCATION:
SUMMARY:Summer Program
END:VEVENT
BEGIN:VEVENT
DTSTAMP:20260421T172814Z
UID:e186b683-89e9-4203-912a-9a8d885055ff
DTSTART:20260619T090000
DTEND:20260619T123000
DESCRIPTION:
LOCATION:
SUMMARY:Summer Program
END:VEVENT
BEGIN:VEVENT
DTSTAMP:20260421T172814Z
UID:2b855d76-fc45-4a4e-83e4-fdcd7515a6c7
DTSTART:20260622T090000
DTEND:20260622T123000
DESCRIPTION:
LOCATION:
SUMMARY:Summer Program
END:VEVENT
BEGIN:VEVENT
DTSTAMP:20260421T172814Z
UID:6a642e68-8027-443d-b8a8-1aaaf628916e
DTSTART:20260623T090000
DTEND:20260623T123000
DESCRIPTION:
LOCATION:
SUMMARY:Summer Program
END:VEVENT
BEGIN:VEVENT
DTSTAMP:20260421T172814Z
UID:e2b97ed1-6bde-4f1d-b17c-0e29bcbc5c3e
DTSTART:20260624T090000
DTEND:20260624T123000
DESCRIPTION:
LOCATION:
SUMMARY:Summer Program
END:VEVENT
BEGIN:VEVENT
DTSTAMP:20260421T172814Z
UID:7433787e-d931-42a5-a7e6-f7f794d9c807
DTSTART:20260625T090000
DTEND:20260625T123000
DESCRIPTION:
LOCATION:
SUMMARY:Summer Program
END:VEVENT
BEGIN:VEVENT
DTSTAMP:20260421T172814Z
UID:bb17638b-98c4-4c72-8c80-c1941006ed0a
DTSTART:20260626T090000
DTEND:20260626T123000
DESCRIPTION:
LOCATION:
SUMMARY:Summer Program
END:VEVENT
END:VCALENDAR
