BEGIN:VCALENDAR
VERSION:2.0
PRODID:icalendar-ruby
CALSCALE:GREGORIAN
BEGIN:VTIMEZONE
TZID:America/Phoenix
BEGIN:STANDARD
DTSTART:19671029T010000
TZOFFSETFROM:-0600
TZOFFSETTO:-0700
TZNAME:MST
END:STANDARD
END:VTIMEZONE
BEGIN:VEVENT
DTSTAMP:20260425T112156Z
UID:348d3fea-3d70-4333-8a06-8dd3fc4cac9d
DTSTART:20260429T060000
DTEND:20260429T070000
DESCRIPTION:See attached document for early dismissal times in the green co
 lumn.
LOCATION:
SUMMARY:REMINDER:  Early Release Wednesday
END:VEVENT
BEGIN:VEVENT
DTSTAMP:20260425T112156Z
UID:79c0eb12-f730-4004-900c-97d54e4169b6
DTSTART:20260506T060000
DTEND:20260506T070000
DESCRIPTION:See attached document for early dismissal times in the green co
 lumn.
LOCATION:
SUMMARY:REMINDER:  Early Release Wednesday
END:VEVENT
BEGIN:VEVENT
DTSTAMP:20260425T112156Z
UID:a1fd9875-c063-461d-a35c-409b9666f0e7
DTSTART;VALUE=DATE:20260507
DTEND;VALUE=DATE:20260508
DESCRIPTION:
LOCATION:
SUMMARY:Coffee with the Principal
END:VEVENT
BEGIN:VEVENT
DTSTAMP:20260425T112156Z
UID:3a733df2-b0c2-4005-bad6-a5a44589856d
DTSTART;VALUE=DATE:20260511
DTEND;VALUE=DATE:20260512
DESCRIPTION:
LOCATION:
SUMMARY:Kinder Field Day
END:VEVENT
BEGIN:VEVENT
DTSTAMP:20260425T112156Z
UID:43b9150b-d1bc-4715-8e60-6780231289a4
DTSTART;VALUE=DATE:20260512
DTEND;VALUE=DATE:20260513
DESCRIPTION:
LOCATION:
SUMMARY:First Grade Field Day
END:VEVENT
BEGIN:VEVENT
DTSTAMP:20260425T112156Z
UID:5967d4c9-144d-4fec-84ba-35ba664d0449
DTSTART;VALUE=DATE:20260513
DTEND;VALUE=DATE:20260514
DESCRIPTION:
LOCATION:
SUMMARY:Second Grade Field Day
END:VEVENT
BEGIN:VEVENT
DTSTAMP:20260425T112156Z
UID:b0df2549-6a3e-445d-aa38-5f660c1fad4f
DTSTART:20260513T060000
DTEND:20260513T070000
DESCRIPTION:See attached document for early dismissal times in the green co
 lumn.
LOCATION:
SUMMARY:REMINDER:  Early Release Wednesday
END:VEVENT
BEGIN:VEVENT
DTSTAMP:20260425T112156Z
UID:b851d65e-9e77-46c0-b537-e1ccff75604b
DTSTART;VALUE=DATE:20260514
DTEND;VALUE=DATE:20260515
DESCRIPTION:
LOCATION:
SUMMARY:Third Grade Field Day
END:VEVENT
BEGIN:VEVENT
DTSTAMP:20260425T112156Z
UID:798c8383-dc95-49ba-a07d-f98ba170ec5c
DTSTART;VALUE=DATE:20260515
DTEND;VALUE=DATE:20260516
DESCRIPTION:
LOCATION:
SUMMARY:Fourth Grade Field Day
END:VEVENT
BEGIN:VEVENT
DTSTAMP:20260425T112156Z
UID:dcf05a1e-2305-414e-924b-87dfb8b0aadd
DTSTART:20260520T060000
DTEND:20260520T070000
DESCRIPTION:See attached document for early dismissal times in the green co
 lumn.
LOCATION:
SUMMARY:REMINDER:  Early Release Wednesday
END:VEVENT
END:VCALENDAR
