BEGIN:VCALENDAR
VERSION:2.0
PRODID:icalendar-ruby
CALSCALE:GREGORIAN
BEGIN:VTIMEZONE
TZID:America/Phoenix
BEGIN:STANDARD
DTSTART:19671029T010000
TZOFFSETFROM:-0600
TZOFFSETTO:-0700
TZNAME:MST
END:STANDARD
END:VTIMEZONE
BEGIN:VEVENT
DTSTAMP:20260426T025828Z
UID:a692464a-869e-4de3-8bee-f15858c827aa
DTSTART:20260429T080000
DTEND:20260429T125000
DESCRIPTION:See attached document for early dismissal times in the green co
 lumn.
LOCATION:
SUMMARY:Early Release Wednesday
END:VEVENT
BEGIN:VEVENT
DTSTAMP:20260426T025828Z
UID:30098d2d-dfac-458d-9303-3cf5ec446215
DTSTART:20260506T080000
DTEND:20260506T125000
DESCRIPTION:See attached document for early dismissal times in the green co
 lumn.
LOCATION:
SUMMARY:Early Release Wednesday
END:VEVENT
BEGIN:VEVENT
DTSTAMP:20260426T025828Z
UID:517a02ac-c88a-442a-94df-c3fe6f221ab5
DTSTART:20260513T080000
DTEND:20260513T125000
DESCRIPTION:See attached document for early dismissal times in the green co
 lumn.
LOCATION:
SUMMARY:Early Release Wednesday
END:VEVENT
BEGIN:VEVENT
DTSTAMP:20260426T025828Z
UID:1e80dd4f-b9e1-4331-90a6-5cdbfcd2a5b4
DTSTART:20260520T080000
DTEND:20260520T125000
DESCRIPTION:See attached document for early dismissal times in the green co
 lumn.
LOCATION:
SUMMARY:Early Release Wednesday
END:VEVENT
BEGIN:VEVENT
DTSTAMP:20260426T025828Z
UID:b070db13-a524-460b-9bb7-38c5ddbc36d6
DTSTART;VALUE=DATE:20260521
DTEND;VALUE=DATE:20260522
DESCRIPTION:
LOCATION:
SUMMARY:Last Day of School - Dismissal Time @ 10:50am
END:VEVENT
END:VCALENDAR
