BEGIN:VCALENDAR
VERSION:2.0
PRODID:icalendar-ruby
CALSCALE:GREGORIAN
BEGIN:VTIMEZONE
TZID:America/Phoenix
BEGIN:STANDARD
DTSTART:19671029T010000
TZOFFSETFROM:-0600
TZOFFSETTO:-0700
TZNAME:MST
END:STANDARD
END:VTIMEZONE
BEGIN:VEVENT
DTSTAMP:20260425T112228Z
UID:2d5ca2ee-f961-45ff-9adf-1bfd71c2c120
DTSTART;VALUE=DATE:20260429
DTEND;VALUE=DATE:20260430
DESCRIPTION:
LOCATION:
SUMMARY:ERW - Site Day
END:VEVENT
BEGIN:VEVENT
DTSTAMP:20260425T112228Z
UID:e8fa94f9-125f-4702-a547-187916a3422e
DTSTART:20260429T092500
DTEND:20260429T095500
DESCRIPTION:
LOCATION:
SUMMARY:1 & 2 LOTM/MPR
END:VEVENT
BEGIN:VEVENT
DTSTAMP:20260425T112228Z
UID:c90e70b0-eb6f-4522-bcfc-d1f5151a3d93
DTSTART:20260429T100500
DTEND:20260429T103500
DESCRIPTION:
LOCATION:
SUMMARY:Kinder LOTM/MPR
END:VEVENT
BEGIN:VEVENT
DTSTAMP:20260425T112228Z
UID:2eb5b12c-38dc-4b9b-aeac-d3e354ae8bca
DTSTART:20260429T104500
DTEND:20260429T111500
DESCRIPTION:
LOCATION:
SUMMARY:3 & 4 LOTM/MPR
END:VEVENT
BEGIN:VEVENT
DTSTAMP:20260425T112228Z
UID:11b39b74-fba2-473c-aa93-dfb03f5dc1ba
DTSTART;VALUE=DATE:20260506
DTEND;VALUE=DATE:20260507
DESCRIPTION:
LOCATION:
SUMMARY:ERW - Teacher Work Day
END:VEVENT
BEGIN:VEVENT
DTSTAMP:20260425T112228Z
UID:b2d63b4a-f152-41de-997a-a0f6817aa2cb
DTSTART:20260507T161500
DTEND:20260507T164500
DESCRIPTION:
LOCATION:
SUMMARY:PTO/SCC/MPR
END:VEVENT
BEGIN:VEVENT
DTSTAMP:20260425T112228Z
UID:a68491b5-60ee-48d2-b833-053384ce80b9
DTSTART;VALUE=DATE:20260513
DTEND;VALUE=DATE:20260514
DESCRIPTION:
LOCATION:
SUMMARY:ERW - Site Day
END:VEVENT
BEGIN:VEVENT
DTSTAMP:20260425T112228Z
UID:530a55dc-d62c-411d-af7b-76d2ff90ad31
DTSTART:20260515T163000
DTEND:20260515T180000
DESCRIPTION:
LOCATION:
SUMMARY:Step Up Dance/MPR
END:VEVENT
BEGIN:VEVENT
DTSTAMP:20260425T112228Z
UID:19ac6894-bd9a-4de7-8cc8-7d886b42e41f
DTSTART;VALUE=DATE:20260520
DTEND;VALUE=DATE:20260521
DESCRIPTION:
LOCATION:
SUMMARY:ERW - Teacher Team Quarterly Planning
END:VEVENT
BEGIN:VEVENT
DTSTAMP:20260425T112228Z
UID:e493df06-84b8-4e15-b71f-d94f76477d23
DTSTART;VALUE=DATE:20260521
DTEND;VALUE=DATE:20260522
DESCRIPTION:
LOCATION:
SUMMARY:Last Day of School/End of Quarter 4/Reports Cards Issued/11:40 Dism
 issal
END:VEVENT
BEGIN:VEVENT
DTSTAMP:20260425T112228Z
UID:b4b6b0f6-8ad1-43bd-8859-c598a301f67c
DTSTART;VALUE=DATE:20260525
DTEND;VALUE=DATE:20260526
DESCRIPTION:
LOCATION:
SUMMARY:Memorial Day Holiday
END:VEVENT
END:VCALENDAR
