BEGIN:VCALENDAR
VERSION:2.0
PRODID:icalendar-ruby
CALSCALE:GREGORIAN
BEGIN:VTIMEZONE
TZID:America/Phoenix
BEGIN:STANDARD
DTSTART:19671029T010000
TZOFFSETFROM:-0600
TZOFFSETTO:-0700
TZNAME:MST
END:STANDARD
END:VTIMEZONE
BEGIN:VEVENT
DTSTAMP:20260421T113926Z
UID:daf50caa-ce55-4060-9cef-a21933aac632
DTSTART;VALUE=DATE:20260422
DTEND;VALUE=DATE:20260423
DESCRIPTION:
LOCATION:
SUMMARY:Minimum Day
END:VEVENT
BEGIN:VEVENT
DTSTAMP:20260421T113926Z
UID:ff826d59-2103-4280-884c-1ea7ea95eb40
DTSTART;VALUE=DATE:20260423
DTEND;VALUE=DATE:20260430
DESCRIPTION:
LOCATION:
SUMMARY:PTSA Book Fair
END:VEVENT
BEGIN:VEVENT
DTSTAMP:20260421T113926Z
UID:1cf440ea-41e6-4923-a154-1857aad61bfb
DTSTART;VALUE=DATE:20260424
DTEND;VALUE=DATE:20260425
DESCRIPTION:
LOCATION:
SUMMARY:PTSA Donuts w/ Grown Ups
END:VEVENT
BEGIN:VEVENT
DTSTAMP:20260421T113926Z
UID:6622fa24-9520-4aa4-938b-799ecfd62153
DTSTART;VALUE=DATE:20260429
DTEND;VALUE=DATE:20260430
DESCRIPTION:
LOCATION:
SUMMARY:Minimum Day
END:VEVENT
BEGIN:VEVENT
DTSTAMP:20260421T113926Z
UID:1d36fb82-995f-4e50-844a-6c33d6bf3971
DTSTART;VALUE=DATE:20260506
DTEND;VALUE=DATE:20260507
DESCRIPTION:
LOCATION:
SUMMARY:Frios @ Redmond Field till 2pm
END:VEVENT
BEGIN:VEVENT
DTSTAMP:20260421T113926Z
UID:c4ded2ed-4f80-45e7-8d74-ba2b02ab54a0
DTSTART;VALUE=DATE:20260506
DTEND;VALUE=DATE:20260507
DESCRIPTION:
LOCATION:
SUMMARY:Minimum Day
END:VEVENT
BEGIN:VEVENT
DTSTAMP:20260421T113926Z
UID:6331ba25-8215-4be1-9eec-0c25112fabd3
DTSTART;VALUE=DATE:20260513
DTEND;VALUE=DATE:20260514
DESCRIPTION:
LOCATION:
SUMMARY:Minimum Day
END:VEVENT
BEGIN:VEVENT
DTSTAMP:20260421T113926Z
UID:34295ca4-d05c-4b64-a90d-e3fd67db9076
DTSTART;VALUE=DATE:20260518
DTEND;VALUE=DATE:20260519
DESCRIPTION:
LOCATION:
SUMMARY:PTSA General Membership Mtg.
END:VEVENT
BEGIN:VEVENT
DTSTAMP:20260421T113926Z
UID:2d39469a-5da0-47a4-89ed-5fa4120e472e
DTSTART;VALUE=DATE:20260520
DTEND;VALUE=DATE:20260521
DESCRIPTION:
LOCATION:
SUMMARY:Minimum Day
END:VEVENT
BEGIN:VEVENT
DTSTAMP:20260421T113926Z
UID:a48a73e8-3a22-466d-9c77-161bd9ab099f
DTSTART;VALUE=DATE:20260522
DTEND;VALUE=DATE:20260523
DESCRIPTION:
LOCATION:
SUMMARY:Last Day of School
END:VEVENT
BEGIN:VEVENT
DTSTAMP:20260421T113926Z
UID:10599a29-3c81-435e-b5d7-27ed647b9fc7
DTSTART;VALUE=DATE:20260522
DTEND;VALUE=DATE:20260523
DESCRIPTION:
LOCATION:
SUMMARY:Minimum Day
END:VEVENT
BEGIN:VEVENT
DTSTAMP:20260421T113926Z
UID:643c224c-5260-4128-954b-1ead88325ab2
DTSTART;VALUE=DATE:20260522
DTEND;VALUE=DATE:20260523
DESCRIPTION:
LOCATION:
SUMMARY:Qtr 4 Report Cards Go Home
END:VEVENT
BEGIN:VEVENT
DTSTAMP:20260421T113926Z
UID:34414095-f906-4585-bcb2-38f52b90de90
DTSTART;VALUE=DATE:20270402
DTEND;VALUE=DATE:20270403
DESCRIPTION:
LOCATION:
SUMMARY:Autism Awareness Day
END:VEVENT
END:VCALENDAR
